Workbook

Sheet 申請書
A1: 様式
J2: 事業計画書（統合支援給付金）
B6: 広島県知事 殿
B9: 統合支援給付金の支給を受けたいので、下記のとおり申請します。
A16: １．申請者の情報 | AN16: 申請年月日 | BH16: 年 | BP16: 月 | BX16: 日
A19: フリガナ | AN19: 住所・所在地 | AZ19: 〒 | BG19: －
A21: 代表医療機関 の名称
A27: フリガナ | AN27: 事務担当者 | AZ27: 氏名
A29: 開設者 （代表者の職・氏名も記載） | AZ29: 電話番号
AZ31: ファクシミリ
AZ33: 電子メール
A36: ２．統合関係病院等の情報
A39: ⑴ 統合関係医療機関の情報 （各医療機関の支給申請額算定シートから転記）
C41: 番号 | G41: 代表 | N41: 医療機関の名称 | AI41: 開設者氏名 | BD41: 代表病院の住所・所在地
C43: Ⅰ | G43: ○ | N43: 同上 | AI43: 同上 | BD43: 同上
C46: 構想区域 | N46: 統合後の状況 | X46: 平成30年度病床機能報告における稼働病床数
C48: ='支給申請額算定シート（Ⅰ．代表医療機関）'!B5&"" | N48: ='支給申請額算定シート（Ⅰ．代表医療機関）'!C5 -> 0 | X48: 総病床数
AG49: 高度急性期 | AP49: 急性期 | AY49: 回復期 | BH49: 慢性期 | BQ49: 休棟等
X51: =SUM(AG51:BY53) -> 0 | AG51: ='支給申請額算定シート（Ⅰ．代表医療機関）'!C11 -> 0 | AP51: ='支給申請額算定シート（Ⅰ．代表医療機関）'!D11 -> 0 | AY51: ='支給申請額算定シート（Ⅰ．代表医療機関）'!E11 -> 0 | BH51: ='支給申請額算定シート（Ⅰ．代表医療機関）'!F11 -> 0 | BQ51: ='支給申請額算定シート（Ⅰ．代表医療機関）'!G11 -> 0
C55: 番号 | N55: 医療機関の名称 | AI55: 開設者氏名 | BD55: 統合関係医療機関の住所・所在地
C57: Ⅱ | N57: ='支給申請額算定シート（Ⅱ．統合関係医療機関）'!B$3&"" | AI57: ='支給申請額算定シート（Ⅱ．統合関係医療機関）'!C$3&"" | BD57: ='支給申請額算定シート（Ⅱ．統合関係医療機関）'!G$3&""
C60: 構想区域 | N60: 統合後の状況 | X60: 平成30年度病床機能報告における稼働病床数
C62: ='支給申請額算定シート（Ⅱ．統合関係医療機関）'!B$5&"" | N62: ='支給申請額算定シート（Ⅱ．統合関係医療機関）'!C$5&"" | X62: 総病床数
AG63: 高度急性期 | AP63: 急性期 | AY63: 回復期 | BH63: 慢性期 | BQ63: 休棟等
X65: =SUM(AG65:BY67) -> 0 | AG65: ='支給申請額算定シート（Ⅱ．統合関係医療機関）'!C$11 -> 0 | AP65: ='支給申請額算定シート（Ⅱ．統合関係医療機関）'!D$11 -> 0 | AY65: ='支給申請額算定シート（Ⅱ．統合関係医療機関）'!E$11 -> 0 | BH65: ='支給申請額算定シート（Ⅱ．統合関係医療機関）'!F$11 -> 0 | BQ65: ='支給申請額算定シート（Ⅱ．統合関係医療機関）'!G$11 -> 0
C69: 番号 | N69: 医療機関の名称 | AI69: 開設者氏名 | BD69: 統合関係医療機関の住所・所在地
C71: Ⅲ | N71: ='支給申請額算定シート（Ⅲ．統合関係医療機関）'!B$3&"" | AI71: ='支給申請額算定シート（Ⅲ．統合関係医療機関）'!C$3&"" | BD71: ='支給申請額算定シート（Ⅲ．統合関係医療機関）'!G$3&""
C74: 構想区域 | N74: 統合後の状況 | X74: 平成30年度病床機能報告における稼働病床数
C76: ='支給申請額算定シート（Ⅲ．統合関係医療機関）'!B$5&"" | N76: ='支給申請額算定シート（Ⅲ．統合関係医療機関）'!C$5&"" | X76: 総病床数
AG77: 高度急性期 | AP77: 急性期 | AY77: 回復期 | BH77: 慢性期 | BQ77: 休棟等
X79: =SUM(AG79:BY81) -> 0 | AG79: ='支給申請額算定シート（Ⅲ．統合関係医療機関）'!C$11 -> 0 | AP79: ='支給申請額算定シート（Ⅲ．統合関係医療機関）'!D$11 -> 0 | AY79: ='支給申請額算定シート（Ⅲ．統合関係医療機関）'!E$11 -> 0 | BH79: ='支給申請額算定シート（Ⅲ．統合関係医療機関）'!F$11 -> 0 | BQ79: ='支給申請額算定シート（Ⅲ．統合関係医療機関）'!G$11 -> 0
C83: 番号 | N83: 医療機関の名称 | AI83: 開設者氏名 | BD83: 統合関係医療機関の住所・所在地
C85: Ⅳ | N85: ='支給申請額算定シート（Ⅳ．統合関係医療機関）'!B$3&"" | AI85: ='支給申請額算定シート（Ⅳ．統合関係医療機関）'!C$3&"" | BD85: ='支給申請額算定シート（Ⅳ．統合関係医療機関）'!G$3&""
C88: 構想区域 | N88: 統合後の状況 | X88: 平成30年度病床機能報告における稼働病床数
C90: ='支給申請額算定シート（Ⅳ．統合関係医療機関）'!B$5&"" | N90: ='支給申請額算定シート（Ⅳ．統合関係医療機関）'!C$5&"" | X90: 総病床数
AG91: 高度急性期 | AP91: 急性期 | AY91: 回復期 | BH91: 慢性期 | BQ91: 休棟等
X93: =SUM(AG93:BY95) -> 0 | AG93: ='支給申請額算定シート（Ⅳ．統合関係医療機関）'!C$11 -> 0 | AP93: ='支給申請額算定シート（Ⅳ．統合関係医療機関）'!D$11 -> 0 | AY93: ='支給申請額算定シート（Ⅳ．統合関係医療機関）'!E$11 -> 0 | BH93: ='支給申請額算定シート（Ⅳ．統合関係医療機関）'!F$11 -> 0 | BQ93: ='支給申請額算定シート（Ⅳ．統合関係医療機関）'!G$11 -> 0
C97: 番号 | N97: 医療機関の名称 | AI97: 開設者氏名 | BD97: 統合関係医療機関の住所・所在地
C99: Ⅴ | N99: ='支給申請額算定シート（Ⅴ．統合関係医療機関）'!B$3&"" | AI99: ='支給申請額算定シート（Ⅴ．統合関係医療機関）'!C$3&"" | BD99: ='支給申請額算定シート（Ⅴ．統合関係医療機関）'!G$3&""
C102: 構想区域 | N102: 統合後の状況 | X102: 平成30年度病床機能報告における稼働病床数
...

Sheet （参考）総括表
A1: ■総括表
A2: 番号 | B2: 統合関係医療機関の名称 | E2: 統合後の 状況 | F2: 統合前の病床数 | L2: 統合後の病床数 | R2: 病床融通数 | W2: 対象３区分からの転換数 | Z2: 支給対象 病床数 | AA2: 対象３区分 病床稼働率 | AB2: 一日平均 実働病床数 | AC2: 支給申請額
F3: 計 | G3: 高度急性期 | H3: 急性期 | I3: 回復期 | J3: 慢性期 | K3: 休棟等 | L3: 計 | M3: 高度急性期 | N3: 急性期 | O3: 回復期 | P3: 慢性期 | Q3: 休棟 | R3: 計 | S3: 高度急性期 | T3: 急性期 | U3: 回復期 | V3: 慢性期 | W3: 計 | X3: 回復期 | Y3: 介護医療院
A4: Ⅰ | B4: ='支給申請額算定シート（Ⅰ．代表医療機関）'!B3&"" | E4: ='支給申請額算定シート（Ⅰ．代表医療機関）'!C$5&"" | F4: =SUM($G$4:$K$4) -> 0 | G4: ='支給申請額算定シート（Ⅰ．代表医療機関）'!C11 -> 0 | H4: ='支給申請額算定シート（Ⅰ．代表医療機関）'!D11 -> 0 | I4: ='支給申請額算定シート（Ⅰ．代表医療機関）'!E11 -> 0 | J4: ='支給申請額算定シート（Ⅰ．代表医療機関）'!F11 -> 0 | K4: ='支給申請額算定シート（Ⅰ．代表医療機関）'!G11 -> 0 | L4: =SUM(M4:P4) -> 0 | M4: ='支給申請額算定シート（Ⅰ．代表医療機関）'!C18 -> 0 | N4: ='支給申請額算定シート（Ⅰ．代表医療機関）'!D18 -> 0 | O4: ='支給申請額算定シート（Ⅰ．代表医療機関）'!E18 -> 0 | P4: ='支給申請額算定シート（Ⅰ．代表医療機関）'!F18 -> 0 | Q4: ='支給申請額算定シート（Ⅰ．代表医療機関）'!G18 -> 0 | R4: =SUM(S4:V4) -> 0 | S4: ='支給申請額算定シート（Ⅰ．代表医療機関）'!C22 -> 0 | T4: ='支給申請額算定シート（Ⅰ．代表医療機関）'!D22 -> 0 | U4: ='支給申請額算定シート（Ⅰ．代表医療機関）'!E22 -> 0 | V4: ='支給申請額算定シート（Ⅰ．代表医療機関）'!F22 -> 0 | W4: =SUM(X4:Y4) -> 0 | X4: ='支給申請額算定シート（Ⅰ．代表医療機関）'!C26 -> 0 | Y4: ='支給申請額算定シート（Ⅰ．代表医療機関）'!D26 -> 0 | Z4: ='支給申請額算定シート（Ⅰ．代表医療機関）'!I33 -> 0 | AA4: ='支給申請額算定シート（Ⅰ．代表医療機関）'!N$42 -> 0 | AB4: ='支給申請額算定シート（Ⅰ．代表医療機関）'!M$42 -> 0 | AC4: ='支給申請額算定シート（Ⅰ．代表医療機関）'!C$63 -> 0
A5: Ⅱ | B5: ='支給申請額算定シート（Ⅱ．統合関係医療機関）'!B$3&"" | E5: ='支給申請額算定シート（Ⅱ．統合関係医療機関）'!C$5&"" | F5: =SUM(G5:K5) -> 0 | G5: ='支給申請額算定シート（Ⅱ．統合関係医療機関）'!C$11 -> 0 | H5: ='支給申請額算定シート（Ⅱ．統合関係医療機関）'!D$11 -> 0 | I5: ='支給申請額算定シート（Ⅱ．統合関係医療機関）'!E$11 -> 0 | J5: ='支給申請額算定シート（Ⅱ．統合関係医療機関）'!F$11 -> 0 | K5: ='支給申請額算定シート（Ⅱ．統合関係医療機関）'!G$11 -> 0 | L5: =SUM(M5:P5) -> 0 | M5: ='支給申請額算定シート（Ⅱ．統合関係医療機関）'!C$18 -> 0 | N5: ='支給申請額算定シート（Ⅱ．統合関係医療機関）'!D$18 -> 0 | O5: ='支給申請額算定シート（Ⅱ．統合関係医療機関）'!E$18 -> 0 | P5: ='支給申請額算定シート（Ⅱ．統合関係医療機関）'!F$18 -> 0 | Q5: ='支給申請額算定シート（Ⅱ．統合関係医療機関）'!G$18 -> 0 | R5: =SUM(S5:V5) -> 0 | S5: ='支給申請額算定シート（Ⅱ．統合関係医療機関）'!C$22 -> 0 | T5: ='支給申請額算定シート（Ⅱ．統合関係医療機関）'!D$22 -> 0 | U5: ='支給申請額算定シート（Ⅱ．統合関係医療機関）'!E$22 -> 0 | V5: ='支給申請額算定シート（Ⅱ．統合関係医療機関）'!F$22 -> 0 | W5: =SUM(X5:Y5) -> 0 | X5: ='支給申請額算定シート（Ⅱ．統合関係医療機関）'!C$26 -> 0 | Y5: ='支給申請額算定シート（Ⅱ．統合関係医療機関）'!D$26 -> 0 | Z5: ='支給申請額算定シート（Ⅱ．統合関係医療機関）'!I$33 -> 0 | AA5: ='支給申請額算定シート（Ⅱ．統合関係医療機関）'!N$42 -> 0 | AB5: ='支給申請額算定シート（Ⅱ．統合関係医療機関）'!M$42 -> 0 | AC5: ='支給申請額算定シート（Ⅱ．統合関係医療機関）'!C$63 -> 0
A6: Ⅲ | B6: ='支給申請額算定シート（Ⅲ．統合関係医療機関）'!B$3&"" | E6: ='支給申請額算定シート（Ⅲ．統合関係医療機関）'!C$5&"" | F6: =SUM(G6:K6) -> 0 | G6: ='支給申請額算定シート（Ⅲ．統合関係医療機関）'!C$11 -> 0 | H6: ='支給申請額算定シート（Ⅲ．統合関係医療機関）'!D$11 -> 0 | I6: ='支給申請額算定シート（Ⅲ．統合関係医療機関）'!E$11 -> 0 | J6: ='支給申請額算定シート（Ⅲ．統合関係医療機関）'!F$11 -> 0 | K6: ='支給申請額算定シート（Ⅲ．統合関係医療機関）'!G$11 -> 0 | L6: =SUM(M6:P6) -> 0 | M6: ='支給申請額算定シート（Ⅲ．統合関係医療機関）'!C$18 -> 0 | N6: ='支給申請額算定シート（Ⅲ．統合関係医療機関）'!D$18 -> 0 | O6: ='支給申請額算定シート（Ⅲ．統合関係医療機関）'!E$18 -> 0 | P6: ='支給申請額算定シート（Ⅲ．統合関係医療機関）'!F$18 -> 0 | Q6: ='支給申請額算定シート（Ⅲ．統合関係医療機関）'!G$18 -> 0 | R6: =SUM(S6:V6) -> 0 | S6: ='支給申請額算定シート（Ⅲ．統合関係医療機関）'!C$22 -> 0 | T6: ='支給申請額算定シート（Ⅲ．統合関係医療機関）'!D$22 -> 0 | U6: ='支給申請額算定シート（Ⅲ．統合関係医療機関）'!E$22 -> 0 | V6: ='支給申請額算定シート（Ⅲ．統合関係医療機関）'!F$22 -> 0 | W6: =SUM(X6:Y6) -> 0 | X6: ='支給申請額算定シート（Ⅲ．統合関係医療機関）'!C$26 -> 0 | Y6: ='支給申請額算定シート（Ⅲ．統合関係医療機関）'!D$26 -> 0 | Z6: ='支給申請額算定シート（Ⅲ．統合関係医療機関）'!I$33 -> 0 | AA6: ='支給申請額算定シート（Ⅲ．統合関係医療機関）'!N$42 -> 0 | AB6: ='支給申請額算定シート（Ⅲ．統合関係医療機関）'!M$42 -> 0 | AC6: ='支給申請額算定シート（Ⅲ．統合関係医療機関）'!C$63 -> 0
A7: Ⅳ | B7: ='支給申請額算定シート（Ⅳ．統合関係医療機関）'!B$3&"" | E7: ='支給申請額算定シート（Ⅳ．統合関係医療機関）'!C$5&"" | F7: =SUM(G7:K7) -> 0 | G7: ='支給申請額算定シート（Ⅳ．統合関係医療機関）'!C$11 -> 0 | H7: ='支給申請額算定シート（Ⅳ．統合関係医療機関）'!D$11 -> 0 | I7: ='支給申請額算定シート（Ⅳ．統合関係医療機関）'!E$11 -> 0 | J7: ='支給申請額算定シート（Ⅳ．統合関係医療機関）'!F$11 -> 0 | K7: ='支給申請額算定シート（Ⅳ．統合関係医療機関）'!G$11 -> 0 | L7: =SUM(M7:P7) -> 0 | M7: ='支給申請額算定シート（Ⅳ．統合関係医療機関）'!C$18 -> 0 | N7: ='支給申請額算定シート（Ⅳ．統合関係医療機関）'!D$18 -> 0 | O7: ='支給申請額算定シート（Ⅳ．統合関係医療機関）'!E$18 -> 0 | P7: ='支給申請額算定シート（Ⅳ．統合関係医療機関）'!F$18 -> 0 | Q7: ='支給申請額算定シート（Ⅳ．統合関係医療機関）'!G$18 -> 0 | R7: =SUM(S7:V7) -> 0 | S7: ='支給申請額算定シート（Ⅳ．統合関係医療機関）'!C$22 -> 0 | T7: ='支給申請額算定シート（Ⅳ．統合関係医療機関）'!D$22 -> 0 | U7: ='支給申請額算定シート（Ⅳ．統合関係医療機関）'!E$22 -> 0 | V7: ='支給申請額算定シート（Ⅳ．統合関係医療機関）'!F$22 -> 0 | W7: =SUM(X7:Y7) -> 0 | X7: ='支給申請額算定シート（Ⅳ．統合関係医療機関）'!C$26 -> 0 | Y7: ='支給申請額算定シート（Ⅳ．統合関係医療機関）'!D$26 -> 0 | Z7: ='支給申請額算定シート（Ⅳ．統合関係医療機関）'!I$33 -> 0 | AA7: ='支給申請額算定シート（Ⅳ．統合関係医療機関）'!N$42 -> 0 | AB7: ='支給申請額算定シート（Ⅳ．統合関係医療機関）'!M$42 -> 0 | AC7: ='支給申請額算定シート（Ⅳ．統合関係医療機関）'!C$63 -> 0
A8: Ⅴ | B8: ='支給申請額算定シート（Ⅴ．統合関係医療機関）'!B$3&"" | E8: ='支給申請額算定シート（Ⅴ．統合関係医療機関）'!C$5&"" | F8: =SUM(G8:K8) -> 0 | G8: ='支給申請額算定シート（Ⅴ．統合関係医療機関）'!C$11 -> 0 | H8: ='支給申請額算定シート（Ⅴ．統合関係医療機関）'!D$11 -> 0 | I8: ='支給申請額算定シート（Ⅴ．統合関係医療機関）'!E$11 -> 0 | J8: ='支給申請額算定シート（Ⅴ．統合関係医療機関）'!F$11 -> 0 | K8: ='支給申請額算定シート（Ⅴ．統合関係医療機関）'!G$11 -> 0 | L8: =SUM(M8:P8) -> 0 | M8: ='支給申請額算定シート（Ⅴ．統合関係医療機関）'!C$18 -> 0 | N8: ='支給申請額算定シート（Ⅴ．統合関係医療機関）'!D$18 -> 0 | O8: ='支給申請額算定シート（Ⅴ．統合関係医療機関）'!E$18 -> 0 | P8: ='支給申請額算定シート（Ⅴ．統合関係医療機関）'!F$18 -> 0 | Q8: ='支給申請額算定シート（Ⅴ．統合関係医療機関）'!G$18 -> 0 | R8: =SUM(S8:V8) -> 0 | S8: ='支給申請額算定シート（Ⅴ．統合関係医療機関）'!C$22 -> 0 | T8: ='支給申請額算定シート（Ⅴ．統合関係医療機関）'!D$22 -> 0 | U8: ='支給申請額算定シート（Ⅴ．統合関係医療機関）'!E$22 -> 0 | V8: ='支給申請額算定シート（Ⅴ．統合関係医療機関）'!F$22 -> 0 | W8: =SUM(X8:Y8) -> 0 | X8: ='支給申請額算定シート（Ⅴ．統合関係医療機関）'!C$26 -> 0 | Y8: ='支給申請額算定シート（Ⅴ．統合関係医療機関）'!D$26 -> 0 | Z8: ='支給申請額算定シート（Ⅴ．統合関係医療機関）'!I$33 -> 0 | AA8: ='支給申請額算定シート（Ⅴ．統合関係医療機関）'!N$42 -> 0 | AB8: ='支給申請額算定シート（Ⅴ．統合関係医療機関）'!M$42 -> 0 | AC8: ='支給申請額算定シート（Ⅴ．統合関係医療機関）'!C$63 -> 0
A9: Ⅵ | B9: ='支給申請額算定シート（Ⅵ．統合関係医療機関）'!B$3&"" | E9: ='支給申請額算定シート（Ⅵ．統合関係医療機関）'!C$5&"" | F9: =SUM(G9:K9) -> 0 | G9: ='支給申請額算定シート（Ⅵ．統合関係医療機関）'!C$11 -> 0 | H9: ='支給申請額算定シート（Ⅵ．統合関係医療機関）'!D$11 -> 0 | I9: ='支給申請額算定シート（Ⅵ．統合関係医療機関）'!E$11 -> 0 | J9: ='支給申請額算定シート（Ⅵ．統合関係医療機関）'!F$11 -> 0 | K9: ='支給申請額算定シート（Ⅵ．統合関係医療機関）'!G$11 -> 0 | L9: =SUM(M9:P9) -> 0 | M9: ='支給申請額算定シート（Ⅵ．統合関係医療機関）'!C$18 -> 0 | N9: ='支給申請額算定シート（Ⅵ．統合関係医療機関）'!D$18 -> 0 | O9: ='支給申請額算定シート（Ⅵ．統合関係医療機関）'!E$18 -> 0 | P9: ='支給申請額算定シート（Ⅵ．統合関係医療機関）'!F$18 -> 0 | Q9: ='支給申請額算定シート（Ⅵ．統合関係医療機関）'!G$18 -> 0 | R9: =SUM(S9:V9) -> 0 | S9: ='支給申請額算定シート（Ⅵ．統合関係医療機関）'!C$22 -> 0 | T9: ='支給申請額算定シート（Ⅵ．統合関係医療機関）'!D$22 -> 0 | U9: ='支給申請額算定シート（Ⅵ．統合関係医療機関）'!E$22 -> 0 | V9: ='支給申請額算定シート（Ⅵ．統合関係医療機関）'!F$22 -> 0 | W9: =SUM(X9:Y9) -> 0 | X9: ='支給申請額算定シート（Ⅵ．統合関係医療機関）'!C$26 -> 0 | Y9: ='支給申請額算定シート（Ⅵ．統合関係医療機関）'!D$26 -> 0 | Z9: ='支給申請額算定シート（Ⅵ．統合関係医療機関）'!I$33 -> 0 | AA9: ='支給申請額算定シート（Ⅵ．統合関係医療機関）'!N$42 -> 0 | AB9: ='支給申請額算定シート（Ⅵ．統合関係医療機関）'!M$42 -> 0 | AC9: ='支給申請額算定シート（Ⅵ．統合関係医療機関）'!C$63 -> 0
A10: Ⅶ | B10: ='支給申請額算定シート（Ⅶ．統合関係医療機関）'!B$3&"" | E10: ='支給申請額算定シート（Ⅶ．統合関係医療機関）'!C$5&"" | F10: =SUM(G10:K10) -> 0 | G10: ='支給申請額算定シート（Ⅶ．統合関係医療機関）'!C$11 -> 0 | H10: ='支給申請額算定シート（Ⅶ．統合関係医療機関）'!D$11 -> 0 | I10: ='支給申請額算定シート（Ⅶ．統合関係医療機関）'!E$11 -> 0 | J10: ='支給申請額算定シート（Ⅶ．統合関係医療機関）'!F$11 -> 0 | K10: ='支給申請額算定シート（Ⅶ．統合関係医療機関）'!G$11 -> 0 | L10: =SUM(M10:P10) -> 0 | M10: ='支給申請額算定シート（Ⅶ．統合関係医療機関）'!C$18 -> 0 | N10: ='支給申請額算定シート（Ⅶ．統合関係医療機関）'!D$18 -> 0 | O10: ='支給申請額算定シート（Ⅶ．統合関係医療機関）'!E$18 -> 0 | P10: ='支給申請額算定シート（Ⅶ．統合関係医療機関）'!F$18 -> 0 | Q10: ='支給申請額算定シート（Ⅶ．統合関係医療機関）'!G$18 -> 0 | R10: =SUM(S10:V10) -> 0 | S10: ='支給申請額算定シート（Ⅶ．統合関係医療機関）'!C$22 -> 0 | T10: ='支給申請額算定シート（Ⅶ．統合関係医療機関）'!D$22 -> 0 | U10: ='支給申請額算定シート（Ⅶ．統合関係医療機関）'!E$22 -> 0 | V10: ='支給申請額算定シート（Ⅶ．統合関係医療機関）'!F$22 -> 0 | W10: =SUM(X10:Y10) -> 0 | X10: ='支給申請額算定シート（Ⅶ．統合関係医療機関）'!C$26 -> 0 | Y10: ='支給申請額算定シート（Ⅶ．統合関係医療機関）'!D$26 -> 0 | Z10: ='支給申請額算定シート（Ⅶ．統合関係医療機関）'!I$33 -> 0 | AA10: ='支給申請額算定シート（Ⅶ．統合関係医療機関）'!N$42 -> 0 | AB10: ='支給申請額算定シート（Ⅶ．統合関係医療機関）'!M$42 -> 0 | AC10: ='支給申請額算定シート（Ⅶ．統合関係医療機関）'!C$63 -> 0
A11: Ⅷ | B11: ='支給申請額算定シート（Ⅷ．統合関係医療機関）'!B$3&"" | E11: ='支給申請額算定シート（Ⅷ．統合関係医療機関）'!C$5&"" | F11: =SUM(G11:K11) -> 0 | G11: ='支給申請額算定シート（Ⅷ．統合関係医療機関）'!C$11 -> 0 | H11: ='支給申請額算定シート（Ⅷ．統合関係医療機関）'!D$11 -> 0 | I11: ='支給申請額算定シート（Ⅷ．統合関係医療機関）'!E$11 -> 0 | J11: ='支給申請額算定シート（Ⅷ．統合関係医療機関）'!F$11 -> 0 | K11: ='支給申請額算定シート（Ⅷ．統合関係医療機関）'!G$11 -> 0 | L11: =SUM(M11:P11) -> 0 | M11: ='支給申請額算定シート（Ⅷ．統合関係医療機関）'!C$18 -> 0 | N11: ='支給申請額算定シート（Ⅷ．統合関係医療機関）'!D$18 -> 0 | O11: ='支給申請額算定シート（Ⅷ．統合関係医療機関）'!E$18 -> 0 | P11: ='支給申請額算定シート（Ⅷ．統合関係医療機関）'!F$18 -> 0 | Q11: ='支給申請額算定シート（Ⅷ．統合関係医療機関）'!G$18 -> 0 | R11: =SUM(S11:V11) -> 0 | S11: ='支給申請額算定シート（Ⅷ．統合関係医療機関）'!C$22 -> 0 | T11: ='支給申請額算定シート（Ⅷ．統合関係医療機関）'!D$22 -> 0 | U11: ='支給申請額算定シート（Ⅷ．統合関係医療機関）'!E$22 -> 0 | V11: ='支給申請額算定シート（Ⅷ．統合関係医療機関）'!F$22 -> 0 | W11: =SUM(X11:Y11) -> 0 | X11: ='支給申請額算定シート（Ⅷ．統合関係医療機関）'!C$26 -> 0 | Y11: ='支給申請額算定シート（Ⅷ．統合関係医療機関）'!D$26 -> 0 | Z11: ='支給申請額算定シート（Ⅷ．統合関係医療機関）'!I$33 -> 0 | AA11: ='支給申請額算定シート（Ⅷ．統合関係医療機関）'!N$42 -> 0 | AB11: ='支給申請額算定シート（Ⅷ．統合関係医療機関）'!M$42 -> 0 | AC11: ='支給申請額算定シート（Ⅷ．統合関係医療機関）'!C$63 -> 0
A12: Ⅸ | B12: ='支給申請額算定シート（Ⅸ．統合関係医療機関）'!B$3&"" | E12: ='支給申請額算定シート（Ⅸ．統合関係医療機関）'!C$5&"" | F12: =SUM(G12:K12) -> 0 | G12: ='支給申請額算定シート（Ⅸ．統合関係医療機関）'!C$11 -> 0 | H12: ='支給申請額算定シート（Ⅸ．統合関係医療機関）'!D$11 -> 0 | I12: ='支給申請額算定シート（Ⅸ．統合関係医療機関）'!E$11 -> 0 | J12: ='支給申請額算定シート（Ⅸ．統合関係医療機関）'!F$11 -> 0 | K12: ='支給申請額算定シート（Ⅸ．統合関係医療機関）'!G$11 -> 0 | L12: =SUM(M12:P12) -> 0 | M12: ='支給申請額算定シート（Ⅸ．統合関係医療機関）'!C$18 -> 0 | N12: ='支給申請額算定シート（Ⅸ．統合関係医療機関）'!D$18 -> 0 | O12: ='支給申請額算定シート（Ⅸ．統合関係医療機関）'!E$18 -> 0 | P12: ='支給申請額算定シート（Ⅸ．統合関係医療機関）'!F$18 -> 0 | Q12: ='支給申請額算定シート（Ⅸ．統合関係医療機関）'!G$18 -> 0 | R12: =SUM(S12:V12) -> 0 | S12: ='支給申請額算定シート（Ⅸ．統合関係医療機関）'!C$22 -> 0 | T12: ='支給申請額算定シート（Ⅸ．統合関係医療機関）'!D$22 -> 0 | U12: ='支給申請額算定シート（Ⅸ．統合関係医療機関）'!E$22 -> 0 | V12: ='支給申請額算定シート（Ⅸ．統合関係医療機関）'!F$22 -> 0 | W12: =SUM(X12:Y12) -> 0 | X12: ='支給申請額算定シート（Ⅸ．統合関係医療機関）'!C$26 -> 0 | Y12: ='支給申請額算定シート（Ⅸ．統合関係医療機関）'!D$26 -> 0 | Z12: ='支給申請額算定シート（Ⅸ．統合関係医療機関）'!I$33 -> 0 | AA12: ='支給申請額算定シート（Ⅸ．統合関係医療機関）'!N$42 -> 0 | AB12: ='支給申請額算定シート（Ⅸ．統合関係医療機関）'!M$42 -> 0 | AC12: ='支給申請額算定シート（Ⅸ．統合関係医療機関）'!C$63 -> 0
A13: Ⅹ | B13: ='支給申請額算定シート（Ⅹ．統合関係医療機関）'!B$3&"" | E13: ='支給申請額算定シート（Ⅹ．統合関係医療機関）'!C$5&"" | F13: =SUM(G13:K13) -> 0 | G13: ='支給申請額算定シート（Ⅹ．統合関係医療機関）'!C$11 -> 0 | H13: ='支給申請額算定シート（Ⅹ．統合関係医療機関）'!D$11 -> 0 | I13: ='支給申請額算定シート（Ⅹ．統合関係医療機関）'!E$11 -> 0 | J13: ='支給申請額算定シート（Ⅹ．統合関係医療機関）'!F$11 -> 0 | K13: ='支給申請額算定シート（Ⅹ．統合関係医療機関）'!G$11 -> 0 | L13: =SUM(M13:P13) -> 0 | M13: ='支給申請額算定シート（Ⅹ．統合関係医療機関）'!C$18 -> 0 | N13: ='支給申請額算定シート（Ⅹ．統合関係医療機関）'!D$18 -> 0 | O13: ='支給申請額算定シート（Ⅹ．統合関係医療機関）'!E$18 -> 0 | P13: ='支給申請額算定シート（Ⅹ．統合関係医療機関）'!F$18 -> 0 | Q13: ='支給申請額算定シート（Ⅹ．統合関係医療機関）'!G$18 -> 0 | R13: =SUM(S13:V13) -> 0 | S13: ='支給申請額算定シート（Ⅹ．統合関係医療機関）'!C$22 -> 0 | T13: ='支給申請額算定シート（Ⅹ．統合関係医療機関）'!D$22 -> 0 | U13: ='支給申請額算定シート（Ⅹ．統合関係医療機関）'!E$22 -> 0 | V13: ='支給申請額算定シート（Ⅹ．統合関係医療機関）'!F$22 -> 0 | W13: =SUM(X13:Y13) -> 0 | X13: ='支給申請額算定シート（Ⅹ．統合関係医療機関）'!C$26 -> 0 | Y13: ='支給申請額算定シート（Ⅹ．統合関係医療機関）'!D$26 -> 0 | Z13: ='支給申請額算定シート（Ⅹ．統合関係医療機関）'!I$33 -> 0 | AA13: ='支給申請額算定シート（Ⅹ．統合関係医療機関）'!N$42 -> 0 | AB13: ='支給申請額算定シート（Ⅹ．統合関係医療機関）'!M$42 -> 0 | AC13: ='支給申請額算定シート（Ⅹ．統合関係医療機関）'!C$63 -> 0
E14: 小計 | F14: =SUM(F4:F13) -> 0 | G14: =SUM(G4:G13) -> 0 | H14: =SUM(H4:H13) -> 0 | I14: =SUM(I4:I13) -> 0 | J14: =SUM(J4:J13) -> 0 | K14: =SUM(K4:K13) -> 0 | L14: =SUM(L4:L13) -> 0 | M14: =SUM(M4:M13) -> 0 | ... Z14: =SUM(Z4:Z13) -> 0 | AC14: =SUM(AC4:AC13) -> 0
R15: 病床融通数の合計が0となっていません。
A16: 支給対象病床数チェック | C16: 統合前の 対象３区分の総病床数 | E16: 統合後の 対象３区分の総病床数 | G16: 削減数 | I16: 支給対象 総病床数
A17: =IF(G17>=I17,"○","×") -> ○ | C17: =SUM(G14,H14,J14) -> 0 | E17: =SUM(M14,N14,P14) -> 0 | G17: =C17-E17 -> 0 | I17: =Z14 -> 0
A19: 病床融通数整合チェック | C19: 総病床融通数
A20: =IF(C20=0,"○","×") -> ○ | C20: =R14 -> 0
A22: １以上の病院廃止チェック | C22: 廃止 （有床診療所化、診療所化も含む）
A23: =IF(C23>0,"○","×") -> × | C23: =COUNTIFS(F4:F13,">=20",E4:E13,"廃止*") -> 0
A25: 10%削減チェック | C25: 統合関係医療機関の 対象３区分の総病床数 | E25: 対象３区分の病床減少数 （支給対象病床数） | G25: 減少率 | AB25: 支給申請額(千円)
A26: =IF(G26>=10%,"○","×") -> ○ | C26: =SUM(G14,H14,J14) -> 0 | E26: =Z14 -> 0 | G26: =IFERROR(E26/C26,"－") -> － | AB26: =IF(AND(A17="○",A20="○",A23="○",A26="○"),AC14,"－") -> －

Sheet 支給申請額算定シート（Ⅰ．代表医療機関）
A1: ■支給申請額算定シート
A2: 番号 | B2: 代表医療機関の名称 | C2: 開設者氏名 | G2: 代表医療機関の住所・所在地
A3: Ⅰ | B3: =申請書!N21&"" | C3: =申請書!N29&"" | G3: =申請書!AZ21&""
B4: 構想区域 | C4: 統合後の状況
A7: 1 | B7: 統合前の稼働病床数 | C7: 高度急性期 | D7: 急性期 | E7: 回復期 | F7: 慢性期 | G7: 休棟等 | H7: 合計
I8: うち対象３区分（※３）の合計 | K8: C11セル～I11セルで参照
B9: ① 平成30年度病床機能報告 | H9: =SUM(C9:G9) -> 0 | I9: =SUM(C9,D9,F9) -> 0 | K9: 対象３区分のうち ①と②の小さい方
B10: ② 令和2年4月1日時点（※１） | H10: =SUM(C10:G10) -> 0 | I10: =SUM(C10,D10,F10) -> 0
B11: ="③ 統合前病床数＝"&$K11&" （※２）" -> ③ 統合前病床数＝② （※２） | C11: =IF($K11="①",C9,C10) -> 0 | D11: =IF($K11="①",D9,D10) -> 0 | E11: =IF($K11="①",E9,E10) -> 0 | F11: =IF($K11="①",F9,F10) -> 0 | G11: =IF($K11="①",G9,G10) -> 0 | H11: =SUM(C11:G11) -> 0 | I11: =SUM(C11,D11,F11) -> 0 | K11: =IF(I9<I10,"①","②") -> ②
A12: ※１ 各機能ごとの数値については、地域医療構想調整会議にて確認されていること。 令和2年4月1日時点で病床数の変化があった場合は、変更前の病床数を記載すること。 平成30年度病床機能報告から令和2年4月1日までの間に、病床数の変更がない場合は、①と同じ値を記載すること。
A13: ※２ ①平成30年度病床機能報告時又は②令和2年4月1日時点の対象３区分合計のいずれか少ない方を基準とする。
A14: ※３ 対象３区分＝高度急性期、急性期、慢性期（以下同様） | K14: C22セル～F22セルの入力チェックで使用
K15: 各機能別 融通数整合性ﾁｪｯｸ | M15: 高度急性期 | N15: 急性期 | O15: 回復期 | P15: 慢性期 | Q15: 休棟 | R15: 合計
A16: 2 | B16: 統合後の許可病床数 （＝統合後の稼働病床数） | C16: 高度急性期 | D16: 急性期 | E16: 回復期 | F16: 慢性期 | G16: 休棟 | H16: 合計 | S16: 対象３区分
I17: うち対象３区分の合計 | M17: =C18-C11 -> 0 | N17: =D18-D11 -> 0 | O17: =E18-E11 -> 0 | P17: =F18-F11 -> 0 | Q17: =G18-G11 -> 0 | R17: =H18-H11 -> 0 | S17: =I18-I11 -> 0
G18: 0 | H18: =SUM(C18:G18) -> 0 | I18: =SUM(C18,D18,F18) -> 0 | K18: 機能別 | L18: 最小値 | M18: =IF(M17>0,M17*-1,0) -> 0 | N18: =IF(N17>0,N17*-1,0) -> 0 | O18: =IF(O17>0,O17*-1,0) -> 0 | P18: =IF(P17>0,P17*-1,0) -> 0 | S18: =IF(S17>0,S17*-1,0) -> 0
L19: 最大値 | M19: =IF(M17<0,M17*-1,0) -> 0 | N19: =IF(N17<0,N17*-1,0) -> 0 | O19: =IF(O17<0,O17*-1,0) -> 0 | P19: =IF(P17<0,P17*-1,0) -> 0 | S19: =IF(S17<0,S17*-1,0) -> 0
A20: 3 | B20: 他の統合関係医療機関との 病床融通数（※４） | C20: 高度急性期 | D20: 急性期 | E20: 回復期 | F20: 慢性期 | G20: 対象３区分の合計
G22: =SUM(C22,D22,F22) -> 0
A23: ※４ 他の統合関係医療機関から病床の融通を受けた場合はマイナス表記、病床を融通した場合はプラス表記とすること。 | K23: D26セルの入力チェックで参照 | P23: C26セルの回復期の値
K24: 介護転換整合性 チェック | M24: ３区分の減少数 | N24: ←のうち融通数 | O24: 転換可能最大数 | P24: 回復期への 転換数算出 （①又は②の小さい方）
A25: 4 | B25: 対象３区分から 回復期又は介護医療院へ 転換した病床数 | C25: 回復期 | D25: 介護医療院 | E25: 合計 | M25: A | N25: B | O25: C（A-B） | R25: ① | S25: ②
C26: =IF(E11<E18,P27,0) -> 0 | E26: =SUM(C26:D26) -> 0 | M26: 前3区-後3区 | N26: 融通3区 | O26: 前3-後3-融3 | R26: 転換可能数-介 | S26: 後回+移回-前回
M27: =I11-I18 -> 0 | N27: =G22 -> 0 | O27: =IF(M27>N27,M27-N27,0) -> 0 | P27: =MIN(R27:S27) -> 0 | R27: =O27-D26 -> 0 | S27: =E18+E22-E11 -> 0
A28: 5 | B28: 減少病床数 （1の③－2） | C28: 高度急性期 | D28: 急性期 | E28: 回復期 | F28: 慢性期 | G28: 休棟等 | H28: 合計
I29: うち対象３区分の合計
C30: =C11-C18 -> 0 | D30: =D11-D18 -> 0 | E30: =E11-E18 -> 0 | F30: =F11-F18 -> 0 | G30: =G11-G18 -> 0 | H30: =SUM(C30:G30) -> 0 | I30: =C30+D30+F30 -> 0
F32: 5.減少数 | G32: 4.うち転換数 | H32: 3.うち他院への 融通数 | I32: 支給対象
F33: =I30 -> 0 | G33: =E26 -> 0 | H33: =G22 -> 0 | I33: =IF(F33-G33-H33<0,0,F33-G33-H33) -> 0
I34: ※対象３区分の病床融通数または転換病床数に誤りがあります。
A35: 6 | B35: 統合前の許可病床数 | C35: 高度急性期 | D35: 急性期 | E35: 回復期 | F35: 慢性期 | G35: 休棟 | H35: 合計
I36: うち対象３区分の合計
B37: ① 平成30年度病床機能報告 | H37: =SUM(C37:G37) -> 0 | I37: =SUM(C37,D37,F37) -> 0
B38: ② 令和２年４月１日時点（※５） | H38: =SUM(C38:G38) -> 0 | I38: =SUM(C38,D38,F38) -> 0
A39: ※5 平成30年度病床機能報告から令和2年4月1日までの間に、病床数の変更がない場合は、①と同じ値を記載すること。 | M39: D56セルの病床数算出で参照
M40: ↓ | N40: C56セルの単価算出で参照 | Q40: C56セルの単価算出で参照
A41: 7 | B41: 対象３区分の病棟の 年間在棟患者延べ数（人） | C41: 高度急性期 | D41: 急性期 | E41: 慢性期 | F41: 合計 | M41: 適用一日平均 実働病床数 | N41: 適用病床稼働率 | Q41: 病床稼働率 | S41: １床あたり単価
B42: ① 平成30年度病床機能報告（※６） | F42: =SUM(C42:E42) -> 0 | M42: =IF(AND(I37<>I38,H53="Ｂ"),E53,E52) -> 0 | N42: =IF(AND(I37<>I38,H53="Ｂ"),C53,C52) -> 0 | Q42: 0 | R42: 50%未満 | S42: 1140
B43: ② 令和2年4月1日時点（※７） | F43: =SUM(C43:E43) -> 0 | Q43: 0.5 | R43: 60％未満 | S43: 1368
A44: ※６ 対象３区分の病棟に係る平成30年度病床機能報告の報告様式１（病棟票）の（48）欄の数値を計上すること。 なお、平成30年度病床機能報告の報告様式１（病棟票）において、「過去１年間の間に病棟の再編・見直しあり」と報告した病棟の年間在棟患者延べ数については、以下の式により補正して計上すること。 ○ 補正後の年間在棟患者延べ数＝年間在棟患者延べ数（（48）欄に記載された数値）÷報告可能な対象期間（月単位）×１２ （注） 報告可能な対象期間（月単位）は、平成30年度病床機能報告で報告した月数とすること。 例） 報告可能な対象期間を「平成29年7月1日～平成30年12月末日」とした場合 ⇒ 報告可能な対象期間（月単位）＝６ | Q44: 0.6 | R44: 70％未満 | S44: 1596
...

Sheet 支給申請額算定シート（Ⅱ．統合関係医療機関）
A1: ■支給申請額算定シート
A2: 番号 | B2: 統合関係医療機関の名称 | C2: 開設者氏名 | G2: 統合関係医療機関の住所・所在地
A3: Ⅱ
B4: 構想区域 | C4: 統合後の状況
A7: 1 | B7: 統合前の稼働病床数 | C7: 高度急性期 | D7: 急性期 | E7: 回復期 | F7: 慢性期 | G7: 休棟等 | H7: 合計
I8: うち対象３区分（※３）の合計 | K8: C11セル～I11セルで参照
B9: ① 平成30年度病床機能報告 | H9: =SUM(C9:G9) -> 0 | I9: =SUM(C9,D9,F9) -> 0 | K9: 対象３区分のうち ①と②の小さい方
B10: ② 令和2年4月1日時点（※１） | H10: =SUM(C10:G10) -> 0 | I10: =SUM(C10,D10,F10) -> 0
B11: ="③ 統合前病床数＝"&$K11&" （※２）" -> ③ 統合前病床数＝② （※２） | C11: =IF($K11="①",C9,C10) -> 0 | D11: =IF($K11="①",D9,D10) -> 0 | E11: =IF($K11="①",E9,E10) -> 0 | F11: =IF($K11="①",F9,F10) -> 0 | G11: =IF($K11="①",G9,G10) -> 0 | H11: =SUM(C11:G11) -> 0 | I11: =SUM(C11,D11,F11) -> 0 | K11: =IF(I9<I10,"①","②") -> ②
A12: ※１ 各機能ごとの数値については、地域医療構想調整会議にて確認されていること。 令和2年4月1日時点で病床数の変化があった場合は、変更前の病床数を記載すること。 平成30年度病床機能報告から令和2年4月1日までの間に、病床数の変更がない場合は、①と同じ値を記載すること。
A13: ※２ ①平成30年度病床機能報告時又は②令和2年4月1日時点の対象３区分合計のいずれか少ない方を基準とする。
A14: ※３ 対象３区分＝高度急性期、急性期、慢性期（以下同様） | K14: C22セル～F22セルの入力チェックで使用
K15: 各機能別 融通数整合性ﾁｪｯｸ | M15: 高度急性期 | N15: 急性期 | O15: 回復期 | P15: 慢性期 | Q15: 休棟 | R15: 合計
A16: 2 | B16: 統合後の許可病床数 （＝統合後の稼働病床数） | C16: 高度急性期 | D16: 急性期 | E16: 回復期 | F16: 慢性期 | G16: 休棟 | H16: 合計 | S16: 対象３区分
I17: うち対象３区分の合計 | M17: =C18-C11 -> 0 | N17: =D18-D11 -> 0 | O17: =E18-E11 -> 0 | P17: =F18-F11 -> 0 | Q17: =G18-G11 -> 0 | R17: =H18-H11 -> 0 | S17: =I18-I11 -> 0
G18: 0 | H18: =SUM(C18:G18) -> 0 | I18: =SUM(C18,D18,F18) -> 0 | K18: 機能別 | L18: 最小値 | M18: =IF(M17>0,M17*-1,0) -> 0 | N18: =IF(N17>0,N17*-1,0) -> 0 | O18: =IF(O17>0,O17*-1,0) -> 0 | P18: =IF(P17>0,P17*-1,0) -> 0 | S18: =IF(S17>0,S17*-1,0) -> 0
L19: 最大値 | M19: =IF(M17<0,M17*-1,0) -> 0 | N19: =IF(N17<0,N17*-1,0) -> 0 | O19: =IF(O17<0,O17*-1,0) -> 0 | P19: =IF(P17<0,P17*-1,0) -> 0 | S19: =IF(S17<0,S17*-1,0) -> 0
A20: 3 | B20: 他の統合関係医療機関との 病床融通数（※４） | C20: 高度急性期 | D20: 急性期 | E20: 回復期 | F20: 慢性期 | G20: 対象３区分の合計
G22: =SUM(C22,D22,F22) -> 0
A23: ※４ 他の統合関係医療機関から病床の融通を受けた場合はマイナス表記、病床を融通した場合はプラス表記とすること。 | K23: D26セルの入力チェックで参照 | P23: C26セルの回復期の値
K24: 介護転換整合性 チェック | M24: ３区分の減少数 | N24: ←のうち融通数 | O24: 転換可能最大数 | P24: 回復期への 転換数算出 （①又は②の小さい方）
A25: 4 | B25: 対象３区分から 回復期又は介護医療院へ 転換した病床数 | C25: 回復期 | D25: 介護医療院 | E25: 合計 | M25: A | N25: B | O25: C（A-B） | R25: ① | S25: ②
C26: =IF(E11<E18,P27,0) -> 0 | E26: =SUM(C26:D26) -> 0 | M26: 前3区-後3区 | N26: 融通3区 | O26: 前3-後3-融3 | R26: 転換可能数-介 | S26: 後回+移回-前回
M27: =I11-I18 -> 0 | N27: =G22 -> 0 | O27: =IF(M27>N27,M27-N27,0) -> 0 | P27: =MIN(R27:S27) -> 0 | R27: =O27-D26 -> 0 | S27: =E18+E22-E11 -> 0
A28: 5 | B28: 減少病床数 （1の③－2） | C28: 高度急性期 | D28: 急性期 | E28: 回復期 | F28: 慢性期 | G28: 休棟等 | H28: 合計
I29: うち対象３区分の合計
C30: =C11-C18 -> 0 | D30: =D11-D18 -> 0 | E30: =E11-E18 -> 0 | F30: =F11-F18 -> 0 | G30: =G11-G18 -> 0 | H30: =SUM(C30:G30) -> 0 | I30: =C30+D30+F30 -> 0
F32: 5.減少数 | G32: 4.うち転換数 | H32: 3.うち他院への 融通数 | I32: 支給対象
F33: =I30 -> 0 | G33: =E26 -> 0 | H33: =G22 -> 0 | I33: =IF(F33-G33-H33<0,0,F33-G33-H33) -> 0
I34: ※対象３区分の病床融通数または転換病床数に誤りがあります。
A35: 6 | B35: 統合前の許可病床数 | C35: 高度急性期 | D35: 急性期 | E35: 回復期 | F35: 慢性期 | G35: 休棟 | H35: 合計
I36: うち対象３区分の合計
B37: ① 平成30年度病床機能報告 | H37: =SUM(C37:G37) -> 0 | I37: =SUM(C37,D37,F37) -> 0
B38: ② 令和２年４月１日時点（※５） | H38: =SUM(C38:G38) -> 0 | I38: =SUM(C38,D38,F38) -> 0
A39: ※5 平成30年度病床機能報告から令和2年4月1日までの間に、病床数の変更がない場合は、①と同じ値を記載すること。 | M39: D56セルの病床数算出で参照
M40: ↓ | N40: C56セルの単価算出で参照 | Q40: C56セルの単価算出で参照
A41: 7 | B41: 対象３区分の病棟の 年間在棟患者延べ数（人） | C41: 高度急性期 | D41: 急性期 | E41: 慢性期 | F41: 合計 | M41: 適用一日平均 実働病床数 | N41: 適用病床稼働率 | Q41: 病床稼働率 | S41: １床あたり単価
B42: ① 平成30年度病床機能報告（※６） | F42: =SUM(C42:E42) -> 0 | M42: =IF(AND(I37<>I38,H53="Ｂ"),E53,E52) -> 0 | N42: =IF(AND(I37<>I38,H53="Ｂ"),C53,C52) -> 0 | Q42: 0 | R42: 50%未満 | S42: 1140
B43: ② 令和2年4月1日時点（※７） | F43: =SUM(C43:E43) -> 0 | Q43: 0.5 | R43: 60％未満 | S43: 1368
A44: ※６ 対象３区分の病棟に係る平成30年度病床機能報告の報告様式１（病棟票）の（48）欄の数値を計上すること。 なお、平成30年度病床機能報告の報告様式１（病棟票）において、「過去１年間の間に病棟の再編・見直しあり」と報告した病棟の年間在棟患者延べ数については、以下の式により補正して計上すること。 ○ 補正後の年間在棟患者延べ数＝年間在棟患者延べ数（（48）欄に記載された数値）÷報告可能な対象期間（月単位）×１２ （注） 報告可能な対象期間（月単位）は、平成30年度病床機能報告で報告した月数とすること。 例） 報告可能な対象期間を「平成29年7月1日～平成30年12月末日」とした場合 ⇒ 報告可能な対象期間（月単位）＝６ | Q44: 0.6 | R44: 70％未満 | S44: 1596
...

Sheet 支給申請額算定シート（Ⅲ．統合関係医療機関）
A1: ■支給申請額算定シート
A2: 番号 | B2: 統合関係医療機関の名称 | C2: 開設者氏名 | G2: 統合関係医療機関の住所・所在地
A3: Ⅲ
B4: 構想区域 | C4: 統合後の状況
A7: 1 | B7: 統合前の稼働病床数 | C7: 高度急性期 | D7: 急性期 | E7: 回復期 | F7: 慢性期 | G7: 休棟等 | H7: 合計
I8: うち対象３区分（※３）の合計 | K8: C11セル～I11セルで参照
B9: ① 平成30年度病床機能報告 | H9: =SUM(C9:G9) -> 0 | I9: =SUM(C9,D9,F9) -> 0 | K9: 対象３区分のうち ①と②の小さい方
B10: ② 令和2年4月1日時点（※１） | H10: =SUM(C10:G10) -> 0 | I10: =SUM(C10,D10,F10) -> 0
B11: ="③ 統合前病床数＝"&$K11&" （※２）" -> ③ 統合前病床数＝② （※２） | C11: =IF($K11="①",C9,C10) -> 0 | D11: =IF($K11="①",D9,D10) -> 0 | E11: =IF($K11="①",E9,E10) -> 0 | F11: =IF($K11="①",F9,F10) -> 0 | G11: =IF($K11="①",G9,G10) -> 0 | H11: =SUM(C11:G11) -> 0 | I11: =SUM(C11,D11,F11) -> 0 | K11: =IF(I9<I10,"①","②") -> ②
A12: ※１ 各機能ごとの数値については、地域医療構想調整会議にて確認されていること。 令和2年4月1日時点で病床数の変化があった場合は、変更前の病床数を記載すること。 平成30年度病床機能報告から令和2年4月1日までの間に、病床数の変更がない場合は、①と同じ値を記載すること。
A13: ※２ ①平成30年度病床機能報告時又は②令和2年4月1日時点の対象３区分合計のいずれか少ない方を基準とする。
A14: ※３ 対象３区分＝高度急性期、急性期、慢性期（以下同様） | K14: C22セル～F22セルの入力チェックで使用
K15: 各機能別 融通数整合性ﾁｪｯｸ | M15: 高度急性期 | N15: 急性期 | O15: 回復期 | P15: 慢性期 | Q15: 休棟 | R15: 合計
A16: 2 | B16: 統合後の許可病床数 （＝統合後の稼働病床数） | C16: 高度急性期 | D16: 急性期 | E16: 回復期 | F16: 慢性期 | G16: 休棟 | H16: 合計 | S16: 対象３区分
I17: うち対象３区分の合計 | M17: =C18-C11 -> 0 | N17: =D18-D11 -> 0 | O17: =E18-E11 -> 0 | P17: =F18-F11 -> 0 | Q17: =G18-G11 -> 0 | R17: =H18-H11 -> 0 | S17: =I18-I11 -> 0
G18: 0 | H18: =SUM(C18:G18) -> 0 | I18: =SUM(C18,D18,F18) -> 0 | K18: 機能別 | L18: 最小値 | M18: =IF(M17>0,M17*-1,0) -> 0 | N18: =IF(N17>0,N17*-1,0) -> 0 | O18: =IF(O17>0,O17*-1,0) -> 0 | P18: =IF(P17>0,P17*-1,0) -> 0 | S18: =IF(S17>0,S17*-1,0) -> 0
L19: 最大値 | M19: =IF(M17<0,M17*-1,0) -> 0 | N19: =IF(N17<0,N17*-1,0) -> 0 | O19: =IF(O17<0,O17*-1,0) -> 0 | P19: =IF(P17<0,P17*-1,0) -> 0 | S19: =IF(S17<0,S17*-1,0) -> 0
A20: 3 | B20: 他の統合関係医療機関との 病床融通数（※４） | C20: 高度急性期 | D20: 急性期 | E20: 回復期 | F20: 慢性期 | G20: 対象３区分の合計
G22: =SUM(C22,D22,F22) -> 0
A23: ※４ 他の統合関係医療機関から病床の融通を受けた場合はマイナス表記、病床を融通した場合はプラス表記とすること。 | K23: D26セルの入力チェックで参照 | P23: C26セルの回復期の値
K24: 介護転換整合性 チェック | M24: ３区分の減少数 | N24: ←のうち融通数 | O24: 転換可能最大数 | P24: 回復期への 転換数算出 （①又は②の小さい方）
A25: 4 | B25: 対象３区分から 回復期又は介護医療院へ 転換した病床数 | C25: 回復期 | D25: 介護医療院 | E25: 合計 | M25: A | N25: B | O25: C（A-B） | R25: ① | S25: ②
C26: =IF(E11<E18,P27,0) -> 0 | E26: =SUM(C26:D26) -> 0 | M26: 前3区-後3区 | N26: 融通3区 | O26: 前3-後3-融3 | R26: 転換可能数-介 | S26: 後回+移回-前回
M27: =I11-I18 -> 0 | N27: =G22 -> 0 | O27: =IF(M27>N27,M27-N27,0) -> 0 | P27: =MIN(R27:S27) -> 0 | R27: =O27-D26 -> 0 | S27: =E18+E22-E11 -> 0
A28: 5 | B28: 減少病床数 （1の③－2） | C28: 高度急性期 | D28: 急性期 | E28: 回復期 | F28: 慢性期 | G28: 休棟等 | H28: 合計
I29: うち対象３区分の合計
C30: =C11-C18 -> 0 | D30: =D11-D18 -> 0 | E30: =E11-E18 -> 0 | F30: =F11-F18 -> 0 | G30: =G11-G18 -> 0 | H30: =SUM(C30:G30) -> 0 | I30: =C30+D30+F30 -> 0
F32: 5.減少数 | G32: 4.うち転換数 | H32: 3.うち他院への 融通数 | I32: 支給対象
F33: =I30 -> 0 | G33: =E26 -> 0 | H33: =G22 -> 0 | I33: =IF(F33-G33-H33<0,0,F33-G33-H33) -> 0
I34: ※対象３区分の病床融通数または転換病床数に誤りがあります。
A35: 6 | B35: 統合前の許可病床数 | C35: 高度急性期 | D35: 急性期 | E35: 回復期 | F35: 慢性期 | G35: 休棟 | H35: 合計
I36: うち対象３区分の合計
B37: ① 平成30年度病床機能報告 | H37: =SUM(C37:G37) -> 0 | I37: =SUM(C37,D37,F37) -> 0
B38: ② 令和２年４月１日時点（※５） | H38: =SUM(C38:G38) -> 0 | I38: =SUM(C38,D38,F38) -> 0
A39: ※5 平成30年度病床機能報告から令和2年4月1日までの間に、病床数の変更がない場合は、①と同じ値を記載すること。 | M39: D56セルの病床数算出で参照
M40: ↓ | N40: C56セルの単価算出で参照 | Q40: C56セルの単価算出で参照
A41: 7 | B41: 対象３区分の病棟の 年間在棟患者延べ数（人） | C41: 高度急性期 | D41: 急性期 | E41: 慢性期 | F41: 合計 | M41: 適用一日平均 実働病床数 | N41: 適用病床稼働率 | Q41: 病床稼働率 | S41: １床あたり単価
B42: ① 平成30年度病床機能報告（※６） | F42: =SUM(C42:E42) -> 0 | M42: =IF(AND(I37<>I38,H53="Ｂ"),E53,E52) -> 0 | N42: =IF(AND(I37<>I38,H53="Ｂ"),C53,C52) -> 0 | Q42: 0 | R42: 50%未満 | S42: 1140
B43: ② 令和2年4月1日時点（※７） | F43: =SUM(C43:E43) -> 0 | Q43: 0.5 | R43: 60％未満 | S43: 1368
A44: ※６ 対象３区分の病棟に係る平成30年度病床機能報告の報告様式１（病棟票）の（48）欄の数値を計上すること。 なお、平成30年度病床機能報告の報告様式１（病棟票）において、「過去１年間の間に病棟の再編・見直しあり」と報告した病棟の年間在棟患者延べ数については、以下の式により補正して計上すること。 ○ 補正後の年間在棟患者延べ数＝年間在棟患者延べ数（（48）欄に記載された数値）÷報告可能な対象期間（月単位）×１２ （注） 報告可能な対象期間（月単位）は、平成30年度病床機能報告で報告した月数とすること。 例） 報告可能な対象期間を「平成29年7月1日～平成30年12月末日」とした場合 ⇒ 報告可能な対象期間（月単位）＝６ | Q44: 0.6 | R44: 70％未満 | S44: 1596
...

Sheet 支給申請額算定シート（Ⅳ．統合関係医療機関）
A1: ■支給申請額算定シート
A2: 番号 | B2: 統合関係医療機関の名称 | C2: 開設者氏名 | G2: 統合関係医療機関の住所・所在地
A3: Ⅳ
B4: 構想区域 | C4: 統合後の状況
A7: 1 | B7: 統合前の稼働病床数 | C7: 高度急性期 | D7: 急性期 | E7: 回復期 | F7: 慢性期 | G7: 休棟等 | H7: 合計
I8: うち対象３区分（※３）の合計 | K8: C11セル～I11セルで参照
B9: ① 平成30年度病床機能報告 | H9: =SUM(C9:G9) -> 0 | I9: =SUM(C9,D9,F9) -> 0 | K9: 対象３区分のうち ①と②の小さい方
B10: ② 令和2年4月1日時点（※１） | H10: =SUM(C10:G10) -> 0 | I10: =SUM(C10,D10,F10) -> 0
B11: ="③ 統合前病床数＝"&$K11&" （※２）" -> ③ 統合前病床数＝② （※２） | C11: =IF($K11="①",C9,C10) -> 0 | D11: =IF($K11="①",D9,D10) -> 0 | E11: =IF($K11="①",E9,E10) -> 0 | F11: =IF($K11="①",F9,F10) -> 0 | G11: =IF($K11="①",G9,G10) -> 0 | H11: =SUM(C11:G11) -> 0 | I11: =SUM(C11,D11,F11) -> 0 | K11: =IF(I9<I10,"①","②") -> ②
A12: ※１ 各機能ごとの数値については、地域医療構想調整会議にて確認されていること。 令和2年4月1日時点で病床数の変化があった場合は、変更前の病床数を記載すること。 平成30年度病床機能報告から令和2年4月1日までの間に、病床数の変更がない場合は、①と同じ値を記載すること。
A13: ※２ ①平成30年度病床機能報告時又は②令和2年4月1日時点の対象３区分合計のいずれか少ない方を基準とする。
A14: ※３ 対象３区分＝高度急性期、急性期、慢性期（以下同様） | K14: C22セル～F22セルの入力チェックで使用
K15: 各機能別 融通数整合性ﾁｪｯｸ | M15: 高度急性期 | N15: 急性期 | O15: 回復期 | P15: 慢性期 | Q15: 休棟 | R15: 合計
A16: 2 | B16: 統合後の許可病床数 （＝統合後の稼働病床数） | C16: 高度急性期 | D16: 急性期 | E16: 回復期 | F16: 慢性期 | G16: 休棟 | H16: 合計 | S16: 対象３区分
I17: うち対象３区分の合計 | M17: =C18-C11 -> 0 | N17: =D18-D11 -> 0 | O17: =E18-E11 -> 0 | P17: =F18-F11 -> 0 | Q17: =G18-G11 -> 0 | R17: =H18-H11 -> 0 | S17: =I18-I11 -> 0
G18: 0 | H18: =SUM(C18:G18) -> 0 | I18: =SUM(C18,D18,F18) -> 0 | K18: 機能別 | L18: 最小値 | M18: =IF(M17>0,M17*-1,0) -> 0 | N18: =IF(N17>0,N17*-1,0) -> 0 | O18: =IF(O17>0,O17*-1,0) -> 0 | P18: =IF(P17>0,P17*-1,0) -> 0 | S18: =IF(S17>0,S17*-1,0) -> 0
L19: 最大値 | M19: =IF(M17<0,M17*-1,0) -> 0 | N19: =IF(N17<0,N17*-1,0) -> 0 | O19: =IF(O17<0,O17*-1,0) -> 0 | P19: =IF(P17<0,P17*-1,0) -> 0 | S19: =IF(S17<0,S17*-1,0) -> 0
A20: 3 | B20: 他の統合関係医療機関との 病床融通数（※４） | C20: 高度急性期 | D20: 急性期 | E20: 回復期 | F20: 慢性期 | G20: 対象３区分の合計
G22: =SUM(C22,D22,F22) -> 0
A23: ※４ 他の統合関係医療機関から病床の融通を受けた場合はマイナス表記、病床を融通した場合はプラス表記とすること。 | K23: D26セルの入力チェックで参照 | P23: C26セルの回復期の値
K24: 介護転換整合性 チェック | M24: ３区分の減少数 | N24: ←のうち融通数 | O24: 転換可能最大数 | P24: 回復期への 転換数算出 （①又は②の小さい方）
A25: 4 | B25: 対象３区分から 回復期又は介護医療院へ 転換した病床数 | C25: 回復期 | D25: 介護医療院 | E25: 合計 | M25: A | N25: B | O25: C（A-B） | R25: ① | S25: ②
C26: =IF(E11<E18,P27,0) -> 0 | E26: =SUM(C26:D26) -> 0 | M26: 前3区-後3区 | N26: 融通3区 | O26: 前3-後3-融3 | R26: 転換可能数-介 | S26: 後回+移回-前回
M27: =I11-I18 -> 0 | N27: =G22 -> 0 | O27: =IF(M27>N27,M27-N27,0) -> 0 | P27: =MIN(R27:S27) -> 0 | R27: =O27-D26 -> 0 | S27: =E18+E22-E11 -> 0
A28: 5 | B28: 減少病床数 （1の③－2） | C28: 高度急性期 | D28: 急性期 | E28: 回復期 | F28: 慢性期 | G28: 休棟等 | H28: 合計
I29: うち対象３区分の合計
C30: =C11-C18 -> 0 | D30: =D11-D18 -> 0 | E30: =E11-E18 -> 0 | F30: =F11-F18 -> 0 | G30: =G11-G18 -> 0 | H30: =SUM(C30:G30) -> 0 | I30: =C30+D30+F30 -> 0
F32: 5.減少数 | G32: 4.うち転換数 | H32: 3.うち他院への 融通数 | I32: 支給対象
F33: =I30 -> 0 | G33: =E26 -> 0 | H33: =G22 -> 0 | I33: =IF(F33-G33-H33<0,0,F33-G33-H33) -> 0
I34: ※対象３区分の病床融通数または転換病床数に誤りがあります。
A35: 6 | B35: 統合前の許可病床数 | C35: 高度急性期 | D35: 急性期 | E35: 回復期 | F35: 慢性期 | G35: 休棟 | H35: 合計
I36: うち対象３区分の合計
B37: ① 平成30年度病床機能報告 | H37: =SUM(C37:G37) -> 0 | I37: =SUM(C37,D37,F37) -> 0
B38: ② 令和２年４月１日時点（※５） | H38: =SUM(C38:G38) -> 0 | I38: =SUM(C38,D38,F38) -> 0
A39: ※5 平成30年度病床機能報告から令和2年4月1日までの間に、病床数の変更がない場合は、①と同じ値を記載すること。 | M39: D56セルの病床数算出で参照
M40: ↓ | N40: C56セルの単価算出で参照 | Q40: C56セルの単価算出で参照
A41: 7 | B41: 対象３区分の病棟の 年間在棟患者延べ数（人） | C41: 高度急性期 | D41: 急性期 | E41: 慢性期 | F41: 合計 | M41: 適用一日平均 実働病床数 | N41: 適用病床稼働率 | Q41: 病床稼働率 | S41: １床あたり単価
B42: ① 平成30年度病床機能報告（※６） | F42: =SUM(C42:E42) -> 0 | M42: =IF(AND(I37<>I38,H53="Ｂ"),E53,E52) -> 0 | N42: =IF(AND(I37<>I38,H53="Ｂ"),C53,C52) -> 0 | Q42: 0 | R42: 50%未満 | S42: 1140
B43: ② 令和2年4月1日時点（※７） | F43: =SUM(C43:E43) -> 0 | Q43: 0.5 | R43: 60％未満 | S43: 1368
A44: ※６ 対象３区分の病棟に係る平成30年度病床機能報告の報告様式１（病棟票）の（48）欄の数値を計上すること。 なお、平成30年度病床機能報告の報告様式１（病棟票）において、「過去１年間の間に病棟の再編・見直しあり」と報告した病棟の年間在棟患者延べ数については、以下の式により補正して計上すること。 ○ 補正後の年間在棟患者延べ数＝年間在棟患者延べ数（（48）欄に記載された数値）÷報告可能な対象期間（月単位）×１２ （注） 報告可能な対象期間（月単位）は、平成30年度病床機能報告で報告した月数とすること。 例） 報告可能な対象期間を「平成29年7月1日～平成30年12月末日」とした場合 ⇒ 報告可能な対象期間（月単位）＝６ | Q44: 0.6 | R44: 70％未満 | S44: 1596
...

Sheet 支給申請額算定シート（Ⅴ．統合関係医療機関）
A1: ■支給申請額算定シート
A2: 番号 | B2: 統合関係医療機関の名称 | C2: 開設者氏名 | G2: 統合関係医療機関の住所・所在地
A3: Ⅴ
B4: 構想区域 | C4: 統合後の状況
A7: 1 | B7: 統合前の稼働病床数 | C7: 高度急性期 | D7: 急性期 | E7: 回復期 | F7: 慢性期 | G7: 休棟等 | H7: 合計
I8: うち対象３区分（※３）の合計 | K8: C11セル～I11セルで参照
B9: ① 平成30年度病床機能報告 | H9: =SUM(C9:G9) -> 0 | I9: =SUM(C9,D9,F9) -> 0 | K9: 対象３区分のうち ①と②の小さい方
B10: ② 令和2年4月1日時点（※１） | H10: =SUM(C10:G10) -> 0 | I10: =SUM(C10,D10,F10) -> 0
B11: ="③ 統合前病床数＝"&$K11&" （※２）" -> ③ 統合前病床数＝② （※２） | C11: =IF($K11="①",C9,C10) -> 0 | D11: =IF($K11="①",D9,D10) -> 0 | E11: =IF($K11="①",E9,E10) -> 0 | F11: =IF($K11="①",F9,F10) -> 0 | G11: =IF($K11="①",G9,G10) -> 0 | H11: =SUM(C11:G11) -> 0 | I11: =SUM(C11,D11,F11) -> 0 | K11: =IF(I9<I10,"①","②") -> ②
A12: ※１ 各機能ごとの数値については、地域医療構想調整会議にて確認されていること。 令和2年4月1日時点で病床数の変化があった場合は、変更前の病床数を記載すること。 平成30年度病床機能報告から令和2年4月1日までの間に、病床数の変更がない場合は、①と同じ値を記載すること。
A13: ※２ ①平成30年度病床機能報告時又は②令和2年4月1日時点の対象３区分合計のいずれか少ない方を基準とする。
A14: ※３ 対象３区分＝高度急性期、急性期、慢性期（以下同様） | K14: C22セル～F22セルの入力チェックで使用
K15: 各機能別 融通数整合性ﾁｪｯｸ | M15: 高度急性期 | N15: 急性期 | O15: 回復期 | P15: 慢性期 | Q15: 休棟 | R15: 合計
A16: 2 | B16: 統合後の許可病床数 （＝統合後の稼働病床数） | C16: 高度急性期 | D16: 急性期 | E16: 回復期 | F16: 慢性期 | G16: 休棟 | H16: 合計 | S16: 対象３区分
I17: うち対象３区分の合計 | M17: =C18-C11 -> 0 | N17: =D18-D11 -> 0 | O17: =E18-E11 -> 0 | P17: =F18-F11 -> 0 | Q17: =G18-G11 -> 0 | R17: =H18-H11 -> 0 | S17: =I18-I11 -> 0
G18: 0 | H18: =SUM(C18:G18) -> 0 | I18: =SUM(C18,D18,F18) -> 0 | K18: 機能別 | L18: 最小値 | M18: =IF(M17>0,M17*-1,0) -> 0 | N18: =IF(N17>0,N17*-1,0) -> 0 | O18: =IF(O17>0,O17*-1,0) -> 0 | P18: =IF(P17>0,P17*-1,0) -> 0 | S18: =IF(S17>0,S17*-1,0) -> 0
L19: 最大値 | M19: =IF(M17<0,M17*-1,0) -> 0 | N19: =IF(N17<0,N17*-1,0) -> 0 | O19: =IF(O17<0,O17*-1,0) -> 0 | P19: =IF(P17<0,P17*-1,0) -> 0 | S19: =IF(S17<0,S17*-1,0) -> 0
A20: 3 | B20: 他の統合関係医療機関との 病床融通数（※４） | C20: 高度急性期 | D20: 急性期 | E20: 回復期 | F20: 慢性期 | G20: 対象３区分の合計
G22: =SUM(C22,D22,F22) -> 0
A23: ※４ 他の統合関係医療機関から病床の融通を受けた場合はマイナス表記、病床を融通した場合はプラス表記とすること。 | K23: D26セルの入力チェックで参照 | P23: C26セルの回復期の値
K24: 介護転換整合性 チェック | M24: ３区分の減少数 | N24: ←のうち融通数 | O24: 転換可能最大数 | P24: 回復期への 転換数算出 （①又は②の小さい方）
A25: 4 | B25: 対象３区分から 回復期又は介護医療院へ 転換した病床数 | C25: 回復期 | D25: 介護医療院 | E25: 合計 | M25: A | N25: B | O25: C（A-B） | R25: ① | S25: ②
C26: =IF(E11<E18,P27,0) -> 0 | E26: =SUM(C26:D26) -> 0 | M26: 前3区-後3区 | N26: 融通3区 | O26: 前3-後3-融3 | R26: 転換可能数-介 | S26: 後回+移回-前回
M27: =I11-I18 -> 0 | N27: =G22 -> 0 | O27: =IF(M27>N27,M27-N27,0) -> 0 | P27: =MIN(R27:S27) -> 0 | R27: =O27-D26 -> 0 | S27: =E18+E22-E11 -> 0
A28: 5 | B28: 減少病床数 （1の③－2） | C28: 高度急性期 | D28: 急性期 | E28: 回復期 | F28: 慢性期 | G28: 休棟等 | H28: 合計
I29: うち対象３区分の合計
C30: =C11-C18 -> 0 | D30: =D11-D18 -> 0 | E30: =E11-E18 -> 0 | F30: =F11-F18 -> 0 | G30: =G11-G18 -> 0 | H30: =SUM(C30:G30) -> 0 | I30: =C30+D30+F30 -> 0
F32: 5.減少数 | G32: 4.うち転換数 | H32: 3.うち他院への 融通数 | I32: 支給対象
F33: =I30 -> 0 | G33: =E26 -> 0 | H33: =G22 -> 0 | I33: =IF(F33-G33-H33<0,0,F33-G33-H33) -> 0
I34: ※対象３区分の病床融通数または転換病床数に誤りがあります。
A35: 6 | B35: 統合前の許可病床数 | C35: 高度急性期 | D35: 急性期 | E35: 回復期 | F35: 慢性期 | G35: 休棟 | H35: 合計
I36: うち対象３区分の合計
B37: ① 平成30年度病床機能報告 | H37: =SUM(C37:G37) -> 0 | I37: =SUM(C37,D37,F37) -> 0
B38: ② 令和２年４月１日時点（※５） | H38: =SUM(C38:G38) -> 0 | I38: =SUM(C38,D38,F38) -> 0
A39: ※5 平成30年度病床機能報告から令和2年4月1日までの間に、病床数の変更がない場合は、①と同じ値を記載すること。 | M39: D56セルの病床数算出で参照
M40: ↓ | N40: C56セルの単価算出で参照 | Q40: C56セルの単価算出で参照
A41: 7 | B41: 対象３区分の病棟の 年間在棟患者延べ数（人） | C41: 高度急性期 | D41: 急性期 | E41: 慢性期 | F41: 合計 | M41: 適用一日平均 実働病床数 | N41: 適用病床稼働率 | Q41: 病床稼働率 | S41: １床あたり単価
B42: ① 平成30年度病床機能報告（※６） | F42: =SUM(C42:E42) -> 0 | M42: =IF(AND(I37<>I38,H53="Ｂ"),E53,E52) -> 0 | N42: =IF(AND(I37<>I38,H53="Ｂ"),C53,C52) -> 0 | Q42: 0 | R42: 50%未満 | S42: 1140
B43: ② 令和2年4月1日時点（※７） | F43: =SUM(C43:E43) -> 0 | Q43: 0.5 | R43: 60％未満 | S43: 1368
A44: ※６ 対象３区分の病棟に係る平成30年度病床機能報告の報告様式１（病棟票）の（48）欄の数値を計上すること。 なお、平成30年度病床機能報告の報告様式１（病棟票）において、「過去１年間の間に病棟の再編・見直しあり」と報告した病棟の年間在棟患者延べ数については、以下の式により補正して計上すること。 ○ 補正後の年間在棟患者延べ数＝年間在棟患者延べ数（（48）欄に記載された数値）÷報告可能な対象期間（月単位）×１２ （注） 報告可能な対象期間（月単位）は、平成30年度病床機能報告で報告した月数とすること。 例） 報告可能な対象期間を「平成29年7月1日～平成30年12月末日」とした場合 ⇒ 報告可能な対象期間（月単位）＝６ | Q44: 0.6 | R44: 70％未満 | S44: 1596
...

Sheet 支給申請額算定シート（Ⅵ．統合関係医療機関）
A1: ■支給申請額算定シート
A2: 番号 | B2: 統合関係医療機関の名称 | C2: 開設者氏名 | G2: 統合関係医療機関の住所・所在地
A3: Ⅵ
B4: 構想区域 | C4: 統合後の状況
A7: 1 | B7: 統合前の稼働病床数 | C7: 高度急性期 | D7: 急性期 | E7: 回復期 | F7: 慢性期 | G7: 休棟等 | H7: 合計
I8: うち対象３区分（※３）の合計 | K8: C11セル～I11セルで参照
B9: ① 平成30年度病床機能報告 | H9: =SUM(C9:G9) -> 0 | I9: =SUM(C9,D9,F9) -> 0 | K9: 対象３区分のうち ①と②の小さい方
B10: ② 令和2年4月1日時点（※１） | H10: =SUM(C10:G10) -> 0 | I10: =SUM(C10,D10,F10) -> 0
B11: ="③ 統合前病床数＝"&$K11&" （※２）" -> ③ 統合前病床数＝② （※２） | C11: =IF($K11="①",C9,C10) -> 0 | D11: =IF($K11="①",D9,D10) -> 0 | E11: =IF($K11="①",E9,E10) -> 0 | F11: =IF($K11="①",F9,F10) -> 0 | G11: =IF($K11="①",G9,G10) -> 0 | H11: =SUM(C11:G11) -> 0 | I11: =SUM(C11,D11,F11) -> 0 | K11: =IF(I9<I10,"①","②") -> ②
A12: ※１ 各機能ごとの数値については、地域医療構想調整会議にて確認されていること。 令和2年4月1日時点で病床数の変化があった場合は、変更前の病床数を記載すること。 平成30年度病床機能報告から令和2年4月1日までの間に、病床数の変更がない場合は、①と同じ値を記載すること。
A13: ※２ ①平成30年度病床機能報告時又は②令和2年4月1日時点の対象３区分合計のいずれか少ない方を基準とする。
A14: ※３ 対象３区分＝高度急性期、急性期、慢性期（以下同様） | K14: C22セル～F22セルの入力チェックで使用
K15: 各機能別 融通数整合性ﾁｪｯｸ | M15: 高度急性期 | N15: 急性期 | O15: 回復期 | P15: 慢性期 | Q15: 休棟 | R15: 合計
A16: 2 | B16: 統合後の許可病床数 （＝統合後の稼働病床数） | C16: 高度急性期 | D16: 急性期 | E16: 回復期 | F16: 慢性期 | G16: 休棟 | H16: 合計 | S16: 対象３区分
I17: うち対象３区分の合計 | M17: =C18-C11 -> 0 | N17: =D18-D11 -> 0 | O17: =E18-E11 -> 0 | P17: =F18-F11 -> 0 | Q17: =G18-G11 -> 0 | R17: =H18-H11 -> 0 | S17: =I18-I11 -> 0
G18: 0 | H18: =SUM(C18:G18) -> 0 | I18: =SUM(C18,D18,F18) -> 0 | K18: 機能別 | L18: 最小値 | M18: =IF(M17>0,M17*-1,0) -> 0 | N18: =IF(N17>0,N17*-1,0) -> 0 | O18: =IF(O17>0,O17*-1,0) -> 0 | P18: =IF(P17>0,P17*-1,0) -> 0 | S18: =IF(S17>0,S17*-1,0) -> 0
L19: 最大値 | M19: =IF(M17<0,M17*-1,0) -> 0 | N19: =IF(N17<0,N17*-1,0) -> 0 | O19: =IF(O17<0,O17*-1,0) -> 0 | P19: =IF(P17<0,P17*-1,0) -> 0 | S19: =IF(S17<0,S17*-1,0) -> 0
A20: 3 | B20: 他の統合関係医療機関との 病床融通数（※４） | C20: 高度急性期 | D20: 急性期 | E20: 回復期 | F20: 慢性期 | G20: 対象３区分の合計
G22: =SUM(C22,D22,F22) -> 0
A23: ※４ 他の統合関係医療機関から病床の融通を受けた場合はマイナス表記、病床を融通した場合はプラス表記とすること。 | K23: D26セルの入力チェックで参照 | P23: C26セルの回復期の値
K24: 介護転換整合性 チェック | M24: ３区分の減少数 | N24: ←のうち融通数 | O24: 転換可能最大数 | P24: 回復期への 転換数算出 （①又は②の小さい方）
A25: 4 | B25: 対象３区分から 回復期又は介護医療院へ 転換した病床数 | C25: 回復期 | D25: 介護医療院 | E25: 合計 | M25: A | N25: B | O25: C（A-B） | R25: ① | S25: ②
C26: =IF(E11<E18,P27,0) -> 0 | E26: =SUM(C26:D26) -> 0 | M26: 前3区-後3区 | N26: 融通3区 | O26: 前3-後3-融3 | R26: 転換可能数-介 | S26: 後回+移回-前回
M27: =I11-I18 -> 0 | N27: =G22 -> 0 | O27: =IF(M27>N27,M27-N27,0) -> 0 | P27: =MIN(R27:S27) -> 0 | R27: =O27-D26 -> 0 | S27: =E18+E22-E11 -> 0
A28: 5 | B28: 減少病床数 （1の③－2） | C28: 高度急性期 | D28: 急性期 | E28: 回復期 | F28: 慢性期 | G28: 休棟等 | H28: 合計
I29: うち対象３区分の合計
C30: =C11-C18 -> 0 | D30: =D11-D18 -> 0 | E30: =E11-E18 -> 0 | F30: =F11-F18 -> 0 | G30: =G11-G18 -> 0 | H30: =SUM(C30:G30) -> 0 | I30: =C30+D30+F30 -> 0
F32: 5.減少数 | G32: 4.うち転換数 | H32: 3.うち他院への 融通数 | I32: 支給対象
F33: =I30 -> 0 | G33: =E26 -> 0 | H33: =G22 -> 0 | I33: =IF(F33-G33-H33<0,0,F33-G33-H33) -> 0
I34: ※対象３区分の病床融通数または転換病床数に誤りがあります。
A35: 6 | B35: 統合前の許可病床数 | C35: 高度急性期 | D35: 急性期 | E35: 回復期 | F35: 慢性期 | G35: 休棟 | H35: 合計
I36: うち対象３区分の合計
B37: ① 平成30年度病床機能報告 | H37: =SUM(C37:G37) -> 0 | I37: =SUM(C37,D37,F37) -> 0
B38: ② 令和２年４月１日時点（※５） | H38: =SUM(C38:G38) -> 0 | I38: =SUM(C38,D38,F38) -> 0
A39: ※5 平成30年度病床機能報告から令和2年4月1日までの間に、病床数の変更がない場合は、①と同じ値を記載すること。 | M39: D56セルの病床数算出で参照
M40: ↓ | N40: C56セルの単価算出で参照 | Q40: C56セルの単価算出で参照
A41: 7 | B41: 対象３区分の病棟の 年間在棟患者延べ数（人） | C41: 高度急性期 | D41: 急性期 | E41: 慢性期 | F41: 合計 | M41: 適用一日平均 実働病床数 | N41: 適用病床稼働率 | Q41: 病床稼働率 | S41: １床あたり単価
B42: ① 平成30年度病床機能報告（※６） | F42: =SUM(C42:E42) -> 0 | M42: =IF(AND(I37<>I38,H53="Ｂ"),E53,E52) -> 0 | N42: =IF(AND(I37<>I38,H53="Ｂ"),C53,C52) -> 0 | Q42: 0 | R42: 50%未満 | S42: 1140
B43: ② 令和2年4月1日時点（※７） | F43: =SUM(C43:E43) -> 0 | Q43: 0.5 | R43: 60％未満 | S43: 1368
A44: ※６ 対象３区分の病棟に係る平成30年度病床機能報告の報告様式１（病棟票）の（48）欄の数値を計上すること。 なお、平成30年度病床機能報告の報告様式１（病棟票）において、「過去１年間の間に病棟の再編・見直しあり」と報告した病棟の年間在棟患者延べ数については、以下の式により補正して計上すること。 ○ 補正後の年間在棟患者延べ数＝年間在棟患者延べ数（（48）欄に記載された数値）÷報告可能な対象期間（月単位）×１２ （注） 報告可能な対象期間（月単位）は、平成30年度病床機能報告で報告した月数とすること。 例） 報告可能な対象期間を「平成29年7月1日～平成30年12月末日」とした場合 ⇒ 報告可能な対象期間（月単位）＝６ | Q44: 0.6 | R44: 70％未満 | S44: 1596
...

Sheet 支給申請額算定シート（Ⅶ．統合関係医療機関）
A1: ■支給申請額算定シート
A2: 番号 | B2: 統合関係医療機関の名称 | C2: 開設者氏名 | G2: 統合関係医療機関の住所・所在地
A3: Ⅶ
B4: 構想区域 | C4: 統合後の状況
A7: 1 | B7: 統合前の稼働病床数 | C7: 高度急性期 | D7: 急性期 | E7: 回復期 | F7: 慢性期 | G7: 休棟等 | H7: 合計
I8: うち対象３区分（※３）の合計 | K8: C11セル～I11セルで参照
B9: ① 平成30年度病床機能報告 | H9: =SUM(C9:G9) -> 0 | I9: =SUM(C9,D9,F9) -> 0 | K9: 対象３区分のうち ①と②の小さい方
B10: ② 令和2年4月1日時点（※１） | H10: =SUM(C10:G10) -> 0 | I10: =SUM(C10,D10,F10) -> 0
B11: ="③ 統合前病床数＝"&$K11&" （※２）" -> ③ 統合前病床数＝② （※２） | C11: =IF($K11="①",C9,C10) -> 0 | D11: =IF($K11="①",D9,D10) -> 0 | E11: =IF($K11="①",E9,E10) -> 0 | F11: =IF($K11="①",F9,F10) -> 0 | G11: =IF($K11="①",G9,G10) -> 0 | H11: =SUM(C11:G11) -> 0 | I11: =SUM(C11,D11,F11) -> 0 | K11: =IF(I9<I10,"①","②") -> ②
A12: ※１ 各機能ごとの数値については、地域医療構想調整会議にて確認されていること。 令和2年4月1日時点で病床数の変化があった場合は、変更前の病床数を記載すること。 平成30年度病床機能報告から令和2年4月1日までの間に、病床数の変更がない場合は、①と同じ値を記載すること。
A13: ※２ ①平成30年度病床機能報告時又は②令和2年4月1日時点の対象３区分合計のいずれか少ない方を基準とする。
A14: ※３ 対象３区分＝高度急性期、急性期、慢性期（以下同様） | K14: C22セル～F22セルの入力チェックで使用
K15: 各機能別 融通数整合性ﾁｪｯｸ | M15: 高度急性期 | N15: 急性期 | O15: 回復期 | P15: 慢性期 | Q15: 休棟 | R15: 合計
A16: 2 | B16: 統合後の許可病床数 （＝統合後の稼働病床数） | C16: 高度急性期 | D16: 急性期 | E16: 回復期 | F16: 慢性期 | G16: 休棟 | H16: 合計 | S16: 対象３区分
I17: うち対象３区分の合計 | M17: =C18-C11 -> 0 | N17: =D18-D11 -> 0 | O17: =E18-E11 -> 0 | P17: =F18-F11 -> 0 | Q17: =G18-G11 -> 0 | R17: =H18-H11 -> 0 | S17: =I18-I11 -> 0
G18: 0 | H18: =SUM(C18:G18) -> 0 | I18: =SUM(C18,D18,F18) -> 0 | K18: 機能別 | L18: 最小値 | M18: =IF(M17>0,M17*-1,0) -> 0 | N18: =IF(N17>0,N17*-1,0) -> 0 | O18: =IF(O17>0,O17*-1,0) -> 0 | P18: =IF(P17>0,P17*-1,0) -> 0 | S18: =IF(S17>0,S17*-1,0) -> 0
L19: 最大値 | M19: =IF(M17<0,M17*-1,0) -> 0 | N19: =IF(N17<0,N17*-1,0) -> 0 | O19: =IF(O17<0,O17*-1,0) -> 0 | P19: =IF(P17<0,P17*-1,0) -> 0 | S19: =IF(S17<0,S17*-1,0) -> 0
A20: 3 | B20: 他の統合関係医療機関との 病床融通数（※４） | C20: 高度急性期 | D20: 急性期 | E20: 回復期 | F20: 慢性期 | G20: 対象３区分の合計
G22: =SUM(C22,D22,F22) -> 0
A23: ※４ 他の統合関係医療機関から病床の融通を受けた場合はマイナス表記、病床を融通した場合はプラス表記とすること。 | K23: D26セルの入力チェックで参照 | P23: C26セルの回復期の値
K24: 介護転換整合性 チェック | M24: ３区分の減少数 | N24: ←のうち融通数 | O24: 転換可能最大数 | P24: 回復期への 転換数算出 （①又は②の小さい方）
A25: 4 | B25: 対象３区分から 回復期又は介護医療院へ 転換した病床数 | C25: 回復期 | D25: 介護医療院 | E25: 合計 | M25: A | N25: B | O25: C（A-B） | R25: ① | S25: ②
C26: =IF(E11<E18,P27,0) -> 0 | E26: =SUM(C26:D26) -> 0 | M26: 前3区-後3区 | N26: 融通3区 | O26: 前3-後3-融3 | R26: 転換可能数-介 | S26: 後回+移回-前回
M27: =I11-I18 -> 0 | N27: =G22 -> 0 | O27: =IF(M27>N27,M27-N27,0) -> 0 | P27: =MIN(R27:S27) -> 0 | R27: =O27-D26 -> 0 | S27: =E18+E22-E11 -> 0
A28: 5 | B28: 減少病床数 （1の③－2） | C28: 高度急性期 | D28: 急性期 | E28: 回復期 | F28: 慢性期 | G28: 休棟等 | H28: 合計
I29: うち対象３区分の合計
C30: =C11-C18 -> 0 | D30: =D11-D18 -> 0 | E30: =E11-E18 -> 0 | F30: =F11-F18 -> 0 | G30: =G11-G18 -> 0 | H30: =SUM(C30:G30) -> 0 | I30: =C30+D30+F30 -> 0
F32: 5.減少数 | G32: 4.うち転換数 | H32: 3.うち他院への 融通数 | I32: 支給対象
F33: =I30 -> 0 | G33: =E26 -> 0 | H33: =G22 -> 0 | I33: =IF(F33-G33-H33<0,0,F33-G33-H33) -> 0
I34: ※対象３区分の病床融通数または転換病床数に誤りがあります。
A35: 6 | B35: 統合前の許可病床数 | C35: 高度急性期 | D35: 急性期 | E35: 回復期 | F35: 慢性期 | G35: 休棟 | H35: 合計
I36: うち対象３区分の合計
B37: ① 平成30年度病床機能報告 | H37: =SUM(C37:G37) -> 0 | I37: =SUM(C37,D37,F37) -> 0
B38: ② 令和２年４月１日時点（※５） | H38: =SUM(C38:G38) -> 0 | I38: =SUM(C38,D38,F38) -> 0
A39: ※5 平成30年度病床機能報告から令和2年4月1日までの間に、病床数の変更がない場合は、①と同じ値を記載すること。 | M39: D56セルの病床数算出で参照
M40: ↓ | N40: C56セルの単価算出で参照 | Q40: C56セルの単価算出で参照
A41: 7 | B41: 対象３区分の病棟の 年間在棟患者延べ数（人） | C41: 高度急性期 | D41: 急性期 | E41: 慢性期 | F41: 合計 | M41: 適用一日平均 実働病床数 | N41: 適用病床稼働率 | Q41: 病床稼働率 | S41: １床あたり単価
B42: ① 平成30年度病床機能報告（※６） | F42: =SUM(C42:E42) -> 0 | M42: =IF(AND(I37<>I38,H53="Ｂ"),E53,E52) -> 0 | N42: =IF(AND(I37<>I38,H53="Ｂ"),C53,C52) -> 0 | Q42: 0 | R42: 50%未満 | S42: 1140
B43: ② 令和2年4月1日時点（※７） | F43: =SUM(C43:E43) -> 0 | Q43: 0.5 | R43: 60％未満 | S43: 1368
A44: ※６ 対象３区分の病棟に係る平成30年度病床機能報告の報告様式１（病棟票）の（48）欄の数値を計上すること。 なお、平成30年度病床機能報告の報告様式１（病棟票）において、「過去１年間の間に病棟の再編・見直しあり」と報告した病棟の年間在棟患者延べ数については、以下の式により補正して計上すること。 ○ 補正後の年間在棟患者延べ数＝年間在棟患者延べ数（（48）欄に記載された数値）÷報告可能な対象期間（月単位）×１２ （注） 報告可能な対象期間（月単位）は、平成30年度病床機能報告で報告した月数とすること。 例） 報告可能な対象期間を「平成29年7月1日～平成30年12月末日」とした場合 ⇒ 報告可能な対象期間（月単位）＝６ | Q44: 0.6 | R44: 70％未満 | S44: 1596
...

Sheet 支給申請額算定シート（Ⅷ．統合関係医療機関）
A1: ■支給申請額算定シート
A2: 番号 | B2: 統合関係医療機関の名称 | C2: 開設者氏名 | G2: 統合関係医療機関の住所・所在地
A3: Ⅷ
B4: 構想区域 | C4: 統合後の状況
A7: 1 | B7: 統合前の稼働病床数 | C7: 高度急性期 | D7: 急性期 | E7: 回復期 | F7: 慢性期 | G7: 休棟等 | H7: 合計
I8: うち対象３区分（※３）の合計 | K8: C11セル～I11セルで参照
B9: ① 平成30年度病床機能報告 | H9: =SUM(C9:G9) -> 0 | I9: =SUM(C9,D9,F9) -> 0 | K9: 対象３区分のうち ①と②の小さい方
B10: ② 令和2年4月1日時点（※１） | H10: =SUM(C10:G10) -> 0 | I10: =SUM(C10,D10,F10) -> 0
B11: ="③ 統合前病床数＝"&$K11&" （※２）" -> ③ 統合前病床数＝② （※２） | C11: =IF($K11="①",C9,C10) -> 0 | D11: =IF($K11="①",D9,D10) -> 0 | E11: =IF($K11="①",E9,E10) -> 0 | F11: =IF($K11="①",F9,F10) -> 0 | G11: =IF($K11="①",G9,G10) -> 0 | H11: =SUM(C11:G11) -> 0 | I11: =SUM(C11,D11,F11) -> 0 | K11: =IF(I9<I10,"①","②") -> ②
A12: ※１ 各機能ごとの数値については、地域医療構想調整会議にて確認されていること。 令和2年4月1日時点で病床数の変化があった場合は、変更前の病床数を記載すること。 平成30年度病床機能報告から令和2年4月1日までの間に、病床数の変更がない場合は、①と同じ値を記載すること。
A13: ※２ ①平成30年度病床機能報告時又は②令和2年4月1日時点の対象３区分合計のいずれか少ない方を基準とする。
A14: ※３ 対象３区分＝高度急性期、急性期、慢性期（以下同様） | K14: C22セル～F22セルの入力チェックで使用
K15: 各機能別 融通数整合性ﾁｪｯｸ | M15: 高度急性期 | N15: 急性期 | O15: 回復期 | P15: 慢性期 | Q15: 休棟 | R15: 合計
A16: 2 | B16: 統合後の許可病床数 （＝統合後の稼働病床数） | C16: 高度急性期 | D16: 急性期 | E16: 回復期 | F16: 慢性期 | G16: 休棟 | H16: 合計 | S16: 対象３区分
I17: うち対象３区分の合計 | M17: =C18-C11 -> 0 | N17: =D18-D11 -> 0 | O17: =E18-E11 -> 0 | P17: =F18-F11 -> 0 | Q17: =G18-G11 -> 0 | R17: =H18-H11 -> 0 | S17: =I18-I11 -> 0
G18: 0 | H18: =SUM(C18:G18) -> 0 | I18: =SUM(C18,D18,F18) -> 0 | K18: 機能別 | L18: 最小値 | M18: =IF(M17>0,M17*-1,0) -> 0 | N18: =IF(N17>0,N17*-1,0) -> 0 | O18: =IF(O17>0,O17*-1,0) -> 0 | P18: =IF(P17>0,P17*-1,0) -> 0 | S18: =IF(S17>0,S17*-1,0) -> 0
L19: 最大値 | M19: =IF(M17<0,M17*-1,0) -> 0 | N19: =IF(N17<0,N17*-1,0) -> 0 | O19: =IF(O17<0,O17*-1,0) -> 0 | P19: =IF(P17<0,P17*-1,0) -> 0 | S19: =IF(S17<0,S17*-1,0) -> 0
A20: 3 | B20: 他の統合関係医療機関との 病床融通数（※４） | C20: 高度急性期 | D20: 急性期 | E20: 回復期 | F20: 慢性期 | G20: 対象３区分の合計
G22: =SUM(C22,D22,F22) -> 0
A23: ※４ 他の統合関係医療機関から病床の融通を受けた場合はマイナス表記、病床を融通した場合はプラス表記とすること。 | K23: D26セルの入力チェックで参照 | P23: C26セルの回復期の値
K24: 介護転換整合性 チェック | M24: ３区分の減少数 | N24: ←のうち融通数 | O24: 転換可能最大数 | P24: 回復期への 転換数算出 （①又は②の小さい方）
A25: 4 | B25: 対象３区分から 回復期又は介護医療院へ 転換した病床数 | C25: 回復期 | D25: 介護医療院 | E25: 合計 | M25: A | N25: B | O25: C（A-B） | R25: ① | S25: ②
C26: =IF(E11<E18,P27,0) -> 0 | E26: =SUM(C26:D26) -> 0 | M26: 前3区-後3区 | N26: 融通3区 | O26: 前3-後3-融3 | R26: 転換可能数-介 | S26: 後回+移回-前回
M27: =I11-I18 -> 0 | N27: =G22 -> 0 | O27: =IF(M27>N27,M27-N27,0) -> 0 | P27: =MIN(R27:S27) -> 0 | R27: =O27-D26 -> 0 | S27: =E18+E22-E11 -> 0
A28: 5 | B28: 減少病床数 （1の③－2） | C28: 高度急性期 | D28: 急性期 | E28: 回復期 | F28: 慢性期 | G28: 休棟等 | H28: 合計
I29: うち対象３区分の合計
C30: =C11-C18 -> 0 | D30: =D11-D18 -> 0 | E30: =E11-E18 -> 0 | F30: =F11-F18 -> 0 | G30: =G11-G18 -> 0 | H30: =SUM(C30:G30) -> 0 | I30: =C30+D30+F30 -> 0
F32: 5.減少数 | G32: 4.うち転換数 | H32: 3.うち他院への 融通数 | I32: 支給対象
F33: =I30 -> 0 | G33: =E26 -> 0 | H33: =G22 -> 0 | I33: =IF(F33-G33-H33<0,0,F33-G33-H33) -> 0
I34: ※対象３区分の病床融通数または転換病床数に誤りがあります。
A35: 6 | B35: 統合前の許可病床数 | C35: 高度急性期 | D35: 急性期 | E35: 回復期 | F35: 慢性期 | G35: 休棟 | H35: 合計
I36: うち対象３区分の合計
B37: ① 平成30年度病床機能報告 | H37: =SUM(C37:G37) -> 0 | I37: =SUM(C37,D37,F37) -> 0
B38: ② 令和２年４月１日時点（※５） | H38: =SUM(C38:G38) -> 0 | I38: =SUM(C38,D38,F38) -> 0
A39: ※5 平成30年度病床機能報告から令和2年4月1日までの間に、病床数の変更がない場合は、①と同じ値を記載すること。 | M39: D56セルの病床数算出で参照
M40: ↓ | N40: C56セルの単価算出で参照 | Q40: C56セルの単価算出で参照
A41: 7 | B41: 対象３区分の病棟の 年間在棟患者延べ数（人） | C41: 高度急性期 | D41: 急性期 | E41: 慢性期 | F41: 合計 | M41: 適用一日平均 実働病床数 | N41: 適用病床稼働率 | Q41: 病床稼働率 | S41: １床あたり単価
B42: ① 平成30年度病床機能報告（※６） | F42: =SUM(C42:E42) -> 0 | M42: =IF(AND(I37<>I38,H53="Ｂ"),E53,E52) -> 0 | N42: =IF(AND(I37<>I38,H53="Ｂ"),C53,C52) -> 0 | Q42: 0 | R42: 50%未満 | S42: 1140
B43: ② 令和2年4月1日時点（※７） | F43: =SUM(C43:E43) -> 0 | Q43: 0.5 | R43: 60％未満 | S43: 1368
A44: ※６ 対象３区分の病棟に係る平成30年度病床機能報告の報告様式１（病棟票）の（48）欄の数値を計上すること。 なお、平成30年度病床機能報告の報告様式１（病棟票）において、「過去１年間の間に病棟の再編・見直しあり」と報告した病棟の年間在棟患者延べ数については、以下の式により補正して計上すること。 ○ 補正後の年間在棟患者延べ数＝年間在棟患者延べ数（（48）欄に記載された数値）÷報告可能な対象期間（月単位）×１２ （注） 報告可能な対象期間（月単位）は、平成30年度病床機能報告で報告した月数とすること。 例） 報告可能な対象期間を「平成29年7月1日～平成30年12月末日」とした場合 ⇒ 報告可能な対象期間（月単位）＝６ | Q44: 0.6 | R44: 70％未満 | S44: 1596
...

Sheet 支給申請額算定シート（Ⅸ．統合関係医療機関）
A1: ■支給申請額算定シート
A2: 番号 | B2: 統合関係医療機関の名称 | C2: 開設者氏名 | G2: 統合関係医療機関の住所・所在地
A3: Ⅸ
B4: 構想区域 | C4: 統合後の状況
A7: 1 | B7: 統合前の稼働病床数 | C7: 高度急性期 | D7: 急性期 | E7: 回復期 | F7: 慢性期 | G7: 休棟等 | H7: 合計
I8: うち対象３区分（※３）の合計 | K8: C11セル～I11セルで参照
B9: ① 平成30年度病床機能報告 | H9: =SUM(C9:G9) -> 0 | I9: =SUM(C9,D9,F9) -> 0 | K9: 対象３区分のうち ①と②の小さい方
B10: ② 令和2年4月1日時点（※１） | H10: =SUM(C10:G10) -> 0 | I10: =SUM(C10,D10,F10) -> 0
B11: ="③ 統合前病床数＝"&$K11&" （※２）" -> ③ 統合前病床数＝② （※２） | C11: =IF($K11="①",C9,C10) -> 0 | D11: =IF($K11="①",D9,D10) -> 0 | E11: =IF($K11="①",E9,E10) -> 0 | F11: =IF($K11="①",F9,F10) -> 0 | G11: =IF($K11="①",G9,G10) -> 0 | H11: =SUM(C11:G11) -> 0 | I11: =SUM(C11,D11,F11) -> 0 | K11: =IF(I9<I10,"①","②") -> ②
A12: ※１ 各機能ごとの数値については、地域医療構想調整会議にて確認されていること。 令和2年4月1日時点で病床数の変化があった場合は、変更前の病床数を記載すること。 平成30年度病床機能報告から令和2年4月1日までの間に、病床数の変更がない場合は、①と同じ値を記載すること。
A13: ※２ ①平成30年度病床機能報告時又は②令和2年4月1日時点の対象３区分合計のいずれか少ない方を基準とする。
A14: ※３ 対象３区分＝高度急性期、急性期、慢性期（以下同様） | K14: C22セル～F22セルの入力チェックで使用
K15: 各機能別 融通数整合性ﾁｪｯｸ | M15: 高度急性期 | N15: 急性期 | O15: 回復期 | P15: 慢性期 | Q15: 休棟 | R15: 合計
A16: 2 | B16: 統合後の許可病床数 （＝統合後の稼働病床数） | C16: 高度急性期 | D16: 急性期 | E16: 回復期 | F16: 慢性期 | G16: 休棟 | H16: 合計 | S16: 対象３区分
I17: うち対象３区分の合計 | M17: =C18-C11 -> 0 | N17: =D18-D11 -> 0 | O17: =E18-E11 -> 0 | P17: =F18-F11 -> 0 | Q17: =G18-G11 -> 0 | R17: =H18-H11 -> 0 | S17: =I18-I11 -> 0
G18: 0 | H18: =SUM(C18:G18) -> 0 | I18: =SUM(C18,D18,F18) -> 0 | K18: 機能別 | L18: 最小値 | M18: =IF(M17>0,M17*-1,0) -> 0 | N18: =IF(N17>0,N17*-1,0) -> 0 | O18: =IF(O17>0,O17*-1,0) -> 0 | P18: =IF(P17>0,P17*-1,0) -> 0 | S18: =IF(S17>0,S17*-1,0) -> 0
L19: 最大値 | M19: =IF(M17<0,M17*-1,0) -> 0 | N19: =IF(N17<0,N17*-1,0) -> 0 | O19: =IF(O17<0,O17*-1,0) -> 0 | P19: =IF(P17<0,P17*-1,0) -> 0 | S19: =IF(S17<0,S17*-1,0) -> 0
A20: 3 | B20: 他の統合関係医療機関との 病床融通数（※４） | C20: 高度急性期 | D20: 急性期 | E20: 回復期 | F20: 慢性期 | G20: 対象３区分の合計
G22: =SUM(C22,D22,F22) -> 0
A23: ※４ 他の統合関係医療機関から病床の融通を受けた場合はマイナス表記、病床を融通した場合はプラス表記とすること。 | K23: D26セルの入力チェックで参照 | P23: C26セルの回復期の値
K24: 介護転換整合性 チェック | M24: ３区分の減少数 | N24: ←のうち融通数 | O24: 転換可能最大数 | P24: 回復期への 転換数算出 （①又は②の小さい方）
A25: 4 | B25: 対象３区分から 回復期又は介護医療院へ 転換した病床数 | C25: 回復期 | D25: 介護医療院 | E25: 合計 | M25: A | N25: B | O25: C（A-B） | R25: ① | S25: ②
C26: =IF(E11<E18,P27,0) -> 0 | E26: =SUM(C26:D26) -> 0 | M26: 前3区-後3区 | N26: 融通3区 | O26: 前3-後3-融3 | R26: 転換可能数-介 | S26: 後回+移回-前回
M27: =I11-I18 -> 0 | N27: =G22 -> 0 | O27: =IF(M27>N27,M27-N27,0) -> 0 | P27: =MIN(R27:S27) -> 0 | R27: =O27-D26 -> 0 | S27: =E18+E22-E11 -> 0
A28: 5 | B28: 減少病床数 （1の③－2） | C28: 高度急性期 | D28: 急性期 | E28: 回復期 | F28: 慢性期 | G28: 休棟等 | H28: 合計
I29: うち対象３区分の合計
C30: =C11-C18 -> 0 | D30: =D11-D18 -> 0 | E30: =E11-E18 -> 0 | F30: =F11-F18 -> 0 | G30: =G11-G18 -> 0 | H30: =SUM(C30:G30) -> 0 | I30: =C30+D30+F30 -> 0
F32: 5.減少数 | G32: 4.うち転換数 | H32: 3.うち他院への 融通数 | I32: 支給対象
F33: =I30 -> 0 | G33: =E26 -> 0 | H33: =G22 -> 0 | I33: =IF(F33-G33-H33<0,0,F33-G33-H33) -> 0
I34: ※対象３区分の病床融通数または転換病床数に誤りがあります。
A35: 6 | B35: 統合前の許可病床数 | C35: 高度急性期 | D35: 急性期 | E35: 回復期 | F35: 慢性期 | G35: 休棟 | H35: 合計
I36: うち対象３区分の合計
B37: ① 平成30年度病床機能報告 | H37: =SUM(C37:G37) -> 0 | I37: =SUM(C37,D37,F37) -> 0
B38: ② 令和２年４月１日時点（※５） | H38: =SUM(C38:G38) -> 0 | I38: =SUM(C38,D38,F38) -> 0
A39: ※5 平成30年度病床機能報告から令和2年4月1日までの間に、病床数の変更がない場合は、①と同じ値を記載すること。 | M39: D56セルの病床数算出で参照
M40: ↓ | N40: C56セルの単価算出で参照 | Q40: C56セルの単価算出で参照
A41: 7 | B41: 対象３区分の病棟の 年間在棟患者延べ数（人） | C41: 高度急性期 | D41: 急性期 | E41: 慢性期 | F41: 合計 | M41: 適用一日平均 実働病床数 | N41: 適用病床稼働率 | Q41: 病床稼働率 | S41: １床あたり単価
B42: ① 平成30年度病床機能報告（※６） | F42: =SUM(C42:E42) -> 0 | M42: =IF(AND(I37<>I38,H53="Ｂ"),E53,E52) -> 0 | N42: =IF(AND(I37<>I38,H53="Ｂ"),C53,C52) -> 0 | Q42: 0 | R42: 50%未満 | S42: 1140
B43: ② 令和2年4月1日時点（※７） | F43: =SUM(C43:E43) -> 0 | Q43: 0.5 | R43: 60％未満 | S43: 1368
A44: ※６ 対象３区分の病棟に係る平成30年度病床機能報告の報告様式１（病棟票）の（48）欄の数値を計上すること。 なお、平成30年度病床機能報告の報告様式１（病棟票）において、「過去１年間の間に病棟の再編・見直しあり」と報告した病棟の年間在棟患者延べ数については、以下の式により補正して計上すること。 ○ 補正後の年間在棟患者延べ数＝年間在棟患者延べ数（（48）欄に記載された数値）÷報告可能な対象期間（月単位）×１２ （注） 報告可能な対象期間（月単位）は、平成30年度病床機能報告で報告した月数とすること。 例） 報告可能な対象期間を「平成29年7月1日～平成30年12月末日」とした場合 ⇒ 報告可能な対象期間（月単位）＝６ | Q44: 0.6 | R44: 70％未満 | S44: 1596
...

Sheet 支給申請額算定シート（Ⅹ．統合関係医療機関）
A1: ■支給申請額算定シート
A2: 番号 | B2: 統合関係医療機関の名称 | C2: 開設者氏名 | G2: 統合関係医療機関の住所・所在地
A3: Ⅹ
B4: 構想区域 | C4: 統合後の状況
A7: 1 | B7: 統合前の稼働病床数 | C7: 高度急性期 | D7: 急性期 | E7: 回復期 | F7: 慢性期 | G7: 休棟等 | H7: 合計
I8: うち対象３区分（※３）の合計 | K8: C11セル～I11セルで参照
B9: ① 平成30年度病床機能報告 | H9: =SUM(C9:G9) -> 0 | I9: =SUM(C9,D9,F9) -> 0 | K9: 対象３区分のうち ①と②の小さい方
B10: ② 令和2年4月1日時点（※１） | H10: =SUM(C10:G10) -> 0 | I10: =SUM(C10,D10,F10) -> 0
B11: ="③ 統合前病床数＝"&$K11&" （※２）" -> ③ 統合前病床数＝② （※２） | C11: =IF($K11="①",C9,C10) -> 0 | D11: =IF($K11="①",D9,D10) -> 0 | E11: =IF($K11="①",E9,E10) -> 0 | F11: =IF($K11="①",F9,F10) -> 0 | G11: =IF($K11="①",G9,G10) -> 0 | H11: =SUM(C11:G11) -> 0 | I11: =SUM(C11,D11,F11) -> 0 | K11: =IF(I9<I10,"①","②") -> ②
A12: ※１ 各機能ごとの数値については、地域医療構想調整会議にて確認されていること。 令和2年4月1日時点で病床数の変化があった場合は、変更前の病床数を記載すること。 平成30年度病床機能報告から令和2年4月1日までの間に、病床数の変更がない場合は、①と同じ値を記載すること。
A13: ※２ ①平成30年度病床機能報告時又は②令和2年4月1日時点の対象３区分合計のいずれか少ない方を基準とする。
A14: ※３ 対象３区分＝高度急性期、急性期、慢性期（以下同様） | K14: C22セル～F22セルの入力チェックで使用
K15: 各機能別 融通数整合性ﾁｪｯｸ | M15: 高度急性期 | N15: 急性期 | O15: 回復期 | P15: 慢性期 | Q15: 休棟 | R15: 合計
A16: 2 | B16: 統合後の許可病床数 （＝統合後の稼働病床数） | C16: 高度急性期 | D16: 急性期 | E16: 回復期 | F16: 慢性期 | G16: 休棟 | H16: 合計 | S16: 対象３区分
I17: うち対象３区分の合計 | M17: =C18-C11 -> 0 | N17: =D18-D11 -> 0 | O17: =E18-E11 -> 0 | P17: =F18-F11 -> 0 | Q17: =G18-G11 -> 0 | R17: =H18-H11 -> 0 | S17: =I18-I11 -> 0
G18: 0 | H18: =SUM(C18:G18) -> 0 | I18: =SUM(C18,D18,F18) -> 0 | K18: 機能別 | L18: 最小値 | M18: =IF(M17>0,M17*-1,0) -> 0 | N18: =IF(N17>0,N17*-1,0) -> 0 | O18: =IF(O17>0,O17*-1,0) -> 0 | P18: =IF(P17>0,P17*-1,0) -> 0 | S18: =IF(S17>0,S17*-1,0) -> 0
L19: 最大値 | M19: =IF(M17<0,M17*-1,0) -> 0 | N19: =IF(N17<0,N17*-1,0) -> 0 | O19: =IF(O17<0,O17*-1,0) -> 0 | P19: =IF(P17<0,P17*-1,0) -> 0 | S19: =IF(S17<0,S17*-1,0) -> 0
A20: 3 | B20: 他の統合関係医療機関との 病床融通数（※４） | C20: 高度急性期 | D20: 急性期 | E20: 回復期 | F20: 慢性期 | G20: 対象３区分の合計
G22: =SUM(C22,D22,F22) -> 0
A23: ※４ 他の統合関係医療機関から病床の融通を受けた場合はマイナス表記、病床を融通した場合はプラス表記とすること。 | K23: D26セルの入力チェックで参照 | P23: C26セルの回復期の値
K24: 介護転換整合性 チェック | M24: ３区分の減少数 | N24: ←のうち融通数 | O24: 転換可能最大数 | P24: 回復期への 転換数算出 （①又は②の小さい方）
A25: 4 | B25: 対象３区分から 回復期又は介護医療院へ 転換した病床数 | C25: 回復期 | D25: 介護医療院 | E25: 合計 | M25: A | N25: B | O25: C（A-B） | R25: ① | S25: ②
C26: =IF(E11<E18,P27,0) -> 0 | E26: =SUM(C26:D26) -> 0 | M26: 前3区-後3区 | N26: 融通3区 | O26: 前3-後3-融3 | R26: 転換可能数-介 | S26: 後回+移回-前回
M27: =I11-I18 -> 0 | N27: =G22 -> 0 | O27: =IF(M27>N27,M27-N27,0) -> 0 | P27: =MIN(R27:S27) -> 0 | R27: =O27-D26 -> 0 | S27: =E18+E22-E11 -> 0
A28: 5 | B28: 減少病床数 （1の③－2） | C28: 高度急性期 | D28: 急性期 | E28: 回復期 | F28: 慢性期 | G28: 休棟等 | H28: 合計
I29: うち対象３区分の合計
C30: =C11-C18 -> 0 | D30: =D11-D18 -> 0 | E30: =E11-E18 -> 0 | F30: =F11-F18 -> 0 | G30: =G11-G18 -> 0 | H30: =SUM(C30:G30) -> 0 | I30: =C30+D30+F30 -> 0
F32: 5.減少数 | G32: 4.うち転換数 | H32: 3.うち他院への 融通数 | I32: 支給対象
F33: =I30 -> 0 | G33: =E26 -> 0 | H33: =G22 -> 0 | I33: =IF(F33-G33-H33<0,0,F33-G33-H33) -> 0
I34: ※対象３区分の病床融通数または転換病床数に誤りがあります。
A35: 6 | B35: 統合前の許可病床数 | C35: 高度急性期 | D35: 急性期 | E35: 回復期 | F35: 慢性期 | G35: 休棟 | H35: 合計
I36: うち対象３区分の合計
B37: ① 平成30年度病床機能報告 | H37: =SUM(C37:G37) -> 0 | I37: =SUM(C37,D37,F37) -> 0
B38: ② 令和２年４月１日時点（※５） | H38: =SUM(C38:G38) -> 0 | I38: =SUM(C38,D38,F38) -> 0
A39: ※5 平成30年度病床機能報告から令和2年4月1日までの間に、病床数の変更がない場合は、①と同じ値を記載すること。 | M39: D56セルの病床数算出で参照
M40: ↓ | N40: C56セルの単価算出で参照 | Q40: C56セルの単価算出で参照
A41: 7 | B41: 対象３区分の病棟の 年間在棟患者延べ数（人） | C41: 高度急性期 | D41: 急性期 | E41: 慢性期 | F41: 合計 | M41: 適用一日平均 実働病床数 | N41: 適用病床稼働率 | Q41: 病床稼働率 | S41: １床あたり単価
B42: ① 平成30年度病床機能報告（※６） | F42: =SUM(C42:E42) -> 0 | M42: =IF(AND(I37<>I38,H53="Ｂ"),E53,E52) -> 0 | N42: =IF(AND(I37<>I38,H53="Ｂ"),C53,C52) -> 0 | Q42: 0 | R42: 50%未満 | S42: 1140
B43: ② 令和2年4月1日時点（※７） | F43: =SUM(C43:E43) -> 0 | Q43: 0.5 | R43: 60％未満 | S43: 1368
A44: ※６ 対象３区分の病棟に係る平成30年度病床機能報告の報告様式１（病棟票）の（48）欄の数値を計上すること。 なお、平成30年度病床機能報告の報告様式１（病棟票）において、「過去１年間の間に病棟の再編・見直しあり」と報告した病棟の年間在棟患者延べ数については、以下の式により補正して計上すること。 ○ 補正後の年間在棟患者延べ数＝年間在棟患者延べ数（（48）欄に記載された数値）÷報告可能な対象期間（月単位）×１２ （注） 報告可能な対象期間（月単位）は、平成30年度病床機能報告で報告した月数とすること。 例） 報告可能な対象期間を「平成29年7月1日～平成30年12月末日」とした場合 ⇒ 報告可能な対象期間（月単位）＝６ | Q44: 0.6 | R44: 70％未満 | S44: 1596
...
