Workbook

Sheet 入力はここからスタート！
B1: 新人看護職員研修事業費補助金 交付申請入力シート | AB1: 施設区分 | AD1: 都道府県
B2: ①基本情報を入力してください。 | AB2: 病院 | AD2: 市区町村
B3: 基本情報 | H3: ＜入力例＞ | AB3: 診療所 | AD3: 公的
B4: 申請日付 | D4: 令和 年 月 日 | H4: 日付 | I4: 令和8年９月30日 | AB4: 助産所 | AD4: 国病機構
B5: 医療機関名 | H5: 医療機関名 | I5: 広島医療政策課病院 | AB5: 介護老人保健施設 | AD5: 独法
B6: 施設区分 | H6: 施設区分 | I6: 病院 | AB6: 指定訪問看護事業所 | AD6: 地方独法
B7: 設置主体 | H7: 設置主体 | I7: 医療法人 | AD7: 国大法人
B8: 開設者所在地 | H8: 開設者所在地 | I8: 広島市中区基町１０-５２ | AD8: 共済
B9: 開設者名（法人名等） | H9: 開設者名（法人名等） | I9: 医療法人●●会 | AD9: 健保
B10: 代表者の 職名及び氏名 | H10: 代表者の 職名及び氏名 | I10: 理事長 ■■■■ | AD10: 国保
B11: 担当者名 | H11: 担当者名 | I11: 医療政策課 植田 京子 | AD11: 学校
B12: 担当者連絡先 | H12: 担当者連絡先 | I12: 082-513-3057 | AD12: 社福
B13: メールアドレス | H13: メールアドレス | I13: fumedsei@pref.hiroshima.lg.jp | AD13: 医療法人
AD14: 社団
B15: ②新人看護職員人数等（研修受講人数）を入力してください。 | AD15: 財団
B16: 新人職員について（４月末現在） | E16: （単位：人） | AD16: その他
B17: 新人看護職員数（保健師、助産師含む） | AD17: 個人
B18: うち新人保健師数（再掲） | AD18: 会社
B19: うち新人助産師数（再掲）
B20: 研修受講人数について（４月末現在） | E20: （単位：人）
B21: 新人看護職員研修受講者数 | E21: =E17 -> 0
B22: うち新人保健師研修受講者数（再掲） | E22: =E18 -> 0
B23: うち新人助産師研修受講者数（再掲） | E23: =E19 -> 0
B24: 教育担当者数 | E24: =ROUNDDOWN(IF(E21>70,70,E21)/5,0) -> 0
B25: （注）ここの教育担当者数は新人看護職員５名以上で、５名ごとに１名です。（自動計算）
B26: ③他病院から受入をする場合、研修を実施する総時間を入力してください。 （単位：時間）
B27: 受入研修時間数
B28: （注）例えば、１回５時間の研修に３人の新人職員を受け入れて実施した場合は５×３＝１５（時間）のように考え、予定している年間の総時間数を記載すること。

Sheet 交付申請書
B1: 新人看護職員研修事業費補助金 交付申請入力シート
B3: 別記様式第１号
C6: 令和８年度 新人看護職員研修事業費補助金交付申請書
I9: 番号
I10: ='入力はここからスタート！'!$D$4 -> 令和 年 月 日
B12: 広 島 県 知 事 様
F14: 施設名 | G14: ='入力はここからスタート！'!$D$5 -> 0
E15: （開設者） | F15: 住 所 | G15: ='入力はここからスタート！'!$D$8 -> 0
F16: （法人名） | G16: ='入力はここからスタート！'!$D$9 -> 0
F17: 氏 名 | G17: ='入力はここからスタート！'!$D$10 -> 0
B19: このことについて，次により補助金を交付されるよう関係書類を添えて申請します。
B21: １ 申 請 額 | G21: 金 | H21: =様式１!$S$11 -> 0 | J21: 円
B22: ２ 新人看護職員研修事業所要額調書
B23: ３ 新人看護職員研修事業事業計画書
B24: ４ 新人看護職員研修事業に係る歳入歳出予算書 抄本
B25: ５ 新人看護職員研修事業研修責任者等名簿
B26: ６ 新人看護職員研修事業受講者名簿（計画）

Sheet 様式１
T1: （新人看護職員研修事業及び医療機関受入研修事業）
F3: 新人看護職員研修事業所要額調書
J6: 基準額
C7: 施 設 区 分 | D7: 病院等名 | E7: 設置主体 | F7: 総事業費 | G7: 寄付金 その他の 収入額 | H7: 差引額 | I7: 対象経費 の支出 予定額 | J7: 新人 看護 職員 等数 | K7: 研修経費 の分 | L7: 教育担当者 経費の分 | M7: 医療機関受入 研修事業の分 | P7: 計 | Q7: 選定額 | R7: 補助 基本額 | S7: 補助 所要額 | T7: 補助対象経費中の課税対象費目について 税込計上ＯＲ 税抜計上
K8: 金額 | L8: 金額 | M8: 総時間数 | N8: 受入予定数 | O8: 金額
F9: Ａ | G9: Ｂ | H9: (Ａ－Ｂ)Ｃ | I9: Ｄ | P9: Ｅ | Q9: Ｆ | R9: Ｇ | S9: Ｈ
F10: 円 | G10: 円 | H10: 円 | I10: 円 | J10: 人 | K10: 円 | L10: 円 | M10: 時間 | N10: 人 | O10: 円 | P10: 円 | Q10: 円 | R10: 円 | S10: 円 | T10: 税込OR税抜 | V10: 440000
C11: ='入力はここからスタート！'!$D$6 -> 0 | D11: ='入力はここからスタート！'!$D$5 -> 0 | E11: ='入力はここからスタート！'!$D$7 -> 0 | H11: =F11-G11 -> 0 | I11: =様式２!G45 -> 0 | J11: ='入力はここからスタート！'!E21 -> 0 | L11: =ROUNDDOWN(IF(J11>70,70,J11)/5,0)*215000 -> 0 | M11: ='入力はここからスタート！'!$D$27 -> 0 | N11: =IF(ROUNDDOWN(M11/40,0)>30,30,ROUNDDOWN(M11/40,0)) -> 0 | O11: =IF(N11<1,0,IF((1<=N11)*OR(N11<=4),113000,IF((5<=N11)*OR(N11<=9),226000,IF((10<=N11)*OR(N11<=14),566000,IF((15<=N11)*OR(N11<=19),849000,1132000+(N11-20)*45000))))) -> 0 | P11: =K11+L11+O11 -> 0 | Q11: =MIN(I11,P11) -> 0 | R11: =MIN(I11,Q11) -> 0 | S11: =ROUNDDOWN(R11/2,-3) -> 0 | V11: 586000
V12: 630000
B13: （注）１ 電子データ様式においては，水色のセルに入力すること。 | V13: 776000
B14: ２ 「施設区分」，「設置主体」は，当てはまるものを選択すること。
B15: ３ 「新人看護職員等数」欄には，新人看護職員等の人数を記載すること。（70名以上いる場合は，その数を記載する）
B16: 新人看護職員等の人数は当該年度の４月末日現在に在職している，新人看護職員，新人保健師及び新人助産師であって，それぞれの研修に参加する人数とする。
B17: なお，新人看護職員研修，新人保健師研修又は新人助産師研修の複数の研修を実施する施設において，複数の研修に参加する者は１名として計上する。 | V17: 税込
B18: ４ 「研修経費の分」欄には，研修経費の分の基準額を記載すること。助産師研修を行う場合は，基準額の増額と様式３の助産師の記載（人数計上）に齟齬が生じないようにすること。 | V18: 税抜
B19: ５ 「医療機関受入研修事業」の「総時間数」欄は，例えば，１回５時間の研修に３人の新人職員を受け入れて実施した場合は５×３＝１５（時間）のように考え，予定している年間の総時間数を記載すること。
B20: ６ 「受入予定数」欄は総時間数４０時間につき１名と考え，３０名を上限とすること。なお，時間数に４０時間未満の端数が生じた場合は切り捨てること。
B21: ７ Ｆ欄には，Ｄ欄の金額とＥ欄の金額とを比較して少ない方の額を記入すること。
B22: ８ Ｇ欄には，Ｃ欄の金額とＦ欄の金額とを比較して少ない方の額を記入すること。
B23: ９ Ｈ欄には，Ｇ欄の金額に２分の１を乗じて得た金額（1,000円未満の端数切り捨て）を記載すること。
T26: 440000
T27: 586000
T28: 630000
T29: 776000

Sheet 様式２
A2: 様式２ | H2: ='入力はここからスタート！'!$D$5 -> 0
B3: 対 象 経 費 の 支 出 予 定 額 算 出 内 訳
B4: 注）１ 賃金は、外部の研修参加に伴う代替職員経費に限る
B5: ２ 教育担当者経費は、新人看護職員等が５名以上の場合に限り計上が可能
A6: 事業 区分 | C6: 経費区分 | G6: 支出予定額(円） | H6: 積算内訳
A7: 新 人 看 護 職 員 研 修 事 業 | B7: 研 修 経 費 | C7: 賃金
C8: 研修責任者経費 | F8: ① | G8: =SUM(G9:G10) -> 0
D9: 人件費
D10: 手当
C11: 報償費 | F11: ②
C12: 旅費 | F12: ③
C13: 需用費 | F13: ④ | G13: =SUM(G14:G17) -> 0
D14: 消耗品費
D15: 印刷製本費
D16: 会議費
D17: 図書購入費
C18: 役務費 | F18: ⑤ | G18: =SUM(G19:G20) -> 0
D19: 通信運搬費
D20: 雑役務費
C21: 使用料及び賃借料 | F21: ⑥
C22: 備品購入費 | F22: ⑦
C23: 研修経費計 | F23: ⑧ | G23: =G7+G8+G11+G12+G13+G18+G21+G22 -> 0 | H23: ⑧=①+②+③+④+⑤+⑥+⑦
B24: 教育担当者経費 | H24: 様式３「研修における組織体制」の「教育担当者」の経費を入力していただく欄です。なお、実地指導者に係る人件費は対象になりません。
C25: 教育担当者経費 | F25: ⑨ | G25: =SUM(G26:G28) -> 0 | H25: 新人看護職員数５名以上の場合のみ入力可。 ４名以下は計上できません。
D26: 謝金
D27: 人件費
D28: 手当
B29: 新人看護職員研修事業計 | F29: ⑩ | G29: =G23+G25 -> 0 | H29: ⑩=⑧+⑨
A30: 医 療 機 関 受 入 研 修 事 業 | C30: 教育担当者経費 | F30: ⑪ | G30: =SUM(G31:G33) -> 0
D31: 謝金
D32: 人件費
D33: 手当
C34: 需用費 | F34: ⑫ | G34: =SUM(G35:G38) -> 0
D35: 消耗品費
D36: 印刷製本費
D37: 会議費
D38: 図書購入費
C39: 役務費 | F39: ⑬ | G39: =SUM(G40:G41) -> 0
D40: 通信運搬費
D41: 雑役務費
C42: 使用料及び賃借料 | F42: ⑭
C43: 備品購入費 | F43: ⑮
B44: 医療機関受入研修事業計 | F44: ⑯ | G44: =G30+G34+G39+G42+G43 -> 0 | H44: ⑯=⑪+⑫+⑬+⑭+⑮
A45: 対象経費総合計 | F45: ⑰ | G45: =G44+G29 -> 0 | H45: ⑰=⑩+⑯

Sheet 様式３
A1: 様式３
G2: 新人看護職員研修事業事業計画書
A5: 施設区分 | B5: 病院等名称 | C5: 設置 主体 | D5: 医療法上の許可病床総数 | E5: 看護 職員数 | F5: 新人 看護 職員数 | G5: 新人保 健師数 | H5: うち 再掲分 | I5: 新人助産師数 | J5: うち 再掲分 | K5: 看護 職員 離職率 | L5: 助産師 離職率 (再掲) | M5: 新人 看護 職員 離職率 | N5: 新人 助産師 離職率 | O5: 過去の新人看護職員研修の実施状況 | P5: 令和７年度事業への 申請の有無 | Q5: 研修における組織体制 | W5: 到達目標の設定の有無 | X5: 研修プログラムの有無 | Y5: 医療機関受入研修事業 | AF5: 備考
Q6: 研修 責任者数 | S6: 教育 担当者数 | U6: 実地 指導者数 | Y6: 受入 予定 人数 | AC6: 実施 月数 | AD6: 実施 日数 | AE6: 研修の公開 ・公募方法
Q7: 専任 | R7: 兼任 | S7: 専任 | T7: 兼任 | U7: 専任 | V7: 兼任 | Y7: 計 | Z7: 新人看護職員研修 | AA7: 新人 保健師 研修 | AB7: 新人 助産師 研修
D8: 床 | E8: 人 | F8: 人 | G8: 人 | H8: 人 | I8: 人 | J8: 人 | K8: ％ | M8: ％ | Q8: 人 | R8: 人 | S8: 人 | T8: 人 | U8: 人 | V8: 人 | Y8: 人 | Z8: 人 | AA8: 人 | AB8: 人 | AC8: 月 | AD8: 日 | AK8: ① | AL8: 有 | AM8: ＨＰ上での公募
A9: ='入力はここからスタート！'!$D$6 -> 0 | B9: ='入力はここからスタート！'!$D$5 -> 0 | C9: ='入力はここからスタート！'!$D$7 -> 0 | F9: ='入力はここからスタート！'!$E$17 -> 0 | G9: ='入力はここからスタート！'!$E$18 -> 0 | I9: ='入力はここからスタート！'!$E$19 -> 0 | Y9: =SUM(Z9:AB9) -> 0 | AK9: ② | AL9: 無 | AM9: 機関誌等での公募
AK10: ③ | AM10: 地方自治体を通じての広報等
AK11: ④ | AM11: 関係団体等を通じての広報等
AK12: ⑤ | AM12: 地域の会議等での広報等
AK13: ⑥ | AM13: その他
A14: （注） | AK14: ⑦
A15: １ 「看護職員数」，「新人看護職員数」，「新人保健師数」，「新人助産師数」及び「研修における組織体制」は当該年度の４月末現在で記載すること。 | AK15: ⑧
A16: ２ 「看護職員数」とは，保健師・助産師・看護師・准看護師のいずれかの免許の有資格者数とし，二以上の免許を持つ者も一人として数える。 | AK16: ⑨
A17: ３ 「新人看護職員数」には，主として免許取得後に初めて就労する保健師，助産師，看護師及び准看護師のうち，新人看護職員研修に参加する者の数を記載すること。 | AK17: ⑩
A18: ４ 「新人保健師数」には，主として保健師免許取得後に初めて保健師として就労する保健師のうち，新人保健師研修に参加する者の数を記載すること。 | AK18: ⑪
A19: ５ 「新人助産師数」には，主として助産師免許取得後に初めて助産師として就労する助産師のうち，新人助産師研修に参加する者の数を記載すること。 この欄を記入した場合，研修経費の基準額は交付要綱に基づき増額となる。 | AK19: ⑫
A20: ６ 「うち再掲分」には，「新人保健師数」又は「新人助産師数」のうち「新人看護職員数」にも計上した者の数を記載すること。 | AK20: ⑬
A21: ７ 「看護職員(助産師）離職率」の算出にあたっては次式による。なお，各数値は当該年度の前年度の数値を使用すること。【令和６年度実績】 | AK21: ⑭
A22: 看護職員(助産師)離職率＝看護職員(助産師)退職者数／平均看護職員(助産師)数×１００ （小数第２位を四捨五入） | AK22: ⑮
B23: ※看護職員（助産師）退職者数＝令和７年４月１日から令和８年３月31日までの間に退職した看護職員（助産師）の数 | AK23: ⑯
B24: 平均看護職員（助産師）数＝（令和７年度当初の在籍看護職員（助産師）数＋令和７年度末の在籍看護職員（助産師）数）／２ | AK24: ⑰
A25: ８ 「新人看護職員（助産師）離職率」の算出にあたっては次式による。なお，各数値は当該年度の前年度の数値を使用すること。【令和７年度実績】
A26: 新人看護職員（助産師）離職率＝新人看護職員（助産師）退職者数／新人看護職員（助産師）採用者数×１００ （小数第２位を四捨五入）
B27: ※新人看護職員（助産師）退職者数＝令和７年４月１日から令和８年３月31日の間に退職した新人看護職員（助産師）の数
B28: 新人看護職員（助産師）採用者数＝令和７年４月１日から令和８年３月31日の間に採用した新人看護職員（助産師）の数
A29: ９ 「過去の新人看護職員研修の実施状況」は，令和７年度以前に新人看護職員研修ガイドラインに沿った研修を実施していた場合に開始年度を記載すること。 （なお，平成21年度以前はガイドラインと同程度の研修を実施していた場合に記載すること）
A30: ①平成21年度以前 ②平成22年度 ③平成23年度 ④平成24年度 ⑤平成25年度 ⑥平成26年度 ⑦平成27年度 ⑧平成28年度 ⑨平成29年度 ⑩平成30年度 ⑪令和元年度 ⑫令和２年度 ⑬令和３年度 ⑭令和４年度 ⑮令和５年度 ⑯令和６年度 ⑰令和７年度
A31: １０ 「令和７年度事業への申請の有無」は，セルの下矢印から当てはまるものを選択すること。
A32: １１ 「研修責任者数」，「教育担当者数」及び「実地指導者数」は，兼任の場合は，兼務している役割のそれぞれで「兼任」欄の人数に含める。
A33: １２ 「到達目標の設定の有無」「研修プログラムの有無」は，セルの下矢印から当てはまるものを選択すること。
A34: １３ 「受入予定人数」は，自施設の研修に，他の病院等から受け入れる予定の者の数とし，実人数とする。
A35: １４ 「実施月数」，「実施日数」は，それぞれ医療機関受入研修事業の年間実施予定月数，日数を記載すること。
A36: １５ 「研修の公開・公募方法」は，別添２から最もよく当てはまるものをセルの下矢印から選択し，「その他」を選択した場合は備考欄に体制及び方法を簡潔に記載すること。

Sheet 様式４
A2: 様式４
A3: 令和８年度 新人看護職員研修事業に係る歳入歳出予算書 抄本
A5: 収入の部 | D5: 支出の部
A7: 補助金収入 | B7: =様式１!$S$11 -> 0 | C7: 円 | D7: 人件費 | F7: 円
A8: 医業収入等 | B8: =B17-B7-B9-B10 -> 0 | C8: 円 | D8: 報償費 | F8: 円
A9: 寄付金，会費収入 （受入研修など） | C9: 円 | D9: 旅費 | F9: 円
A10: その他（ ） | C10: 円 | D10: 需用費 | F10: 円
D11: 備品購入費 | F11: 円
D12: 役務費 | F12: 円
D13: 使用料及び賃借料 | F13: 円
F14: 円
F15: 円
A17: 合計 | B17: =E17 -> 0 | C17: 円 | D17: 合計 | E17: =SUM(E7:E16) -> 0 | F17: 円
A19: 上記のとおり相違ありません
D20: ='入力はここからスタート！'!$D$4 -> 令和 年 月 日
B22: 医療機関名 | C22: ='入力はここからスタート！'!$D$5 -> 0
C23: ='入力はここからスタート！'!$D$9 -> 0
B24: 代表者 | C24: ='入力はここからスタート！'!$D$10 -> 0

Sheet 様式５
A2: 様式５
A3: 新人看護職員研修事業 教育責任者等名簿
D4: ※様式３の「研修における組織体制」の人数と一致すること
E5: ='入力はここからスタート！'!$D$5 -> 0
B7: 区分 | C7: 所 属 | D7: 役 職 | E7: 氏 名 | F7: 備 考
B8: 研修責任者
B11: 教育担当者
B22: 実地指導者

Sheet 様式６
A2: 様式６
A3: 新人看護職員研修事業 受講者名簿 (計画)
A5: 種別 | B5: 新人看護職員研修 | F5: ='入力はここからスタート！'!$D$5 -> 0
A7: 番号 | B7: 氏 名 | C7: 主たる業務に関する免許 （注１） | E7: 取得している看護職員免許「○」 （注２）
C8: 職種 | D8: 登録年月日 | E8: 保健師 | F8: 助産師 | G8: 看護師 | H8: 准看護師
A9: 1 | K9: 看護師 | L9: 新人看護職員研修
A10: 2 | K10: 准看護師 | L10: 新人助産師研修
A11: 3 | K11: 助産師
A12: 4 | K12: 保健師
A13: 5
A14: 6
A15: 7
A16: 8
A17: 9
A18: 10
A19: 11
A20: 12
A21: 13
A22: 14
A23: 15
A24: 16
... A28: 20
A29: 合計人数 | D29: （人）
A30: ※1 自施設の新規採用者のうち，当該年度の4月末日現在，実施要綱上の新人職員に該当する者で，新人看護職員研修を受講させる者
A31: について記載すること。新人助産師研修を受講させる者は別に作成すること。
A32: ※2 （注１）については，採用時に主たる業務として必要とした免許の種別（保健師，助産師，看護師，准看護師）及びその免許についての
A33: 登録状況を記載すること
A34: ※3 （注２）については，取得している免許全てに○印を記入すること
A35: ※4 該当者が20名を超える場合は，複数枚となるように記載し，番号は続きの番号を記載すること

Sheet 参考（対象経費）
B1: 新人看護職員研修事業費補助金 交付申請入力シート
B2: （研 修 経 費）
C3: 区分 | F3: 内 容 | H3: 備 考
B4: 賃 金 | F4: 外部研修に参加した新人看護職員の代替職員にかかる賃金 ＊代替職員とは必ずしも新たに雇用する必要はないが、新人看護職員の外部研修参加にかかる代替職員の賃金であることを病院等において監査等で説明ができるように整理しておく必要があります
C6: 研修責任者経費 | F6: 研修責任者が新人看護職員研修事業の業務（注１）にかかる謝金・人件費または手当 ＊専任である場合は全ての人件費が計上可能です ＊兼任の場合は本事業に従事する分を従事割合・業務時間等により按分するなどの方法により計上が可能ですが、その他の業務にかかる人件費との棲み分けを病院等において監査等で説明ができるように整理しておく必要があります ＊謝金とは研修責任者の本事業の業務にかかる対価が謝金として支給される場合 ＊手当とは研修責任者の本事業の業務にかかる対価が時間外手当やその他特別手当など | H6: （注１）新人看護職員研修事業の業務とは実施要綱に定める事業内容を遂行するために必要（プログラムの策定，新人研修の企画・立案なども含む）な全ての業務を含みます。なお、ガイドラインにおける教育担当者の育成や実地指導者の育成にかかる部分については実施要綱の業務内容に含まれていないため対象外となります。
C7: 謝 金
C8: 人 件 費
C9: 手 当
B10: 報 償 費 | F10: 新人看護職員の院内研修における外部講師や委員に対する謝金等の報償費
B12: 旅 費 | F12: 新人看護職員の院内研修における外部講師や委員に対する旅費及び新人看護職員が外部の研修に参加する場合の旅費等
C14: 需 用 費
C16: 消 耗 品 費 | F16: 本事業に必要な消耗品費（研修に必要な衛生材料などの医療用消耗品や薬品類等の購入にかかる経費も含まれます）
C18: 印 刷 製 本 費 | F18: 本事業に必要な印刷製本費（本事業にかかる会議や院内研修などの資料や教材の印刷を業者に依頼した場合の経費などです）
C20: 会 議 費 | F20: 本事業にかかる会議の開催に必要な経費（外部講師や委員などのお茶・弁当代や速記にかかる経費が考えられますが、病院職員のお茶代などの計上は好ましくありません）
C22: 図 書 購 入 費 | F22: 本事業に必要な図書購入費（本事業で使用する書籍やDVD教材の購入にかかる経費などです）
C24: 役 務 費
C26: 通 信 運 搬 費 | F26: 本事業に必要な郵便料、宅急便料金（例えば、郵便料として切手、葉書、小包、速達、書留等の料金が考えられます）
C28: 雑 役 務 費 | F28: 本事業にかかるその他役務費（例えば新人看護職員が外部の研修に参加した場合の受講料などが想定されます）
B30: 使用料及び賃借料 | F30: 本事業にかかる研修に用いる器材等のリース料や外部の会議室を使用する場合などの賃借にかかる経費
B32: 備 品 購 入 費 | F32: 本事業で使用する器具機械その他備品等のうち、比較的長期の使用に耐えうる物品の購入にかかる経費（例えばシミュレータやモデル人形の購入費などが考えられます）
B34: （教 育 担 当 者 経 費）
C35: 区分 | F35: 内 容 | H35: 備 考
C36: 教育担当者経費 | F36: 教育担当者が新人看護職員研修事業の業務（注１）にかかる謝金・人件費または手当（注２） ＊専任である場合は全ての人件費が計上可能です ＊兼任の場合は本事業に従事する分を従事割合・業務時間等により按分するなどの方法により計上が可能ですが、その他の業務にかかる人件費との棲み分けを病院等において監査等で説明ができるように整理しておく必要があります ＊謝金とは教育担当者の本事業の業務にかかる対価が謝金として支給される場合 ＊手当とは教育担当者の本事業の業務にかかる対価が時間外手当やその他特別手当など | H36: （注２）自施設の新人研修にかかる教育担当者経費と医療機関受入研修事業にかかる教育担当者を切り分けることが難しい場合、全ての教育担当者経費を一括計上可能です。
C37: 謝 金
C38: 人 件 費
C39: 手 当
B40: （医療機関受入研修事業）
C41: 区分 | F41: 内 容 | H41: 備 考
C42: 教育担当者経費 | F42: 教育担当者が新人看護職員研修事業の業務（注１）にかかる謝金・人件費または手当（注２） ＊専任である場合は全ての人件費が計上可能です ＊兼任の場合は本事業に従事する分を従事割合・業務時間等により按分するなどの方法により計上が可能ですが、その他の業務にかかる人件費との棲み分けを病院等において監査等で説明ができるように整理しておく必要があります ＊謝金とは教育担当者の本事業の業務にかかる対価が謝金として支給される場合 ＊手当とは教育担当者の本事業の業務にかかる対価が時間外手当やその他特別手当など
C43: 謝 金
C44: 人 件 費
C45: 手 当
C46: 需 用 費
C48: 消 耗 品 費 | F48: 本事業に必要な消耗品費（研修に必要な衛生材料などの医療用消耗品や薬品類等の購入にかかる経費も含まれます）
C50: 印 刷 製 本 費 | F50: 本事業に必要な印刷製本費（本事業にかかる会議や院内研修などの資料や教材の印刷を業者に依頼した場合の経費などです）
C52: 会 議 費 | F52: 本事業にかかる会議の開催に必要な経費（外部講師や委員などのお茶・弁当代や速記にかかる経費が考えられますが、病院職員のお茶代などの計上は好ましくありません）
C54: 図 書 購 入 費 | F54: 本事業に必要な図書購入費（本事業で使用する書籍やDVD教材の購入にかかる経費などです。）
C56: 役 務 費
C58: 通 信 運 搬 費 | F58: 本事業に必要な郵便料、宅急便料金（例えば、郵便料として切手、葉書、小包、速達、書留等の料金が考えられます）
C60: 雑 役 務 費 | F60: 本事業にかかるその他役務費
B62: 使用料及び賃借料 | F62: 本事業にかかる研修に用いる器材等のリース料や外部の会議室を使用する場合などの賃借にかかる経費
B64: 備 品 購 入 費 | F64: 本事業で使用する器具機械その他備品等のうち、比較的長期の使用に耐えうる物品の購入にかかる経費（例えばシミュレータやモデル人形の購入費などが考えられます）
