Workbook

Sheet ご連絡
A1: 令和８年度 保育所や幼稚園等における虐待対応状況等調査
A3: 調査票１（都道府県が公表する様式例に基づく調査）
A5: ご連絡事項
A7: 調査票の更新について
B8: 児童福祉法第33条の16等に基づき、都道府県は前年度に対応した保育所等における虐待の状況を公表することとしています。 今般、その公表に際し必要な情報について調査・集計を行いますので、ご協力をお願いいたします。 なお、今回の調査実施にあたり、公表様式に基づく記入様式、及び、別紙「保育所や幼稚園等における虐待事案の公表について」記入の考え方（以下、記入の考え方という。）の一部を更新しております。
B9: ※通知時点の様式で準備いただいていた自治体におかれましてはお手数をお掛けしますが、本調査票に回答のうえ提出いただくようお願いします。
B11: ＜主な更新点＞
C12: ●記入様式については、令和7年9月30日以前の件数を回答不要としています。
C13: ●記入様式 「2 ア 施設等の種別」、「2 オ 職員の職種別人数」について、区分の追加、修正を行いました。
C14: ●記入様式 「2 ア 施設等の種別」の変更に伴い、回答方法を「記入の考え方」に追記しました。
A16: 調査票の全体構成
B17: 本調査票エクセルファイルは記入様式と公表様式の2つの様式で構成されており、様式ごとにワークシートが分かれております。
B19: 記入様式： 下記の調査対象期間に対応した保育所や幼稚園等における虐待の状況を記入する様式
B20: （参考）公表様式： 記入様式に入力された数値を参照して、都道府県が公表する様式の形に整えた様式
A22: 回答対象
B23: 全ての都道府県 ー原則として、１自治体（都道府県）あたり１ファイルでの回答としてください。
A25: 調査対象期間
B26: 児童福祉法第33条の16等に基づき、下記の期間に貴都道府県において対応した保育所等における虐待の状況について回答ください。
B28: 期間： | C28: 令和７年10月１日～令和８年３月31日
B29: ※令和７年９月30日以前に通報を受理した事案については回答不要です。
A31: 回答方法・条件
B32: 記入様式
C33: ●所管の市区町村から報告があった、もしくは貴都道府県にて直接対応した全ての虐待の状況について報告してください。
C35: 【対象施設】 保育所、幼稚園、特別支援学校幼稚部、幼保連携型認定こども園、保育所型認定こども園、幼稚園型認定こども園、地方裁量型認定こども園、小規模保育事業、家庭的保育事業、事業所内保育事業、居宅訪問型保育事業、一時預かり事業、病児保育事業、乳児等通園支援事業、放課後児童健全育成事業、児童館、児童育成支援拠点事業、子育て短期支援事業、認可外保育施設
C37: ●記入に当たっては、別紙１（「保育所や幼稚園等における虐待事案の公表について」記入の考え方）を参照ください。
C38: ●県内の国立大学法人が設置する幼稚園、幼保連携型認定こども園及び特別支援学校幼稚部については、国立大学法人が別途報告するため、都道府県の報告対象外です。
B40: （参考）公表様式
C41: ●参考として提供する資料です。「都道府県が公表する様式例」に、記入様式に回答いただいた数字を反映しています。
C42: ●回答の集計には「記入様式」に回答いただいた数字を採用します。
C43: ●当該公表様式は、必要に応じて、貴都道府県における公表用にご利用ください。
A44: 留意事項
B45: ・調査票１「１ 虐待案件の状況」の「虐待該当」に該当する事案については、調査票３を全てご提出ください（管内市区町村分も含めて調査票３を取りまとめてご提出ください。調査票１「１ 虐待案件の状況」の「虐待該当」の件数と、調査票３のうち「虐待と判断した」事案の提出数が一致しているか、事務局で確認を行います）。
B46: ※調査票１において「虐待該当」に該当する事案であって、調査票３の提出が間に合わない事案がある場合や、施設等の廃止等により一部項目の把握が困難な場合等、補足事項がある場合は、アップロード画面上の連絡欄に記入ください。
A48: 情報の取扱いについて
B49: ・回答いただいた情報については、全国の集計値と都道府県ごとの回答を取りまとめ、今後、こども家庭庁のホームページ等にて公表することを予定しております。
B50: ・回答内容は、本調査の目的の範囲内でのみ利用し、保育所や幼稚園等における虐待の状況を把握・分析すること以外の目的、例えば自治体の対応を評価・査定又は指導する目的で利用することはありません。回答は統計的に処理するとともに、個人が特定される形で公表することはありません。

Sheet 記入様式
A1: 令和８年度保育所や幼稚園等における虐待対応状況等調査
A3: 調査票１（都道府県が公表する様式例に基づく調査）
B6: 記入方法
B7: 児童福祉法第33条の16等に基づき、令和7年10月1日から令和8年3月31日の期間に貴都道府県において対応した保育所や幼稚園等における虐待の状況について、回答してください。
C8: 水色 | E8: のセルは、必要事項を記入してください。
C9: クリーム色 | E9: のセルは、それぞれ件数あるいは人数を記入して下さい。 該当がない場合は空欄のままにせず、かならず「0（ゼロ）」を入力してください。
C10: 赤色 | E10: のセルは、自動計算によって数字が入るため、入力不可となっています。
D12: 都道府県名： | E12: 広島県
D13: 部局課名： | E13: 健康福祉局こども家庭課
D14: 電話番号： | E14: 082-513-3167
D15: 担当者： | E15: 三山
B17: １ | C17: 虐待案件の状況
C19: 通報件数*1 | E19: 令和7年度*2 要対応件数 （Ａ＋Ｂ） 自動計算 | H19: 虐待該当 | I19: 非該当 | J19: 判断不可 | K19: 要対応件数のうち、事実確認を継続中の件数
F20: 前年度以前 継続件数*3 （Ａ） | G20: 令和7年度*2 新規件数（Ｂ）
C21: 25 | E21: =$F$21+$G$21 -> 25 | G21: 25 | H21: 3 | I21: 16 | J21: 5 | K21: 1 | L21: 件
C22: *¹ 監査等で所管行政庁が自ら虐待等の疑いを把握したものも含む。
C23: *2 今年度の調査においては、令和７年10月１日から令和８年３月31日の期間とする
C24: *3 令和７年９月30日以前に通報を受理した事案は回答不要。
E25: =IF($E$21<SUM($H$21:$K$21),"虐待該当、非該当、判断不可、事実確認継続中の件数の計が要対応件数を超えています。確認してください。","")
E26: =IF($C$21<$E$21,"要対応件数が通報件数を越えています。確認してください","")
B28: ２ | C28: 虐待の状況
C29: 以下の項目については、「１､虐待案件の状況」で「虐待該当」とされた案件について回答してください。
C30: ア | D30: 施設等の種別ごとに虐待の件数を回答してください。
D31: 保育所 | E31: 幼稚園 | F31: 特別支援 学校幼稚部 | G31: 幼保連携型 認定こども園
D32: 2 | H32: 件
D34: 小規模 保育事業 | E34: 家庭的 保育事業 | F34: 事業所内 保育事業 | G34: 居宅訪問型 保育事業 | H34: 一時預かり 事業 | I34: 病児保育 事業 | J34: 乳児等通園 支援事業
D35: 1 | K35: 件
D37: 放課後児童 健全育成事業 | E37: 児童館 | F37: 児童育成支援 拠点事業 | G37: 子育て短期 支援事業 | H37: 認可外 保育施設 | J37: 計 （検証用）
I38: 件 | J38: =SUM($D$32:$G$32,$D$35:$J$35,$D$38:$H$38) -> 3
J39: =IF($J$38<>$H$21,"虐待該当の件数と合致しません","")
C41: イ | D41: 虐待の類型ごとに虐待の件数を回答してください。各類型に重複して該当する場合もそれぞれ計上してください。
D42: 身体的虐待 | E42: 性的虐待 | F42: ネグレクト | G42: 心理的虐待 | J42: 計 （検証用）
D43: 3 | F43: 2 | G43: 2 | H43: 件 | J43: =SUM($D$43:$G$43) -> 7
J44: =IF($J$43<$H$21,"虐待該当の件数を下回っています。確認してください。","")
D45: 以下の各類型の組み合わせごとに重複して該当する虐待の件数を回答してください。
D46: 身体的虐待と 心理的虐待の重複 | E46: 性的虐待と 心理的虐待の 重複 | F46: ネグレクトと 心理的虐待の重複 | G46: 身体的虐待、 ネグレクト、 心理的虐待の 重複
H47: 件
C49: ウ | D49: こどもの性別ごとに虐待の件数を回答してください。複数のこどもが該当する場合もそれぞれ計上してください。
D50: 男子 | E50: 女子 | J50: 計 （検証用）
D51: 14 | E51: 4 | F51: 名 | J51: =SUM($D$51:$E$51) -> 18
...

Sheet （参考）公表様式 
A1: 令和８年度保育所や幼稚園等における虐待対応状況等調査
A3: 都道府県が公表する様式例
A5: 令和●年度 保育所や幼稚園等における虐待事案の公表について
K6: （令和●年●月●日現在）
B8: 児童福祉法第33条の16等に基づき、令和●年度*に●●（都道府県名）において対応した保育所や幼稚園等における虐待の状況について公表します。
C9: * 今年度は、令和７年10月１日から令和８年３月31日の期間を公表の対象とする
B11: １ | C11: 虐待案件の状況
C12: 通報件数*1 | E12: 令和●年度*2 要対応件数 （Ａ＋Ｂ） | H12: 虐待該当 | I12: 非該当 | J12: 判断不可 | K12: 備考
F13: 前年度以前*3 継続件数 （Ａ） | G13: 令和●年度*2 新規件数（Ｂ）
C14: =IF(記入様式!$C$21="","",記入様式!$C$21&"件") -> 25件 | E14: =IF(記入様式!$E$21="","",記入様式!$E$21&"件") -> 25件 | F14: =IF(記入様式!$F$21="","",記入様式!$F$21&"件") | G14: =IF(記入様式!$G$21="","",記入様式!$G$21&"件") -> 25件 | H14: =IF(記入様式!$H$21="","",記入様式!$H$21&"件") -> 3件 | I14: =IF(記入様式!$I$21="","",記入様式!$I$21&"件") -> 16件 | J14: =IF(記入様式!$J21="","",記入様式!$J21&"件") -> 5件 | K14: =IF($K$19="","","要対応件数のうち"&記入様式!$K$21&"件は事実確認を継続中である。")
C15: *¹ 監査等で所管行政庁が自ら虐待等の疑いを把握したものも含む。
C16: *2 令和７年10月１日から令和８年３月31日の期間とする
C17: *3 令和７年９月30日以前に通報を受理した事案は回答不要。
B19: ２ | C19: 虐待の状況
C20: ア | D20: 施設等の種別
D21: 保育所 | E21: 幼稚園 | F21: 特別支援 学校幼稚部 | G21: 幼保連携型 認定こども園
D22: =IF(記入様式!$D$32="","",記入様式!$D$32&"件") -> 2件 | E22: =IF(記入様式!$E$32="","",記入様式!$E$32&"件") | F22: =IF(記入様式!$F$32="","",記入様式!$F$32&"件") | G22: =IF(記入様式!$G$32="","",記入様式!$G$32&"件")
D24: 小規模 保育事業 | E24: 家庭的 保育事業 | F24: 事業所内 保育事業 | G24: 居宅訪問型 保育事業 | H24: 一時預かり 事業 | I24: 病児保育 事業 | J24: 乳児等通園 支援事業
D25: =IF(記入様式!$D$35="","",記入様式!$D$35&"件") -> 1件 | E25: =IF(記入様式!$E$35="","",記入様式!$E$35&"件") | F25: =IF(記入様式!$F$35="","",記入様式!$F$35&"件") | G25: =IF(記入様式!$G$35="","",記入様式!$G$35&"件") | H25: =IF(記入様式!$H$35="","",記入様式!$H$35&"件") | I25: =IF(記入様式!$I$35="","",記入様式!$I$35&"件") | J25: =IF(記入様式!$J$35="","",記入様式!$J$35&"件")
D27: 放課後児童 健全育成事業 | E27: 児童館 | F27: 児童育成支援 拠点事業 | G27: 子育て短期 支援事業 | H27: 認可外 保育施設
D28: =IF(記入様式!$D$38="","",記入様式!$D$38&"件") | E28: =IF(記入様式!$E$38="","",記入様式!$E$38&"件") | F28: =IF(記入様式!$F$38="","",記入様式!$F$38&"件") | G28: =IF(記入様式!$G$38="","",記入様式!$G$38&"件") | H28: =IF(記入様式!$H$38="","",記入様式!$H$38&"件")
C30: イ | D30: 虐待の類型 | F30: *１
D31: 身体的虐待 | E31: 性的虐待 | F31: ネグレクト | G31: 心理的虐待
D32: =IF(記入様式!$D$43="","",記入様式!$D$43&"件") -> 3件 | E32: =IF(記入様式!$E$43="","",記入様式!$E$43&"件") | F32: =IF(記入様式!$F$43="","",記入様式!$F$43&"件") -> 2件 | G32: =IF(記入様式!$G$43="","",記入様式!$G$43&"件") -> 2件
C34: ウ | D34: こどもの性別 | F34: *２
D35: 男子 | E35: 女子
D36: =IF(記入様式!$D$51="","",記入様式!$D$51&"名") -> 14名 | E36: =IF(記入様式!$E$51="","",記入様式!$E$51&"名") -> 4名
C38: エ | D38: こどもの年齢層
D39: 0歳児 | E39: 1歳児 | F39: 2歳児 | G39: 3歳児 | H39: 4歳児 | I39: 5歳児
D40: =IF(記入様式!$D$60="","",記入様式!$D$60&"名") -> 4名 | E40: =IF(記入様式!$E$60="","",記入様式!$E$60&"名") | F40: =IF(記入様式!$F$60="","",記入様式!$F$60&"名") | G40: =IF(記入様式!$G$60="","",記入様式!$G$60&"名") -> 2名 | H40: =IF(記入様式!$H$60="","",記入様式!$H$60&"名") -> 4名 | I40: =IF(記入様式!$I$60="","",記入様式!$I$60&"名") -> 8名
D42: 小学生 | E42: 中学生以上
D43: =IF(記入様式!$D$63="","",記入様式!$D$63&"名") | E43: =IF(記入様式!$E$63="","",記入様式!$E$63&"名")
C46: オ | D46: 虐待を行った職員等の職種 | F46: *３
D47: 管理者*¹² | E47: 保育士*² | F47: 幼稚園教諭*² | G47: 特別支援学校 幼稚部教諭*² | H47: 保育教諭*²
D48: =IF(記入様式!$D$69="","",記入様式!$D$69&"名") | E48: =IF(記入様式!$E$69="","",記入様式!$E$69&"名") -> 10名 | F48: =IF(記入様式!$F$69="","",記入様式!$F$69&"名") | G48: =IF(記入様式!$G$69="","",記入様式!$G$69&"名") | H48: =IF(記入様式!$H$69="","",記入様式!$H$69&"名")
D50: 放課後児童 支援員*² | E50: 児童厚生員*² | F50: 児童指導員*² | G50: 子育て 支援員*² | H50: 調理員・ 栄養教諭*² | I50: 医師*² | J50: 看護師・ 養護教諭*²
D51: =IF(記入様式!$D$72="","",記入様式!$D$72&"名") | E51: =IF(記入様式!$E$72="","",記入様式!$E$72&"名") | F51: =IF(記入様式!$F$72="","",記入様式!$F$72&"名") | G51: =IF(記入様式!$G$72="","",記入様式!$G$72&"名") | H51: =IF(記入様式!$H$72="","",記入様式!$H$72&"名") | I51: =IF(記入様式!$I$72="","",記入様式!$I$72&"名") | J51: =IF(記入様式!$J$72="","",記入様式!$J$72&"名")
D53: 保育補助者*²*3 | E53: 事務員*² | F53: 用務員*² | G53: 送迎バス等の運転手*² | H53: その他職員 | I53: 不明
D54: =IF(記入様式!$D$75="","",記入様式!$D$75&"名") | E54: =IF(記入様式!$E$75="","",記入様式!$E$75&"名") | F54: =IF(記入様式!$F$75="","",記入様式!$F$75&"名") | G54: =IF(記入様式!$G$75="","",記入様式!$G$75&"名") | H54: =IF(記入様式!$H$75="","",記入様式!$H$75&"名") | I54: =IF(記入様式!$I$75="","",記入様式!$I$75&"名")
D56: *¹施設長・園長・管理者・副園長・教頭等、施設・事業所全体の管理者（補佐を含む）を指す。
...

Sheet data_chosa1
A1: 都道府県名 | B1: 部局課名 | C1: 電話番号 | D1: 担当者 | E1: 1-1_通報件数 | F1: 1-2_要対応件数 | G1: 1-3_継続件数 | H1: 1-4_新規件数 | I1: 1-5_虐待該当 | J1: 1-6_非該当 | K1: 1-7_判断不可 | L1: 1-8_事実確認継続中 | M1: 2ｰア-1_保育所 | N1: 2ｰア-2_幼稚園 | O1: 2ｰア-3_特別支援学校幼稚部 | P1: 2ｰア-4_認定 こども園 | Q1: 2ｰア-5_小規模保育事業 | R1: 2ｰア-6_家庭的保育事業 | S1: 2ｰア-7_事業所内保育事業 | T1: 2ｰア-8_居宅訪問型保育事業 | U1: 2ｰア-9_一時預かり事業 | V1: 2ｰア-10_病児保育事業 | W1: 2ｰア-11_乳児等通園支援事業 | X1: 2ｰア-12_放課後児童健全育成事業 | Y1: 2ｰア-13_児童館 | Z1: 2ｰア-14_児童育成支援拠点事業 | AA1: 2ｰア-15_子育て短期支援事業 | AB1: 2ｰア-16_認可外保育施設 | AC1: 2ｰア-17_施設種別別計 | AD1: 2-イ-1_身体的虐待 | AE1: 2-イ-2_性的虐待 | AF1: 2-イ-3_ネグレクト | AG1: 2-イ-4_心理的虐待 | AH1: 2-イ-5_類型別件数計 | AI1: 2-イ-6_身体的・心理的重複 | AJ1: 2-イ-7_性的・心理重複 | AK1: 2-イ-8_ネグレクト・心理重複 | AL1: 2-イ-9_身体的・ネグレクト・心理重複 | AM1: 2-ウ-1_男子人数 | AN1: 2-ウ-2_女子人数 | AO1: 2-ウ-3_性別別件数計 | AP1: 2-ウ-4_こども複数名 | AQ1: 2-エ-1_0歳児 | AR1: 2-エ-2_1歳児 | AS1: 2-エ-3_2歳児 | AT1: 2-エ-4_3歳児 | AU1: 2-エ-5_4歳児 | AV1: 2-エ-6_5歳児 | AW1: 2-エ-7_小学生 | AX1: 2-エ-8_中学生以上 | AY1: 2-エ-9_年齢層計 | AZ1: 2-オ-1_管理者 | BA1: 2-オ-2_保育士 | BB1: 2-オ-3_幼稚園教諭 | BC1: 2-オ-4_特別支援学校幼稚部教諭 | BD1: 2ｰオｰ5_保育教諭 | BE1: 2ｰオｰ6_放課後児童支援員 | BF1: 2ｰオｰ7_児童厚生員 | BG1: 2ｰオｰ8_児童指導員 | BH1: 2ｰオｰ9_子育て支援員 | BI1: 2ｰオｰ10_調理員・栄養教諭 | BJ1: 2ｰオｰ11_医師 | BK1: 2ｰオｰ12_看護師・養護教諭 | BL1: 2ｰオｰ13_保育補助者 | BM1: 2ｰオｰ14_事務員 | BN1: 2ｰオｰ15_用務員 | BO1: 2ｰオｰ16_送迎バス等の運転手 | BP1: 2ｰオｰ17_その他職員 | BQ1: 2-オ-18_不明 | BR1: 2-オ-19_職種計 | BS1: 2-オ-20_複数職員 | BT1: 3-1_改善勧告 | BU1: 3-2_改善命令 | BV1: 3-3_事業停止(制限)命令 | BW1: 3-4_認可・認定取り消し | BX1: 3-5_変更命令 | BY1: 3-6_閉鎖命令 | BZ1: 3-7_その他の行政指導
A2: =記入様式!$E$12 -> 広島県 | B2: =記入様式!$E$13 -> 健康福祉局こども家庭課 | C2: =記入様式!$E$14 -> 082-513-3167 | D2: =記入様式!$E$15 -> 三山 | E2: =記入様式!$C$21 -> 25 | F2: =記入様式!$E$21 -> 25 | G2: =記入様式!$F$21 -> 0 | H2: =記入様式!$G$21 -> 25 | I2: =記入様式!$H$21 -> 3 | J2: =記入様式!$I$21 -> 16 | K2: =記入様式!$J$21 -> 5 | L2: =記入様式!$K$21 -> 1 | M2: =記入様式!$D$32 -> 2 | N2: =記入様式!$E$32 -> 0 | O2: =記入様式!$F$32 -> 0 | P2: =記入様式!$G$32 -> 0 | Q2: =記入様式!$D$35 -> 1 | R2: =記入様式!$E$35 -> 0 | S2: =記入様式!$F$35 -> 0 | T2: =記入様式!$G$35 -> 0 | U2: =記入様式!$H$35 -> 0 | V2: =記入様式!$I$35 -> 0 | W2: =記入様式!$J$35 -> 0 | X2: =記入様式!$D$38 -> 0 | Y2: =記入様式!$E$38 -> 0 | Z2: =記入様式!$F$38 -> 0 | AA2: =記入様式!$G$38 -> 0 | AB2: =記入様式!$H$38 -> 0 | AC2: =記入様式!$J$38 -> 3 | AD2: =記入様式!$D$43 -> 3 | AE2: =記入様式!$E$43 -> 0 | AF2: =記入様式!$F$43 -> 2 | AG2: =記入様式!$G$43 -> 2 | AH2: =記入様式!$J$43 -> 7 | AI2: =記入様式!$D$47 -> 0 | AJ2: =記入様式!$E$47 -> 0 | AK2: =記入様式!$F$47 -> 0 | AL2: =記入様式!$G$47 -> 0 | AM2: =記入様式!$D$51 -> 14 | AN2: =記入様式!$E$51 -> 4 | AO2: =記入様式!$J$51 -> 18 | AP2: =記入様式!$D$56 -> 3 | AQ2: =記入様式!$D$60 -> 4 | AR2: =記入様式!$E$60 -> 0 | AS2: =記入様式!$F$60 -> 0 | AT2: =記入様式!$G$60 -> 2 | AU2: =記入様式!$H$60 -> 4 | AV2: =記入様式!$I$60 -> 8 | AW2: =記入様式!$D$63 -> 0 | AX2: =記入様式!$E$63 -> 0 | AY2: =記入様式!$J$63 -> 18 | AZ2: =記入様式!$D$69 -> 0 | BA2: =記入様式!$E$69 -> 10 | BB2: =記入様式!$F$69 -> 0 | BC2: =記入様式!$G$69 -> 0 | BD2: =記入様式!$H$69 -> 0 | BE2: =記入様式!$D$72 -> 0 | BF2: =記入様式!$E$72 -> 0 | BG2: =記入様式!$F$72 -> 0 | BH2: =記入様式!$G$72 -> 0 | BI2: =記入様式!$H$72 -> 0 | BJ2: =記入様式!$I$72 -> 0 | BK2: =記入様式!$J$72 -> 0 | BL2: =記入様式!$D$75 -> 0 | BM2: =記入様式!$E$75 -> 0 | BN2: =記入様式!$F$75 -> 0 | BO2: =記入様式!$G$75 -> 0 | BP2: =記入様式!$H$75 -> 0 | BQ2: =記入様式!$I$75 -> 0 | BR2: =記入様式!$J$81 -> 10 | BS2: =記入様式!$D$86 -> 2 | BT2: =記入様式!$H$92 -> 2 | BU2: =記入様式!$H$93 -> 1 | BV2: =記入様式!$H$94 -> 0 | BW2: =記入様式!$H$95 -> 0 | BX2: =記入様式!$H$96 -> 0 | BY2: =記入様式!$H$97 -> 0 | BZ2: =記入様式!$H$98 -> 0
