Workbook
Name COL_事業量: 設計書!$E$5
Name COL_詳細情報: 設計書!$C$5
Name COL_単位: 設計書!$F$5
Name COL_塗装情報: 所属別事業量一覧表!$E$8
Name COL_塗装情報: 設計書!$D$5
Name COL_発注分類: 所属別事業量一覧表!$A$8
Name COL_発注分類: 設計書!$A$5
Name COL_幅員: 設計書!$B$5
Name COUNT_SUM: 所属別事業量一覧表!$F$15
Name EditCol: 場所表_更新!$G$3:$G$7
Name EditCol: 場所表_三原_更新!#REF!
Name EditCol: 場所表_三原_新規!#REF!
Name EditCol: 場所表_新規!$H$3:$H$7
Name EditCol: 場所表_尾道_更新!$H$3:$H$124
Name EditCol: 場所表_尾道_新規!#REF!
Name EditCol: 場所表_府中_更新!$H$3:$H$26
Name EditCol: 場所表_府中_新規!$H$3:$H$7
Name EditCol: 場所表_福山西_更新!$G$3:$G$7
Name EditCol: 場所表_福山西_新規!$I$3:$I$13
Name EditCol: 場所表_福山東_更新!$G$3:$G$7
Name EditCol: 場所表_福山東_新規!#REF!
Name EditCol: 場所表_福山北_更新!$H$3:$H$39
Name EditCol: 場所表_福山北_新規!$I$3:$I$49
Name EditRow: 場所表_更新!$A$6:$I$6
Name EditRow: 場所表_三原_更新!#REF!
Name EditRow: 場所表_三原_新規!$B$6:$J$6
Name EditRow: 場所表_新規!$A$6:$J$6
Name EditRow: 場所表_尾道_更新!$B$6:$L$6
Name EditRow: 場所表_尾道_新規!$B$6:$J$6
Name EditRow: 場所表_府中_更新!$B$6:$K$6
Name EditRow: 場所表_府中_新規!$A$6:$J$6
Name EditRow: 場所表_福山西_更新!$A$6:$I$6
Name EditRow: 場所表_福山西_新規!$B$6:$K$6
Name EditRow: 場所表_福山東_更新!$A$6:$I$6
Name EditRow: 場所表_福山東_新規!$B$6:$I$6
Name EditRow: 場所表_福山北_更新!$B$6:$L$6
Name EditRow: 場所表_福山北_新規!$B$6:$K$6
Name EndCol: 場所表_更新!$H$3:$H$7
Name EndCol: 場所表_三原_更新!$H$3:$H$5
Name EndCol: 場所表_三原_新規!$I$3:$I$25
Name EndCol: 場所表_新規!$I$3:$I$7
Name EndCol: 場所表_尾道_更新!$K$3:$K$124
Name EndCol: 場所表_尾道_新規!$I$3:$I$13
Name EndCol: 場所表_府中_更新!$J$3:$J$26
Name EndCol: 場所表_府中_新規!$I$3:$I$7
Name EndCol: 場所表_福山西_更新!$H$3:$H$7
Name EndCol: 場所表_福山西_新規!$J$3:$J$13
Name EndCol: 場所表_福山東_更新!$H$3:$H$7
Name EndCol: 場所表_福山東_新規!#REF!
Name EndCol: 場所表_福山北_更新!$K$3:$K$39
Name EndCol: 場所表_福山北_新規!$J$3:$J$49
Name EndRow: 場所表_更新!$A$7:$I$7
Name EndRow: 場所表_三原_更新!#REF!
Name EndRow: 場所表_三原_新規!$B$25:$J$25
Name EndRow: 場所表_新規!$A$7:$J$7
Name EndRow: 場所表_尾道_更新!$B$124:$L$124
Name EndRow: 場所表_尾道_新規!$B$13:$J$13
Name EndRow: 場所表_府中_更新!$B$26:$K$26
Name EndRow: 場所表_府中_新規!$A$7:$J$7
Name EndRow: 場所表_福山西_更新!$A$7:$I$7

Sheet 表紙等_署用
H1: =IF(工事番号="","№ ","№ " & 工事番号) -> № 8-32 | J1: 工事番号 | K1: 8-32
A2: 署長 | B2: 副署長・次長 | C2: 交通官 | D2: 課長 | E2: 係長 | F2: 主任 | G2: =年月 -> 令和 8 年 9 月 | J2: 年月 | K2: 令和 8 年 9 月
G3: 監督職員 設 計
A12: 工 事 設 計 書
A22: 工事名称 | C22: 福山市引野町1丁目ほか道路標示工事
A28: 工事場所 | C28: 福山市引野町1丁目22番45号桐4号橋東詰交差点
G30: =IF(OR(工事場所箇所数=0,工事場所箇所数=1),"","ほか " & 工事場所箇所数 -1 &" か所") -> ほか 146 か所 | J30: 工事場所箇所数 | K30: =SUM(K31:K59) -> 147
J31: 場所表_広島中央_更新!新規更新合計値 | K31: =IF(ISERROR(INDIRECT(J31)),0,INDIRECT(J31)) -> 0
J32: 場所表_広島東_更新!新規更新合計値 | K32: =IF(ISERROR(INDIRECT(J32)),0,INDIRECT(J32)) -> 0
A33: 工事期間 | C33: 契約日の翌日から令和9年2月26日までの間 | J33: 場所表_広島西_更新!新規更新合計値 | K33: =IF(ISERROR(INDIRECT(J33)),0,INDIRECT(J33)) -> 0
J34: 場所表_広島南_更新!新規更新合計値 | K34: =IF(ISERROR(INDIRECT(J34)),0,INDIRECT(J34)) -> 0
J35: 場所表_安佐南_更新!新規更新合計値 | K35: =IF(ISERROR(INDIRECT(J35)),0,INDIRECT(J35)) -> 0
J36: 場所表_呉_更新!新規更新合計値 | K36: =IF(ISERROR(INDIRECT(J36)),0,INDIRECT(J36)) -> 0
A37: 監督職員 | C37: 高山 航輝 | J37: 場所表_音戸_更新!新規更新合計値 | K37: =IF(ISERROR(INDIRECT(J37)),0,INDIRECT(J37)) -> 0
J38: 場所表_江田島_更新!新規更新合計値 | K38: =IF(ISERROR(INDIRECT(J38)),0,INDIRECT(J38)) -> 0
J39: 場所表_海田_更新!新規更新合計値 | K39: =IF(ISERROR(INDIRECT(J39)),0,INDIRECT(J39)) -> 0
A40: 検 査 員 | C40: 大塚 真二 | J40: 場所表_廿日市_更新!新規更新合計値 | K40: =IF(ISERROR(INDIRECT(J40)),0,INDIRECT(J40)) -> 0
J41: 場所表_大竹_更新!新規更新合計値 | K41: =IF(ISERROR(INDIRECT(J41)),0,INDIRECT(J41)) -> 0
J42: 場所表_竹原_更新!新規更新合計値 | K42: =IF(ISERROR(INDIRECT(J42)),0,INDIRECT(J42)) -> 0
J43: 場所表_広_更新!新規更新合計値 | K43: =IF(ISERROR(INDIRECT(J43)),0,INDIRECT(J43)) -> 0
J44: 場所表_東広島_更新!新規更新合計値 | K44: =IF(ISERROR(INDIRECT(J44)),0,INDIRECT(J44)) -> 0
J45: 場所表_安佐北_更新!新規更新合計値 | K45: =IF(ISERROR(INDIRECT(J45)),0,INDIRECT(J45)) -> 0
A46: 福山東警察署 | J46: 場所表_安芸高田_更新!新規更新合計値 | K46: =IF(ISERROR(INDIRECT(J46)),0,INDIRECT(J46)) -> 0
J47: 場所表_山県_更新!新規更新合計値 | K47: =IF(ISERROR(INDIRECT(J47)),0,INDIRECT(J47)) -> 0
J48: 場所表_尾道_更新!新規更新合計値 | K48: =IF(ISERROR(INDIRECT(J48)),0,INDIRECT(J48)) -> 50
J49: 場所表_因島_更新!新規更新合計値 | K49: =IF(ISERROR(INDIRECT(J49)),0,INDIRECT(J49)) -> 0
J50: 場所表_三原_更新!新規更新合計値 | K50: =IF(ISERROR(INDIRECT(J50)),0,INDIRECT(J50)) -> 13
J51: 場所表_福山西_更新!新規更新合計値 | K51: =IF(ISERROR(INDIRECT(J51)),0,INDIRECT(J51)) -> 3
J52: 場所表_福山東_更新!新規更新合計値 | K52: =IF(ISERROR(INDIRECT(J52)),0,INDIRECT(J52)) -> 44
J53: 場所表_福山北_更新!新規更新合計値 | K53: =IF(ISERROR(INDIRECT(J53)),0,INDIRECT(J53)) -> 27
J54: 場所表_府中_更新!新規更新合計値 | K54: =IF(ISERROR(INDIRECT(J54)),0,INDIRECT(J54)) -> 10
J55: 場所表_庄原_更新!新規更新合計値 | K55: =IF(ISERROR(INDIRECT(J55)),0,INDIRECT(J55)) -> 0
A56: 本工事は下記のとおりとする。 | J56: 場所表_三次_更新!新規更新合計値 | K56: =IF(ISERROR(INDIRECT(J56)),0,INDIRECT(J56)) -> 0
A57: ○ 工事種別 | J57: 場所表_世羅_更新!新規更新合計値 | K57: =IF(ISERROR(INDIRECT(J57)),0,INDIRECT(J57)) -> 0
A58: 塗装工 | J58: 場所表_高速隊_更新!新規更新合計値 | K58: =IF(ISERROR(INDIRECT(J58)),0,INDIRECT(J58)) -> 0
A59: ○ 工事内容 | J59: 場所表_佐伯_更新!新規更新合計値 | K59: =IF(ISERROR(INDIRECT(J59)),0,INDIRECT(J59)) -> 0
A60: 別添のとおり
A61: ○ 特記事項
A62: 1 道路標示工事仕様書に従い、正確に施工すること。 2 交通誘導は交通規制区間内で行い、安全に配意すること。
A63: 記
...

Sheet 表紙等_本部
I1: =表紙等_署用!H1 -> № 8-32
A2: 本部長 | B2: 主務部長 | C2: 主務課長 | D2: 次 席 | E2: 課長補佐 | F2: 係 長 | G2: 主 任 | H2: =表紙等_署用!G2 -> 令和 8 年 9 月
H3: 監督職員 設 計
A12: 工 事 設 計 書
A22: 工事名称 | C22: =表紙等_署用!工事名称 -> 福山市引野町1丁目ほか道路標示工事
A28: 工事場所 | C28: =表紙等_署用!工事場所 -> 福山市引野町1丁目22番45号桐4号橋東詰交差点
H30: =表紙等_署用!G30 -> ほか 146 か所
A33: 工事期間 | C33: =表紙等_署用!工事期間 -> 契約日の翌日から令和9年2月26日までの間
A37: 監督職員 | C37: =表紙等_署用!監督員 -> 高山 航輝
A40: 検 査 員 | C40: =表紙等_署用!検査員 -> 大塚 真二
A46: 広 島 県 警 察 本 部
A56: 本工事は下記のとおりとする。
A57: ○ 工事種別
A58: =表紙等_署用!工事種別 -> 塗装工
A59: ○ 工事内容
A60: =表紙等_署用!工事内容 -> 別添のとおり
A61: ○ 特記事項
A62: =表紙等_署用!特記事項 -> 1 道路標示工事仕様書に従い、正確に施工すること。 2 交通誘導は交通規制区間内で行い、安全に配意すること。
A63: 記
A64: １ 工事場所
A65: 別添工事場所表のとおり
A66: ２ 工事費
A67: 別添工事設計表のとおり
A68: 金 | B68: =表紙等_署用!工事費 -> 0

Sheet 設計書
A1: 道 路 標 示 工 事 設 計 書
H2: ="("&表紙等_署用!H1&")" -> (№ 8-32)
H3: 交 通 規 制 課
A5: 発注分類 | B5: 幅 | C5: 詳細設定 | D5: 塗装種類 | E5: 事業量 | F5: 単位 | G5: 単価（円） | H5: 金額（円） | I5: 小計
A6: 横断歩道等 実線４５㎝幅 | B6: 45 | D6: 溶融式（白） | E6: 1686.8 | F6: m
A7: 実線３０㎝幅 | B7: 30 | D7: 溶融式（白） | E7: 87.6 | F7: m | I7: =IF(SUM(H7:H7)=0,"",SUM(H7:H7))
A8: 実線１５㎝幅 | B8: 15 | D8: 溶融式（白） | E8: 30.9 | F8: m | I8: =IF(SUM(H8:H8)=0,"",SUM(H8:H8))
D9: 溶融式（黄） | E9: 499 | F9: m | I9: =IF(SUM(H9:H9)=0,"",SUM(H9:H9))
A10: 図示 | D10: 溶融式（白） | E10: 1246 | F10: m | I10: =IF(SUM(H10:H10)=0,"",SUM(H10:H10))
A11: 削除 | E11: 2737.3 | F11: m
A12: 小 計 | H12: =ROUNDUP(SUM(H6:H11),0) -> 0 | I12: =SUM(I7:I11) -> 0
A13: 交 通 誘 導 員 ( 労 務 費 ） | D13: 交通整理員Ａ | F13: 人
D14: 交通整理員Ａ（夜間） | F14: 人
D15: 交通整理員Ｂ | E15: 34 | F15: 人
D16: 交通整理員Ｂ（夜間） | F16: 人 | H16: =E16*G16 -> 0
A17: 小 計 | H17: =SUM(H13:H16) -> 0 | I17: =SUM(H13:H16) -> 0
B18: 共 通 仮 設 費 | H18: =ROUNDDOWN((H12+H17)*M18/100,-3) -> 0
B19: 現 場 管 理 費 | H19: =ROUNDDOWN((H12+H18+H17)*$M19/100,-3) -> 0
B20: 一 般 管 理 費 | H20: =J20-M21 -> 0
A21: 計 | H21: =SUM(H12,H17:H20) -> 0
A22: 消 費 税 相 当 分 | H22: =H21*0.1 -> 0
A23: 合 計 | H23: =SUM(H21:H22) -> 0

Sheet 所属別事業量一覧表
A1: 所 属 別 事 業 量 一 覧 表
BQ2: ="("&表紙等_署用!$H$1&")" -> (№ 8-32)
BQ3: 交 通 規 制 課
F5: 工事量
F6: 広島中央 | H6: 広島東 | J6: 広島西 | L6: 広島南 | N6: 安佐南 | P6: 安佐北 | R6: 佐伯 | T6: 海田 | V6: 廿日市 | X6: 大竹 | Z6: 山県 | AB6: 呉 | AD6: 広 | AF6: 音戸 | AH6: 江田島 | AJ6: 東広島 | AL6: 竹原 | AN6: 福山東 | AP6: 福山西 | AR6: 福山北 | AT6: 尾道 | AV6: 因島 | AX6: 三原 | AZ6: 府中 | BB6: 三次 | BD6: 庄原 | BF6: 安芸高田 | BH6: 世羅 | BJ6: 高速隊 | BL6: 木江 | BN6: 機動隊 | BP6: 計
A7: 箇所数 | F7: =BU18 -> 0 | H7: =BU19 -> 0 | J7: =BU20 -> 0 | L7: =BU21 -> 0 | N7: =BU22 -> 0 | P7: =BU33 -> 0 | R7: =BU48 -> 0 | T7: =BU26 -> 0 | V7: =BU27 -> 0 | X7: =BU28 -> 0 | Z7: =BU35 -> 0 | AB7: =BU23 -> 0 | AD7: =BU30 -> 0 | AF7: =BU24 -> 0 | AH7: =BU25 -> 0 | AJ7: =BU31 -> 0 | AL7: =BU29 -> 0 | AN7: =BU40 -> 0 | AP7: =BU39 -> 0 | AR7: =BU41 -> 0 | AT7: =BU36 -> 0 | AV7: =BU37 -> 0 | AX7: =BU38 -> 0 | AZ7: =BU42 -> 0 | BB7: =BU44 -> 0 | BD7: =BU43 -> 0 | BF7: =BU34 -> 0 | BH7: =BU45 -> 0 | BJ7: =BU46 -> 0 | BL7: =BU32 -> 0 | BN7: =BU47 -> 0 | BP7: =SUM(F7:BO7) -> 0
A8: 発注分類 | B8: 幅 | C8: 標示種類 | D8: 詳細設定 | E8: 塗装種類 | F8: 個数 | G8: 施工長 | H8: 個数 | I8: 施工長 | J8: 個数 | K8: 施工長 | L8: 個数 | M8: 施工長 | N8: 個数 | O8: 施工長 | P8: 個数 | Q8: 施工長 | R8: 個数 | S8: 施工長 | T8: 個数 | U8: 施工長 | V8: 個数 | W8: 施工長 | X8: 個数 | Y8: 施工長 | Z8: 個数 | AA8: 施工長 | AB8: 個数 | AC8: 施工長 | AD8: 個数 | AE8: 施工長 | AF8: 個数 | AG8: 施工長 | AH8: 個数 | AI8: 施工長 | AJ8: 個数 | AK8: 施工長 | AL8: 個数 | AM8: 施工長 | AN8: 個数 | AO8: 施工長 | AP8: 個数 | AQ8: 施工長 | AR8: 個数 | AS8: 施工長 | AT8: 個数 | AU8: 施工長 | AV8: 個数 | AW8: 施工長 | AX8: 個数 | AY8: 施工長 | AZ8: 個数 | BA8: 施工長 | BB8: 個数 | BC8: 施工長 | BD8: 個数 | BE8: 施工長 | BF8: 個数 | BG8: 施工長 | BH8: 個数 | BI8: 施工長 | BJ8: 個数 | BK8: 施工長 | BL8: 個数 | BM8: 施工長 | BN8: 個数 | BO8: 施工長 | BP8: 個数 | BQ8: 施工長
A9: 横断歩道等 実線４５㎝幅 | E9: 溶融式（白） | AP9: 2 | AQ9: 31 | AR9: 7 | AS9: 163.1 | AT9: 44 | AU9: 1125.5 | AZ9: 10 | BA9: 367.2 | BP9: =SUMIF(F$8:BO$8,"個数",F9:BO9) -> 63 | BQ9: =SUMIF(F$8:BO$8,"施工長",F9:BO9) -> 1686.8
A10: 実線３０㎝幅 | E10: 溶融式（白） | AR10: 7 | AS10: 23.1 | AT10: 19 | AU10: 54.9 | AZ10: 3 | BA10: 9.6 | BP10: =SUMIF(F$8:BO$8,"個数",F10:BO10) -> 29 | BQ10: =SUMIF(F$8:BO$8,"施工長",F10:BO10) -> 87.6
A11: 実線１５㎝幅 | E11: 溶融式（白） | AR11: 2 | AS11: 15 | AT11: 6 | AU11: 15.9 | BP11: =SUMIF(F$8:BO$8,"個数",F11:BO11) -> 8 | BQ11: =SUMIF(F$8:BO$8,"施工長",F11:BO11) -> 30.9
E12: 溶融式（黄） | AR12: 4 | AS12: 14 | AX12: 2 | AY12: 485 | BP12: =SUMIF(F$8:BO$8,"個数",F12:BO12) -> 6 | BQ12: =SUMIF(F$8:BO$8,"施工長",F12:BO12) -> 499
A13: 図示 | E13: 溶融式（白） | AP13: 8 | AQ13: 72 | AR13: 22 | AS13: 243 | AT13: 82 | AU13: 856 | AZ13: 7 | BA13: 75 | BP13: =SUMIF(F$8:BO$8,"個数",F13:BO13) -> 119 | BQ13: =SUMIF(F$8:BO$8,"施工長",F13:BO13) -> 1246
A14: 削除 | AN14: 82 | AO14: 842.5 | AP14: 7 | AQ14: 156 | AR14: 71 | AS14: 845.8 | AT14: 35 | AU14: 395 | AX14: 35 | AY14: 479 | AZ14: 3 | BA14: 19 | BP14: =SUMIF(F$8:BO$8,"個数",F14:BO14) -> 233 | BQ14: =SUMIF(F$8:BO$8,"施工長",F14:BO14) -> 2737.3
E15: 計 | F15: =SUM(F9:F14) -> 0 | G15: =SUM(G9:G14) -> 0 | H15: =SUM(H9:H14) -> 0 | I15: =SUM(I9:I14) -> 0 | J15: =SUM(J9:J14) -> 0 | K15: =SUM(K9:K14) -> 0 | L15: =SUM(L9:L14) -> 0 | M15: =SUM(M9:M14) -> 0 | ... BO15: =SUM(BO9:BO14) -> 0 | BP15: =SUMIF(F$8:BO$8,"個数",F15:BO15) -> 458 | BQ15: =SUMIF(F$8:BO$8,"施工長",F15:BO15) -> 6287.6

Sheet 場所表_府中_新規
A1: 新規 | C1: ="("&表紙等_署用!H1&")" -> (№ 8-32) | J1: 凸凹 | K1: 文字の折り返しで行高さがおかしくならないように、最終的な出力セルより幅を大きくしてあります。
A2: 整理番号 （規制番号） | B2: 区分 | C2: 道路種別 | D2: 場所・区間 | E2: 標示種別 | G2: 事業量 | K2: 整理番号 （規制番号） | L2: 道路種別 | M2: 場所・区間
E3: 横断歩道本数 記号文字個数 | F3: 数 | J3: 備考(縞数、方向等)
A5: =K5 -> 0 | B5: =IF(A5="〃","〃","新規") -> 新規 | C5: =L5 -> 0 | D5: =M5 -> 0 | N5: =ASC(J5)
A6: =IF(OFFSET(K6,-1,)=K6,"〃",K6) -> 〃 | B6: =IF(A6="〃","〃","新規") -> 〃 | C6: =IF(OFFSET(L6,-1,)=L6,"〃",L6) -> 〃 | D6: =IF(OFFSET(M6,-1,)=M6,"〃",M6) -> 〃 | N6: =ASC(J6)
A7: =IF(OFFSET(K7,-1,)=K7,"〃",K7) -> 〃 | B7: =IF(A7="〃","〃","新規") -> 〃 | C7: =IF(OFFSET(L7,-1,)=L7,"〃",L7) -> 〃 | D7: =IF(OFFSET(M7,-1,)=M7,"〃",M7) -> 〃 | N7: =ASC(J7)
A8: =警察署名 -> 凸凹 | D8: 新規合計 | E8: 0 | G8: =IF(ISERROR(FIND("図示", G3)), IF(ISERROR(FIND("削除", G3)), SUMPRODUCT((ISNUMBER(FIND("横断歩道 実線",$E5:$E7)))*(G5:G7<>""), $F5:$F7), 0), SUMIF(G5:G7,">0",$F5:$F7)) -> 0 | H8: =IF(ISERROR(FIND("図示", H3)), IF(ISERROR(FIND("削除", H3)), SUMPRODUCT((ISNUMBER(FIND("横断歩道 実線",$E5:$E7)))*(H5:H7<>""), $F5:$F7), 0), SUMIF(H5:H7,">0",$F5:$F7)) -> 0 | I8: =IF(ISERROR(FIND("図示", I3)), IF(ISERROR(FIND("削除", I3)), SUMPRODUCT((ISNUMBER(FIND("横断歩道 実線",$E5:$E7)))*(I5:I7<>""), $F5:$F7), 0), SUMIF(I5:I7,">0",$F5:$F7)) -> 0
G9: =SUM(G5:G7) -> 0 | H9: =SUM(H5:H7) -> 0 | I9: =SUM(I5:I7) -> 0

Sheet 場所表_新規
A1: 新規 | C1: ="("&表紙等_署用!H1&")" -> (№ 8-32) | J1: 凸凹 | K1: 文字の折り返しで行高さがおかしくならないように、最終的な出力セルより幅を大きくしてあります。
A2: 整理番号 （規制番号） | B2: 区分 | C2: 道路種別 | D2: 場所・区間 | E2: 標示種別 | G2: 事業量 | K2: 整理番号 （規制番号） | L2: 道路種別 | M2: 場所・区間
E3: 横断歩道本数 記号文字個数 | F3: 数 | J3: 備考(縞数、方向等)
A5: =K5 -> 0 | B5: =IF(A5="〃","〃","新規") -> 新規 | C5: =L5 -> 0 | D5: =M5 -> 0 | N5: =ASC(J5)
A6: =IF(OFFSET(K6,-1,)=K6,"〃",K6) -> 〃 | B6: =IF(A6="〃","〃","新規") -> 〃 | C6: =IF(OFFSET(L6,-1,)=L6,"〃",L6) -> 〃 | D6: =IF(OFFSET(M6,-1,)=M6,"〃",M6) -> 〃 | N6: =ASC(J6)
A7: =IF(OFFSET(K7,-1,)=K7,"〃",K7) -> 〃 | B7: =IF(A7="〃","〃","新規") -> 〃 | C7: =IF(OFFSET(L7,-1,)=L7,"〃",L7) -> 〃 | D7: =IF(OFFSET(M7,-1,)=M7,"〃",M7) -> 〃 | N7: =ASC(J7)
A8: =警察署名 -> 凸凹 | D8: 新規合計 | G8: =IF(ISERROR(FIND("図示", G3)), IF(ISERROR(FIND("削除", G3)), SUMPRODUCT((ISNUMBER(FIND("横断歩道 実線",$E5:$E7)))*(G5:G7<>""), $F5:$F7), 0), SUMIF(G5:G7,">0",$F5:$F7)) -> 0 | H8: =IF(ISERROR(FIND("図示", H3)), IF(ISERROR(FIND("削除", H3)), SUMPRODUCT((ISNUMBER(FIND("横断歩道 実線",$E5:$E7)))*(H5:H7<>""), $F5:$F7), 0), SUMIF(H5:H7,">0",$F5:$F7)) -> 0 | I8: =IF(ISERROR(FIND("図示", I3)), IF(ISERROR(FIND("削除", I3)), SUMPRODUCT((ISNUMBER(FIND("横断歩道 実線",$E5:$E7)))*(I5:I7<>""), $F5:$F7), 0), SUMIF(I5:I7,">0",$F5:$F7)) -> 0
G9: =SUM(G5:G7) -> 0 | H9: =SUM(H5:H7) -> 0 | I9: =SUM(I5:I7) -> 0

Sheet 場所表_更新
A1: 更新 | B1: ="("&表紙等_署用!H1&")" -> (№ 8-32) | I1: 凸凹 | J1: 文字の折り返しで行高さがおかしくならないように、最終的な出力セルより幅を大きくしてあります。
A2: 規制番号 | B2: 道路種別 | C2: 場所・区間 | D2: 標示種別 | F2: 事業量 | J2: 規制番号 | K2: 道路種別 | L2: 場所・区間
D3: 横断歩道本数 記号文字個数 | E3: 数 | I3: 備考(縞数、方向等)
A5: =J5 -> 0 | B5: =K5 -> 0 | C5: =L5 -> 0 | M5: =ASC(I5)
A6: =IF(OFFSET(J6,-1,)=J6,"〃",J6) -> 〃 | B6: =IF(OFFSET(K6,-1,)=K6,"〃",K6) -> 〃 | C6: =IF(OFFSET(L6,-1,)=L6,"〃",L6) -> 〃 | M6: =ASC(I6)
A7: =IF(OFFSET(J7,-1,)=J7,"〃",J7) -> 〃 | B7: =IF(OFFSET(K7,-1,)=K7,"〃",K7) -> 〃 | C7: =IF(OFFSET(L7,-1,)=L7,"〃",L7) -> 〃 | M7: =ASC(I7)
A8: =警察署名 -> 凸凹 | C8: 更新合計 | F8: =IF(ISERROR(FIND("図示", F3)), IF(ISERROR(FIND("削除", F3)), SUMPRODUCT((ISNUMBER(FIND("横断歩道 実線",$D5:$D7)))*(F5:F7<>""), $E5:$E7), 0), SUMIF(F5:F7,">0",$E5:$E7)) -> 0 | G8: =IF(ISERROR(FIND("図示", G3)), IF(ISERROR(FIND("削除", G3)), SUMPRODUCT((ISNUMBER(FIND("横断歩道 実線",$D5:$D7)))*(G5:G7<>""), $E5:$E7), 0), SUMIF(G5:G7,">0",$E5:$E7)) -> 0 | H8: =IF(ISERROR(FIND("図示", H3)), IF(ISERROR(FIND("削除", H3)), SUMPRODUCT((ISNUMBER(FIND("横断歩道 実線",$D5:$D7)))*(H5:H7<>""), $E5:$E7), 0), SUMIF(H5:H7,">0",$E5:$E7)) -> 0
F9: =SUM(F5:F7) -> 0 | G9: =SUM(G5:G7) -> 0 | H9: =SUM(H5:H7) -> 0
A10: =警察署名 -> 凸凹 | C10: 新規更新合計 | D10: =場所表_新規!新規合計+更新合計 -> 0 | F10: =場所表_新規!G8+場所表_更新!F8 -> 0 | G10: =場所表_新規!H8+場所表_更新!G8 -> 0 | H10: =場所表_新規!I8+場所表_更新!H8 -> 0
F11: =場所表_新規!G9+場所表_更新!F9 -> 0 | G11: =場所表_新規!H9+場所表_更新!G9 -> 0 | H11: =場所表_新規!I9+場所表_更新!H9 -> 0

Sheet 場所表_福山東_新規
B1: 新規 | D1: ="("&表紙等_署用!H1&")" -> (№ 8-32) | I1: 福山東 | J1: 文字の折り返しで行高さがおかしくならないように、最終的な出力セルより幅を大きくしてあります。
B2: 整理番号 （規制番号） | C2: 区分 | D2: 道路種別 | E2: 場所・区間 | F2: 標示種別 | H2: 事業量 | J2: 整理番号 （規制番号） | K2: 道路種別 | L2: 場所・区間
F3: 横断歩道本数 記号文字個数 | G3: 数 | H3: 削除 | I3: 備考(縞数、方向等)
H4: m
A5: 1 | B5: =J5 -> 261210223 | C5: =IF(B5="〃","〃","新規") -> 新規 | D5: =K5 -> 市道 | E5: =L5 -> 福山市引野町1丁目22番45号桐4号橋東詰交差点 | F5: (削)停止線 実線（白） | G5: 1 | H5: 4 | I5: 2m | J5: 261210223 | K5: 市道 | L5: 福山市引野町1丁目22番45号桐4号橋東詰交差点 | M5: =ASC(I5) -> 2m
A6: =IF(E5="","",IF(E6="〃",A5,A5+1)) -> 2 | B6: =IF(OFFSET(J6,-1,)=J6,"〃",J6) -> 〃 | C6: =IF(B6="〃","〃","新規") -> 〃 | D6: =IF(OFFSET(K6,-1,)=K6,"〃",K6) -> 〃 | E6: =IF(OFFSET(L6,-1,)=L6,"〃",L6) -> 福山市引野町1丁目2番45号桐4号橋東詰交差点 | F6: (削)止まれ文字 図示（白） | G6: 1 | H6: 13 | J6: 261210223 | K6: 市道 | L6: 福山市引野町1丁目2番45号桐4号橋東詰交差点 | M6: =ASC(I6)
A7: =IF(E6="","",IF(E7="〃",A6,A6+1)) -> 3 | B7: =IF(OFFSET(J7,-1,)=J7,"〃",J7) -> 261210219 | C7: =IF(B7="〃","〃","新規") -> 新規 | D7: =IF(OFFSET(K7,-1,)=K7,"〃",K7) -> 〃 | E7: =IF(OFFSET(L7,-1,)=L7,"〃",L7) -> 福山市引野町2,491番地先交差点 | F7: (削)止まれ文字 図示（白） | G7: 1 | H7: 10 | J7: 261210219 | K7: 市道 | L7: 福山市引野町2,491番地先交差点 | M7: =ASC(I7)
A8: =IF(E7="","",IF(E8="〃",A7,A7+1)) -> 4 | B8: =IF(OFFSET(J8,-1,)=J8,"〃",J8) -> 〃 | C8: =IF(B8="〃","〃","新規") -> 〃 | D8: =IF(OFFSET(K8,-1,)=K8,"〃",K8) -> 〃 | E8: =IF(OFFSET(L8,-1,)=L8,"〃",L8) -> 福山市引野町273番地1東側先交差点 | F8: (削)止まれ文字 図示（白） | G8: 1 | H8: 20 | J8: 261210219 | K8: 市道 | L8: 福山市引野町273番地1東側先交差点 | M8: =ASC(I8)
A9: =IF(E8="","",IF(E9="〃",A8,A8+1)) -> 4 | B9: =IF(OFFSET(J9,-1,)=J9,"〃",J9) -> 〃 | C9: =IF(B9="〃","〃","新規") -> 〃 | D9: =IF(OFFSET(K9,-1,)=K9,"〃",K9) -> 〃 | E9: =IF(OFFSET(L9,-1,)=L9,"〃",L9) -> 〃 | F9: (削)停止線 実線（白） | G9: 1 | H9: 9 | I9: 3m | J9: 261210219 | K9: 市道 | L9: 福山市引野町273番地1東側先交差点 | M9: =ASC(I9) -> 3m
A10: =IF(E9="","",IF(E10="〃",A9,A9+1)) -> 5 | B10: =IF(OFFSET(J10,-1,)=J10,"〃",J10) -> 〃 | C10: =IF(B10="〃","〃","新規") -> 〃 | D10: =IF(OFFSET(K10,-1,)=K10,"〃",K10) -> 〃 | E10: =IF(OFFSET(L10,-1,)=L10,"〃",L10) -> 福山市引野町3丁目5番16号先交差点 | F10: (削)止まれ文字 図示（白） | G10: 1 | H10: 20 | I10: 北側 | J10: 261210219 | K10: 市道 | L10: 福山市引野町3丁目5番16号先交差点 | M10: =ASC(I10) -> 北側
A11: =IF(E10="","",IF(E11="〃",A10,A10+1)) -> 6 | B11: =IF(OFFSET(J11,-1,)=J11,"〃",J11) -> 〃 | C11: =IF(B11="〃","〃","新規") -> 〃 | D11: =IF(OFFSET(K11,-1,)=K11,"〃",K11) -> 〃 | E11: =IF(OFFSET(L11,-1,)=L11,"〃",L11) -> 福山市引野町4丁目2番36号先交差点 | F11: (削)停止線 実線（白） | G11: 2 | H11: 10 | I11: 南側、2ｍ_x000D_ 北側、３ｍ | J11: 261210219 | K11: 市道 | L11: 福山市引野町4丁目2番36号先交差点 | M11: =ASC(I11) -> 南側､2m_x000D_ 北側､3m
A12: =IF(E11="","",IF(E12="〃",A11,A11+1)) -> 7 | B12: =IF(OFFSET(J12,-1,)=J12,"〃",J12) -> 〃 | C12: =IF(B12="〃","〃","新規") -> 〃 | D12: =IF(OFFSET(K12,-1,)=K12,"〃",K12) -> 〃 | E12: =IF(OFFSET(L12,-1,)=L12,"〃",L12) -> 福山市引野町4丁目3番19号先交差点 | F12: (削)止まれ文字 図示（白） | G12: 1 | H12: 20 | I12: 北側 | J12: 261210219 | K12: 市道 | L12: 福山市引野町4丁目3番19号先交差点 | M12: =ASC(I12) -> 北側
A13: =IF(E12="","",IF(E13="〃",A12,A12+1)) -> 7 | B13: =IF(OFFSET(J13,-1,)=J13,"〃",J13) -> 〃 | C13: =IF(B13="〃","〃","新規") -> 〃 | D13: =IF(OFFSET(K13,-1,)=K13,"〃",K13) -> 〃 | E13: =IF(OFFSET(L13,-1,)=L13,"〃",L13) -> 〃 | F13: (削)停止線 実線（白） | G13: 1 | H13: 6 | I13: 北側、３ｍ | J13: 261210219 | K13: 市道 | L13: 福山市引野町4丁目3番19号先交差点 | M13: =ASC(I13) -> 北側､3m
A14: =IF(E13="","",IF(E14="〃",A13,A13+1)) -> 8 | B14: =IF(OFFSET(J14,-1,)=J14,"〃",J14) -> 〃 | C14: =IF(B14="〃","〃","新規") -> 〃 | D14: =IF(OFFSET(K14,-1,)=K14,"〃",K14) -> 〃 | E14: =IF(OFFSET(L14,-1,)=L14,"〃",L14) -> 福山市引野町5丁目23番1号先交差点 | F14: (削)止まれ文字 図示（白） | G14: 2 | H14: 20 | I14: 南側 | J14: 261210219 | K14: 市道 | L14: 福山市引野町5丁目23番1号先交差点 | M14: =ASC(I14) -> 南側
A15: =IF(E14="","",IF(E15="〃",A14,A14+1)) -> 8 | B15: =IF(OFFSET(J15,-1,)=J15,"〃",J15) -> 〃 | C15: =IF(B15="〃","〃","新規") -> 〃 | D15: =IF(OFFSET(K15,-1,)=K15,"〃",K15) -> 〃 | E15: =IF(OFFSET(L15,-1,)=L15,"〃",L15) -> 〃 | F15: (削)停止線 実線（白） | G15: 1 | H15: 6 | I15: 北側、２ｍ | J15: 261210219 | K15: 市道 | L15: 福山市引野町5丁目23番1号先交差点 | M15: =ASC(I15) -> 北側､2m
A16: =IF(E15="","",IF(E16="〃",A15,A15+1)) -> 9 | B16: =IF(OFFSET(J16,-1,)=J16,"〃",J16) -> 〃 | C16: =IF(B16="〃","〃","新規") -> 〃 | D16: =IF(OFFSET(K16,-1,)=K16,"〃",K16) -> 〃 | E16: =IF(OFFSET(L16,-1,)=L16,"〃",L16) -> 福山市引野町5丁目26番40号先交差点 | F16: (削)止まれ文字 図示（白） | G16: 1 | H16: 10 | J16: 261210219 | K16: 市道 | L16: 福山市引野町5丁目26番40号先交差点 | M16: =ASC(I16)
A17: =IF(E16="","",IF(E17="〃",A16,A16+1)) -> 9 | B17: =IF(OFFSET(J17,-1,)=J17,"〃",J17) -> 〃 | C17: =IF(B17="〃","〃","新規") -> 〃 | D17: =IF(OFFSET(K17,-1,)=K17,"〃",K17) -> 〃 | E17: =IF(OFFSET(L17,-1,)=L17,"〃",L17) -> 〃 | F17: (削)停止線 実線（白） | G17: 1 | H17: 6 | I17: ３ｍ | J17: 261210219 | K17: 市道 | L17: 福山市引野町5丁目26番40号先交差点 | M17: =ASC(I17) -> 3m
A18: =IF(E17="","",IF(E18="〃",A17,A17+1)) -> 10 | B18: =IF(OFFSET(J18,-1,)=J18,"〃",J18) -> 〃 | C18: =IF(B18="〃","〃","新規") -> 〃 | D18: =IF(OFFSET(K18,-1,)=K18,"〃",K18) -> 〃 | E18: =IF(OFFSET(L18,-1,)=L18,"〃",L18) -> 福山市引野町5丁目29番1号先交差点 | F18: (削)止まれ文字 図示（白） | G18: 1 | H18: 10 | J18: 261210219 | K18: 市道 | L18: 福山市引野町5丁目29番1号先交差点 | M18: =ASC(I18)
A19: =IF(E18="","",IF(E19="〃",A18,A18+1)) -> 10 | B19: =IF(OFFSET(J19,-1,)=J19,"〃",J19) -> 〃 | C19: =IF(B19="〃","〃","新規") -> 〃 | D19: =IF(OFFSET(K19,-1,)=K19,"〃",K19) -> 〃 | E19: =IF(OFFSET(L19,-1,)=L19,"〃",L19) -> 〃 | F19: (削)停止線 実線（白） | G19: 1 | H19: 2 | I19: １ｍ | J19: 261210219 | K19: 市道 | L19: 福山市引野町5丁目29番1号先交差点 | M19: =ASC(I19) -> 1m
A20: =IF(E19="","",IF(E20="〃",A19,A19+1)) -> 11 | B20: =IF(OFFSET(J20,-1,)=J20,"〃",J20) -> 〃 | C20: =IF(B20="〃","〃","新規") -> 〃 | D20: =IF(OFFSET(K20,-1,)=K20,"〃",K20) -> 〃 | E20: =IF(OFFSET(L20,-1,)=L20,"〃",L20) -> 福山市引野町980の1番地先（竹之内交差点） | F20: (削)自転車横断帯 自転車マーク | G20: 1 | H20: 1 | J20: 261210219 | K20: 市道 | L20: 福山市引野町980の1番地先（竹之内交差点） | M20: =ASC(I20)
A21: =IF(E20="","",IF(E21="〃",A20,A20+1)) -> 11 | B21: =IF(OFFSET(J21,-1,)=J21,"〃",J21) -> 〃 | C21: =IF(B21="〃","〃","新規") -> 〃 | D21: =IF(OFFSET(K21,-1,)=K21,"〃",K21) -> 〃 | E21: =IF(OFFSET(L21,-1,)=L21,"〃",L21) -> 〃 | F21: (削)自転車横断帯 実線（白） | G21: 2 | H21: 2 | I21: 両側１ｍ削除 | J21: 261210219 | K21: 市道 | L21: 福山市引野町980の1番地先（竹之内交差点） | M21: =ASC(I21) -> 両側1m削除
A22: =IF(E21="","",IF(E22="〃",A21,A21+1)) -> 12 | B22: =IF(OFFSET(J22,-1,)=J22,"〃",J22) -> 〃 | C22: =IF(B22="〃","〃","新規") -> 〃 | D22: =IF(OFFSET(K22,-1,)=K22,"〃",K22) -> 〃 | E22: =IF(OFFSET(L22,-1,)=L22,"〃",L22) -> 福山市引野町北2丁目22番3号先（内田（北）交差点） | F22: (削)自転車横断帯 自転車マーク | G22: 1 | H22: 1 | J22: 261210219 | K22: 市道 | L22: 福山市引野町北2丁目22番3号先（内田（北）交差点） | M22: =ASC(I22)
A23: =IF(E22="","",IF(E23="〃",A22,A22+1)) -> 12 | B23: =IF(OFFSET(J23,-1,)=J23,"〃",J23) -> 〃 | C23: =IF(B23="〃","〃","新規") -> 〃 | D23: =IF(OFFSET(K23,-1,)=K23,"〃",K23) -> 〃 | E23: =IF(OFFSET(L23,-1,)=L23,"〃",L23) -> 〃 | F23: (削)自転車横断帯 実線（白） | G23: 2 | H23: 2 | I23: 両側１ｍ削除 | J23: 261210219 | K23: 市道 | L23: 福山市引野町北2丁目22番3号先（内田（北）交差点） | M23: =ASC(I23) -> 両側1m削除
A24: =IF(E23="","",IF(E24="〃",A23,A23+1)) -> 13 | B24: =IF(OFFSET(J24,-1,)=J24,"〃",J24) -> 261210223 | C24: =IF(B24="〃","〃","新規") -> 新規 | D24: =IF(OFFSET(K24,-1,)=K24,"〃",K24) -> 〃 | E24: =IF(OFFSET(L24,-1,)=L24,"〃",L24) -> 福山市引野町北4丁目23番9号先（東消防署前交差点） | F24: (削)自転車横断帯 自転車マーク | G24: 1 | H24: 1 | I24: 西側 | J24: 261210223 | K24: 市道 | L24: 福山市引野町北4丁目23番9号先（東消防署前交差点） | M24: =ASC(I24) -> 西側
A25: =IF(E24="","",IF(E25="〃",A24,A24+1)) -> 14 | B25: =IF(OFFSET(J25,-1,)=J25,"〃",J25) -> 〃 | C25: =IF(B25="〃","〃","新規") -> 〃 | D25: =IF(OFFSET(K25,-1,)=K25,"〃",K25) -> 〃 | E25: =IF(OFFSET(L25,-1,)=L25,"〃",L25) -> 福山市王子町2丁目12番15号先交差点 | F25: (削)止まれ文字 図示（白） | G25: 1 | H25: 10 | J25: 261210223 | K25: 市道 | L25: 福山市王子町2丁目12番15号先交差点 | M25: =ASC(I25)
A26: =IF(E25="","",IF(E26="〃",A25,A25+1)) -> 15 | B26: =IF(OFFSET(J26,-1,)=J26,"〃",J26) -> 〃 | C26: =IF(B26="〃","〃","新規") -> 〃 | D26: =IF(OFFSET(K26,-1,)=K26,"〃",K26) -> 〃 | E26: =IF(OFFSET(L26,-1,)=L26,"〃",L26) -> 福山市王子町2丁目13番5号先交差点 | F26: (削)止まれ文字 図示（白） | G26: 1 | H26: 13 | J26: 261210223 | K26: 市道 | L26: 福山市王子町2丁目13番5号先交差点 | M26: =ASC(I26)
A27: =IF(E26="","",IF(E27="〃",A26,A26+1)) -> 15 | B27: =IF(OFFSET(J27,-1,)=J27,"〃",J27) -> 〃 | C27: =IF(B27="〃","〃","新規") -> 〃 | D27: =IF(OFFSET(K27,-1,)=K27,"〃",K27) -> 〃 | E27: =IF(OFFSET(L27,-1,)=L27,"〃",L27) -> 〃 | F27: (削)停止線 実線（白） | G27: 1 | H27: 5 | I27: 2.5m | J27: 261210223 | K27: 市道 | L27: 福山市王子町2丁目13番5号先交差点 | M27: =ASC(I27) -> 2.5m
A28: =IF(E27="","",IF(E28="〃",A27,A27+1)) -> 16 | B28: =IF(OFFSET(J28,-1,)=J28,"〃",J28) -> 〃 | C28: =IF(B28="〃","〃","新規") -> 〃 | D28: =IF(OFFSET(K28,-1,)=K28,"〃",K28) -> 〃 | E28: =IF(OFFSET(L28,-1,)=L28,"〃",L28) -> 福山市王子町2丁目15番11号先交差点 | F28: (削)止まれ文字 図示（白） | G28: 1 | H28: 20 | J28: 261210223 | K28: 市道 | L28: 福山市王子町2丁目15番11号先交差点 | M28: =ASC(I28)
A29: =IF(E28="","",IF(E29="〃",A28,A28+1)) -> 16 | B29: =IF(OFFSET(J29,-1,)=J29,"〃",J29) -> 〃 | C29: =IF(B29="〃","〃","新規") -> 〃 | D29: =IF(OFFSET(K29,-1,)=K29,"〃",K29) -> 〃 | E29: =IF(OFFSET(L29,-1,)=L29,"〃",L29) -> 〃 | F29: (削)停止線 実線（白） | G29: 1 | H29: 2 | I29: 1m | J29: 261210223 | K29: 市道 | L29: 福山市王子町2丁目15番11号先交差点 | M29: =ASC(I29) -> 1m
A30: =IF(E29="","",IF(E30="〃",A29,A29+1)) -> 17 | B30: =IF(OFFSET(J30,-1,)=J30,"〃",J30) -> 〃 | C30: =IF(B30="〃","〃","新規") -> 〃 | D30: =IF(OFFSET(K30,-1,)=K30,"〃",K30) -> 〃 | E30: =IF(OFFSET(L30,-1,)=L30,"〃",L30) -> 福山市王子町2丁目18番19号先交差点 | F30: (削)止まれ文字 図示（白） | G30: 1 | H30: 13 | J30: 261210223 | K30: 市道 | L30: 福山市王子町2丁目18番19号先交差点 | M30: =ASC(I30)
A31: =IF(E30="","",IF(E31="〃",A30,A30+1)) -> 17 | B31: =IF(OFFSET(J31,-1,)=J31,"〃",J31) -> 〃 | C31: =IF(B31="〃","〃","新規") -> 〃 | D31: =IF(OFFSET(K31,-1,)=K31,"〃",K31) -> 〃 | E31: =IF(OFFSET(L31,-1,)=L31,"〃",L31) -> 〃 | F31: (削)停止線 実線（白） | G31: 1 | H31: 6 | I31: 3m | J31: 261210223 | K31: 市道 | L31: 福山市王子町2丁目18番19号先交差点 | M31: =ASC(I31) -> 3m
A32: =IF(E31="","",IF(E32="〃",A31,A31+1)) -> 18 | B32: =IF(OFFSET(J32,-1,)=J32,"〃",J32) -> 〃 | C32: =IF(B32="〃","〃","新規") -> 〃 | D32: =IF(OFFSET(K32,-1,)=K32,"〃",K32) -> 〃 | E32: =IF(OFFSET(L32,-1,)=L32,"〃",L32) -> 福山市沖野上町1丁目9番6号先（沖野上町1丁目東交差点） | F32: (削)自転車横断帯 実線（白） | G32: 4 | H32: 48 | I32: 12ｍ両側2本ずつ | J32: 261210223 | K32: 市道 | L32: 福山市沖野上町1丁目9番6号先（沖野上町1丁目東交差点） | M32: =ASC(I32) -> 12m両側2本ずつ
A33: =IF(E32="","",IF(E33="〃",A32,A32+1)) -> 19 | B33: =IF(OFFSET(J33,-1,)=J33,"〃",J33) -> 261210219 | C33: =IF(B33="〃","〃","新規") -> 新規 | D33: =IF(OFFSET(K33,-1,)=K33,"〃",K33) -> 〃 | E33: =IF(OFFSET(L33,-1,)=L33,"〃",L33) -> 福山市久松台2丁目10番3号先交差点 | F33: (削)止まれ文字 図示（白） | G33: 1 | H33: 20 | J33: 261210219 | K33: 市道 | L33: 福山市久松台2丁目10番3号先交差点 | M33: =ASC(I33)
A34: =IF(E33="","",IF(E34="〃",A33,A33+1)) -> 20 | B34: =IF(OFFSET(J34,-1,)=J34,"〃",J34) -> 〃 | C34: =IF(B34="〃","〃","新規") -> 〃 | D34: =IF(OFFSET(K34,-1,)=K34,"〃",K34) -> 〃 | E34: =IF(OFFSET(L34,-1,)=L34,"〃",L34) -> 福山市久松台2丁目11番15号先交差点 | F34: (削)止まれ文字 図示（白） | G34: 1 | H34: 20 | J34: 261210219 | K34: 市道 | L34: 福山市久松台2丁目11番15号先交差点 | M34: =ASC(I34)
A35: =IF(E34="","",IF(E35="〃",A34,A34+1)) -> 20 | B35: =IF(OFFSET(J35,-1,)=J35,"〃",J35) -> 〃 | C35: =IF(B35="〃","〃","新規") -> 〃 | D35: =IF(OFFSET(K35,-1,)=K35,"〃",K35) -> 〃 | E35: =IF(OFFSET(L35,-1,)=L35,"〃",L35) -> 〃 | F35: (削)停止線 実線（白） | G35: 1 | H35: 2 | I35: １ｍ | J35: 261210219 | K35: 市道 | L35: 福山市久松台2丁目11番15号先交差点 | M35: =ASC(I35) -> 1m
A36: =IF(E35="","",IF(E36="〃",A35,A35+1)) -> 21 | B36: =IF(OFFSET(J36,-1,)=J36,"〃",J36) -> 〃 | C36: =IF(B36="〃","〃","新規") -> 〃 | D36: =IF(OFFSET(K36,-1,)=K36,"〃",K36) -> 〃 | E36: =IF(OFFSET(L36,-1,)=L36,"〃",L36) -> 福山市久松台2丁目9番26号先交差点 | F36: (削)止まれ文字 図示（白） | G36: 1 | H36: 20 | J36: 261210219 | K36: 市道 | L36: 福山市久松台2丁目9番26号先交差点 | M36: =ASC(I36)
A37: =IF(E36="","",IF(E37="〃",A36,A36+1)) -> 21 | B37: =IF(OFFSET(J37,-1,)=J37,"〃",J37) -> 〃 | C37: =IF(B37="〃","〃","新規") -> 〃 | D37: =IF(OFFSET(K37,-1,)=K37,"〃",K37) -> 〃 | E37: =IF(OFFSET(L37,-1,)=L37,"〃",L37) -> 〃 | F37: (削)停止線 実線（白） | G37: 1 | H37: 4 | I37: ２ｍ | J37: 261210219 | K37: 市道 | L37: 福山市久松台2丁目9番26号先交差点 | M37: =ASC(I37) -> 2m
A38: =IF(E37="","",IF(E38="〃",A37,A37+1)) -> 22 | B38: =IF(OFFSET(J38,-1,)=J38,"〃",J38) -> 〃 | C38: =IF(B38="〃","〃","新規") -> 〃 | D38: =IF(OFFSET(K38,-1,)=K38,"〃",K38) -> 〃 | E38: =IF(OFFSET(L38,-1,)=L38,"〃",L38) -> 福山市手城町2丁目1番24号先交差点 | F38: (削)止まれ文字 図示（白） | G38: 1 | H38: 10 | J38: 261210219 | K38: 市道 | L38: 福山市手城町2丁目1番24号先交差点 | M38: =ASC(I38)
A39: =IF(E38="","",IF(E39="〃",A38,A38+1)) -> 23 | B39: =IF(OFFSET(J39,-1,)=J39,"〃",J39) -> 〃 | C39: =IF(B39="〃","〃","新規") -> 〃 | D39: =IF(OFFSET(K39,-1,)=K39,"〃",K39) -> 〃 | E39: =IF(OFFSET(L39,-1,)=L39,"〃",L39) -> 福山市西桜町1丁目9番3号先交差点 | F39: (削)止まれ文字 図示（白） | G39: 1 | H39: 13 | J39: 261210219 | K39: 市道 | L39: 福山市西桜町1丁目9番3号先交差点 | M39: =ASC(I39)
A40: =IF(E39="","",IF(E40="〃",A39,A39+1)) -> 23 | B40: =IF(OFFSET(J40,-1,)=J40,"〃",J40) -> 〃 | C40: =IF(B40="〃","〃","新規") -> 〃 | D40: =IF(OFFSET(K40,-1,)=K40,"〃",K40) -> 〃 | E40: =IF(OFFSET(L40,-1,)=L40,"〃",L40) -> 〃 | F40: (削)停止線 実線（白） | G40: 1 | H40: 6 | I40: ３ｍ | J40: 261210219 | K40: 市道 | L40: 福山市西桜町1丁目9番3号先交差点 | M40: =ASC(I40) -> 3m
...

Sheet 場所表_福山東_更新
A1: 更新 | B1: ="("&表紙等_署用!H1&")" -> (№ 8-32) | I1: 凸凹 | J1: 文字の折り返しで行高さがおかしくならないように、最終的な出力セルより幅を大きくしてあります。
A2: 規制番号 | B2: 道路種別 | C2: 場所・区間 | D2: 標示種別 | F2: 事業量 | J2: 規制番号 | K2: 道路種別 | L2: 場所・区間
D3: 横断歩道本数 記号文字個数 | E3: 数 | I3: 備考(縞数、方向等)
A5: =J5 -> 0 | B5: =K5 -> 0 | C5: =L5 -> 0 | M5: =ASC(I5)
A6: =IF(OFFSET(J6,-1,)=J6,"〃",J6) -> 〃 | B6: =IF(OFFSET(K6,-1,)=K6,"〃",K6) -> 〃 | C6: =IF(OFFSET(L6,-1,)=L6,"〃",L6) -> 〃 | M6: =ASC(I6)
A7: =IF(OFFSET(J7,-1,)=J7,"〃",J7) -> 〃 | B7: =IF(OFFSET(K7,-1,)=K7,"〃",K7) -> 〃 | C7: =IF(OFFSET(L7,-1,)=L7,"〃",L7) -> 〃 | M7: =ASC(I7)
A8: =警察署名 -> 凸凹 | C8: 更新合計 | D8: 0 | F8: =IF(ISERROR(FIND("図示", F3)), IF(ISERROR(FIND("削除", F3)), SUMPRODUCT((ISNUMBER(FIND("横断歩道 実線",$D5:$D7)))*(F5:F7<>""), $E5:$E7), 0), SUMIF(F5:F7,">0",$E5:$E7)) -> 0 | G8: =IF(ISERROR(FIND("図示", G3)), IF(ISERROR(FIND("削除", G3)), SUMPRODUCT((ISNUMBER(FIND("横断歩道 実線",$D5:$D7)))*(G5:G7<>""), $E5:$E7), 0), SUMIF(G5:G7,">0",$E5:$E7)) -> 0 | H8: =IF(ISERROR(FIND("図示", H3)), IF(ISERROR(FIND("削除", H3)), SUMPRODUCT((ISNUMBER(FIND("横断歩道 実線",$D5:$D7)))*(H5:H7<>""), $E5:$E7), 0), SUMIF(H5:H7,">0",$E5:$E7)) -> 0
F9: =SUM(F5:F7) -> 0 | G9: =SUM(G5:G7) -> 0 | H9: =SUM(H5:H7) -> 0
A10: =警察署名 -> 凸凹 | C10: 新規更新合計 | D10: =場所表_福山東_新規!新規合計+更新合計 -> 44 | F10: =場所表_新規!G8+場所表_福山東_更新!F8 -> 0 | G10: =場所表_新規!H8+場所表_福山東_更新!G8 -> 0 | H10: =場所表_新規!I8+場所表_福山東_更新!H8 -> 0
F11: =場所表_新規!G9+場所表_福山東_更新!F9 -> 0 | G11: =場所表_新規!H9+場所表_福山東_更新!G9 -> 0 | H11: =場所表_新規!I9+場所表_福山東_更新!H9 -> 0

Sheet 場所表_福山西_新規
B1: 新規 | D1: ="("&表紙等_署用!H1&")" -> (№ 8-32) | K1: 福山西 | L1: 文字の折り返しで行高さがおかしくならないように、最終的な出力セルより幅を大きくしてあります。
B2: 整理番号 （規制番号） | C2: 区分 | D2: 道路種別 | E2: 場所・区間 | F2: 標示種別 | H2: 事業量 | L2: 整理番号 （規制番号） | M2: 道路種別 | N2: 場所・区間
F3: 横断歩道本数 記号文字個数 | G3: 数 | H3: 横断歩道等 実線４５㎝幅 | I3: 図示 | J3: 削除 | K3: 備考(縞数、方向等)
H4: m | I4: m | J4: m
A5: 1 | B5: =L5 -> 261200009_x000D_ (第20-7-2368) | C5: =IF(B5="〃","〃","新規") -> 新規 | D5: =M5 -> 市道 | E5: =N5 -> 福山市熊野町1,082番地3南方25メートル先交差点 | F5: 横断歩道 実線（白） | G5: 1 | H5: 15 | K5: 3m5縞 | L5: 261200009_x000D_ (第20-7-2368) | M5: 市道 | N5: 福山市熊野町1,082番地3南方25メートル先交差点 | O5: =ASC(K5) -> 3m5縞
A6: =IF(E5="","",IF(E6="〃",A5,A5+1)) -> 1 | B6: =IF(OFFSET(L6,-1,)=L6,"〃",L6) -> 〃 | C6: =IF(B6="〃","〃","新規") -> 〃 | D6: =IF(OFFSET(M6,-1,)=M6,"〃",M6) -> 〃 | E6: =IF(OFFSET(N6,-1,)=N6,"〃",N6) -> 〃 | F6: 横断歩道予告 図示（白） | G6: 4 | I6: 36 | K6: 北西側2個_x000D_ 南東側2個 | L6: 261200009_x000D_ (第20-7-2368) | M6: 市道 | N6: 福山市熊野町1,082番地3南方25メートル先交差点 | O6: =ASC(K6) -> 北西側2個_x000D_ 南東側2個
A7: =IF(E6="","",IF(E7="〃",A6,A6+1)) -> 1 | B7: =IF(OFFSET(L7,-1,)=L7,"〃",L7) -> 〃 | C7: =IF(B7="〃","〃","新規") -> 〃 | D7: =IF(OFFSET(M7,-1,)=M7,"〃",M7) -> 〃 | E7: =IF(OFFSET(N7,-1,)=N7,"〃",N7) -> 〃 | F7: 停止線 実線（白） | G7: 2 | H7: 4.2 | K7: 北西側2.1ｍ_x000D_ 南東側2.1ｍ | L7: 261200009_x000D_ (第20-7-2368) | M7: 市道 | N7: 福山市熊野町1,082番地3南方25メートル先交差点 | O7: =ASC(K7) -> 北西側2.1m_x000D_ 南東側2.1m
A8: =IF(E7="","",IF(E8="〃",A7,A7+1)) -> 2 | B8: =IF(OFFSET(L8,-1,)=L8,"〃",L8) -> 261200009_x000D_ (第20-7-2369) | C8: =IF(B8="〃","〃","新規") -> 新規 | D8: =IF(OFFSET(M8,-1,)=M8,"〃",M8) -> 〃 | E8: =IF(OFFSET(N8,-1,)=N8,"〃",N8) -> 福山市山手町1,358番地1先 | F8: 横断歩道 実線（白） | G8: 1 | H8: 9 | K8: 3m3縞 | L8: 261200009_x000D_ (第20-7-2369) | M8: 市道 | N8: 福山市山手町1,358番地1先 | O8: =ASC(K8) -> 3m3縞
A9: =IF(E8="","",IF(E9="〃",A8,A8+1)) -> 2 | B9: =IF(OFFSET(L9,-1,)=L9,"〃",L9) -> 〃 | C9: =IF(B9="〃","〃","新規") -> 〃 | D9: =IF(OFFSET(M9,-1,)=M9,"〃",M9) -> 〃 | E9: =IF(OFFSET(N9,-1,)=N9,"〃",N9) -> 〃 | F9: 横断歩道予告 図示（白） | G9: 4 | I9: 36 | K9: 南西側2個_x000D_ 北東側2個 | L9: 261200009_x000D_ (第20-7-2369) | M9: 市道 | N9: 福山市山手町1,358番地1先 | O9: =ASC(K9) -> 南西側2個_x000D_ 北東側2個
A10: =IF(E9="","",IF(E10="〃",A9,A9+1)) -> 2 | B10: =IF(OFFSET(L10,-1,)=L10,"〃",L10) -> 〃 | C10: =IF(B10="〃","〃","新規") -> 〃 | D10: =IF(OFFSET(M10,-1,)=M10,"〃",M10) -> 〃 | E10: =IF(OFFSET(N10,-1,)=N10,"〃",N10) -> 〃 | F10: 停止線 実線（白） | G10: 2 | H10: 2.8 | K10: 南西側1.4ｍ_x000D_ 北東側1.4ｍ | L10: 261200009_x000D_ (第20-7-2369) | M10: 市道 | N10: 福山市山手町1,358番地1先 | O10: =ASC(K10) -> 南西側1.4m_x000D_ 北東側1.4m
A11: =IF(E10="","",IF(E11="〃",A10,A10+1)) -> 3 | B11: =IF(OFFSET(L11,-1,)=L11,"〃",L11) -> 261200009 | C11: =IF(B11="〃","〃","新規") -> 新規 | D11: =IF(OFFSET(M11,-1,)=M11,"〃",M11) -> 県道 | E11: =IF(OFFSET(N11,-1,)=N11,"〃",N11) -> 福山市山手町1016番地西側交差点 | F11: (削)横断歩道 実線（白） | G11: 1 | J11: 108 | K11: 4m9縞 | L11: 261200009 | M11: 県道 | N11: 福山市山手町1016番地西側交差点 | O11: =ASC(K11) -> 4m9縞
A12: =IF(E11="","",IF(E12="〃",A11,A11+1)) -> 3 | B12: =IF(OFFSET(L12,-1,)=L12,"〃",L12) -> 〃 | C12: =IF(B12="〃","〃","新規") -> 〃 | D12: =IF(OFFSET(M12,-1,)=M12,"〃",M12) -> 〃 | E12: =IF(OFFSET(N12,-1,)=N12,"〃",N12) -> 〃 | F12: (削)横断歩道予告 図示（白） | G12: 4 | J12: 36 | K12: 南西側2個_x000D_ 北東側2個 | L12: 261200009 | M12: 県道 | N12: 福山市山手町1016番地西側交差点 | O12: =ASC(K12) -> 南西側2個_x000D_ 北東側2個
A13: =IF(E12="","",IF(E13="〃",A12,A12+1)) -> 3 | B13: =IF(OFFSET(L13,-1,)=L13,"〃",L13) -> 〃 | C13: =IF(B13="〃","〃","新規") -> 〃 | D13: =IF(OFFSET(M13,-1,)=M13,"〃",M13) -> 〃 | E13: =IF(OFFSET(N13,-1,)=N13,"〃",N13) -> 〃 | F13: (削)停止線 実線（白） | G13: 2 | J13: 12 | K13: 南西側1.7ｍ_x000D_ 北東側2.3ｍ | L13: 261200009 | M13: 県道 | N13: 福山市山手町1016番地西側交差点 | O13: =ASC(K13) -> 南西側1.7m_x000D_ 北東側2.3m
B14: =警察署名 -> 福山西 | E14: 新規合計 | F14: 3 | H14: =IF(ISERROR(FIND("図示", H3)), IF(ISERROR(FIND("削除", H3)), SUMPRODUCT((ISNUMBER(FIND("横断歩道 実線",$F5:$F13)))*(H5:H13<>""), $G5:$G13), 0), SUMIF(H5:H13,">0",$G5:$G13)) -> 2 | I14: =IF(ISERROR(FIND("図示", I3)), IF(ISERROR(FIND("削除", I3)), SUMPRODUCT((ISNUMBER(FIND("横断歩道 実線",$F5:$F13)))*(I5:I13<>""), $G5:$G13), 0), SUMIF(I5:I13,">0",$G5:$G13)) -> 8 | J14: =IF(ISERROR(FIND("図示", J3)), IF(ISERROR(FIND("削除", J3)), SUMPRODUCT((ISNUMBER(FIND("横断歩道 実線",$F5:$F13)))*(J5:J13<>""), $G5:$G13), 0), SUMIF(J5:J13,">0",$G5:$G13)) -> 0
H15: =SUM(H5:H13) -> 31 | I15: =SUM(I5:I13) -> 72 | J15: =SUM(J5:J13) -> 156

Sheet 場所表_福山西_更新
A1: 更新 | B1: ="("&表紙等_署用!H1&")" -> (№ 8-32) | I1: 凸凹 | J1: 文字の折り返しで行高さがおかしくならないように、最終的な出力セルより幅を大きくしてあります。
A2: 規制番号 | B2: 道路種別 | C2: 場所・区間 | D2: 標示種別 | F2: 事業量 | J2: 規制番号 | K2: 道路種別 | L2: 場所・区間
D3: 横断歩道本数 記号文字個数 | E3: 数 | I3: 備考(縞数、方向等)
A5: =J5 -> 0 | B5: =K5 -> 0 | C5: =L5 -> 0 | M5: =ASC(I5)
A6: =IF(OFFSET(J6,-1,)=J6,"〃",J6) -> 〃 | B6: =IF(OFFSET(K6,-1,)=K6,"〃",K6) -> 〃 | C6: =IF(OFFSET(L6,-1,)=L6,"〃",L6) -> 〃 | M6: =ASC(I6)
A7: =IF(OFFSET(J7,-1,)=J7,"〃",J7) -> 〃 | B7: =IF(OFFSET(K7,-1,)=K7,"〃",K7) -> 〃 | C7: =IF(OFFSET(L7,-1,)=L7,"〃",L7) -> 〃 | M7: =ASC(I7)
A8: =警察署名 -> 凸凹 | C8: 更新合計 | D8: 0 | F8: =IF(ISERROR(FIND("図示", F3)), IF(ISERROR(FIND("削除", F3)), SUMPRODUCT((ISNUMBER(FIND("横断歩道 実線",$D5:$D7)))*(F5:F7<>""), $E5:$E7), 0), SUMIF(F5:F7,">0",$E5:$E7)) -> 0 | G8: =IF(ISERROR(FIND("図示", G3)), IF(ISERROR(FIND("削除", G3)), SUMPRODUCT((ISNUMBER(FIND("横断歩道 実線",$D5:$D7)))*(G5:G7<>""), $E5:$E7), 0), SUMIF(G5:G7,">0",$E5:$E7)) -> 0 | H8: =IF(ISERROR(FIND("図示", H3)), IF(ISERROR(FIND("削除", H3)), SUMPRODUCT((ISNUMBER(FIND("横断歩道 実線",$D5:$D7)))*(H5:H7<>""), $E5:$E7), 0), SUMIF(H5:H7,">0",$E5:$E7)) -> 0
F9: =SUM(F5:F7) -> 0 | G9: =SUM(G5:G7) -> 0 | H9: =SUM(H5:H7) -> 0
A10: =警察署名 -> 凸凹 | C10: 新規更新合計 | D10: =場所表_福山西_新規!新規合計+更新合計 -> 3 | F10: =場所表_新規!G8+場所表_福山西_更新!F8 -> 0 | G10: =場所表_新規!H8+場所表_福山西_更新!G8 -> 0 | H10: =場所表_新規!I8+場所表_福山西_更新!H8 -> 0
F11: =場所表_新規!G9+場所表_福山西_更新!F9 -> 0 | G11: =場所表_新規!H9+場所表_福山西_更新!G9 -> 0 | H11: =場所表_新規!I9+場所表_福山西_更新!H9 -> 0

Sheet 場所表_福山北_新規
B1: 新規 | D1: ="("&表紙等_署用!H1&")" -> (№ 8-32) | K1: 福山北 | L1: 文字の折り返しで行高さがおかしくならないように、最終的な出力セルより幅を大きくしてあります。
B2: 整理番号 （規制番号） | C2: 区分 | D2: 道路種別 | E2: 場所・区間 | F2: 標示種別 | H2: 事業量 | L2: 整理番号 （規制番号） | M2: 道路種別 | N2: 場所・区間
F3: 横断歩道本数 記号文字個数 | G3: 数 | H3: 横断歩道等 実線４５㎝幅 | I3: 実線１５㎝幅 | J3: 削除 | K3: 備考(縞数、方向等)
H4: m | I4: m | J4: m
A5: 1 | B5: =L5 -> 261280090_x000D_ (第20-7-0673) | C5: =IF(B5="〃","〃","新規") -> 新規 | D5: =M5 -> 県道 | E5: =N5 -> 福山市芦田町下有地1,036番地1先交差点 | F5: (削)横断歩道 実線（白） | G5: 1 | J5: 8 | K5: 全縞削除 | L5: 261280090_x000D_ (第20-7-0673) | M5: 県道 | N5: 福山市芦田町下有地1,036番地1先交差点 | O5: =ASC(K5) -> 全縞削除
A6: =IF(E5="","",IF(E6="〃",A5,A5+1)) -> 1 | B6: =IF(OFFSET(L6,-1,)=L6,"〃",L6) -> 〃 | C6: =IF(B6="〃","〃","新規") -> 〃 | D6: =IF(OFFSET(M6,-1,)=M6,"〃",M6) -> 〃 | E6: =IF(OFFSET(N6,-1,)=N6,"〃",N6) -> 〃 | F6: (削)横断歩道予告 図示（白） | G6: 4 | J6: 28 | K6: 西側(近)全削除_x000D_ 西側(遠)全削除_x000D_ 東側(近)全削除_x000D_ 東側(遠)全削除 | L6: 261280090_x000D_ (第20-7-0673) | M6: 県道 | N6: 福山市芦田町下有地1,036番地1先交差点 | O6: =ASC(K6) -> 西側(近)全削除_x000D_ 西側(遠)全削除_x000D_ 東側(近)全削除_x000D_ 東側(遠)全削除
A7: =IF(E6="","",IF(E7="〃",A6,A6+1)) -> 1 | B7: =IF(OFFSET(L7,-1,)=L7,"〃",L7) -> 〃 | C7: =IF(B7="〃","〃","新規") -> 〃 | D7: =IF(OFFSET(M7,-1,)=M7,"〃",M7) -> 〃 | E7: =IF(OFFSET(N7,-1,)=N7,"〃",N7) -> 〃 | F7: (削)停止線 実線（白） | G7: 1 | J7: 3 | K7: 西側全削除 | L7: 261280090_x000D_ (第20-7-0673) | M7: 県道 | N7: 福山市芦田町下有地1,036番地1先交差点 | O7: =ASC(K7) -> 西側全削除
A8: =IF(E7="","",IF(E8="〃",A7,A7+1)) -> 2 | B8: =IF(OFFSET(L8,-1,)=L8,"〃",L8) -> 261280090_x000D_ (第20-7-1199) | C8: =IF(B8="〃","〃","新規") -> 新規 | D8: =IF(OFFSET(M8,-1,)=M8,"〃",M8) -> 〃 | E8: =IF(OFFSET(N8,-1,)=N8,"〃",N8) -> 福山市芦田町下有地1,095番地4先交差点 | F8: (削)横断歩道 実線（白） | G8: 1 | J8: 50 | K8: 全縞削除 | L8: 261280090_x000D_ (第20-7-1199) | M8: 県道 | N8: 福山市芦田町下有地1,095番地4先交差点 | O8: =ASC(K8) -> 全縞削除
A9: =IF(E8="","",IF(E9="〃",A8,A8+1)) -> 2 | B9: =IF(OFFSET(L9,-1,)=L9,"〃",L9) -> 〃 | C9: =IF(B9="〃","〃","新規") -> 〃 | D9: =IF(OFFSET(M9,-1,)=M9,"〃",M9) -> 〃 | E9: =IF(OFFSET(N9,-1,)=N9,"〃",N9) -> 〃 | F9: (削)横断歩道予告 図示（白） | G9: 4 | J9: 36 | K9: 北側(近)全削除_x000D_ 北側(遠)全削除_x000D_ 南側(近)全削除_x000D_ 南側(遠)全削除 | L9: 261280090_x000D_ (第20-7-1199) | M9: 県道 | N9: 福山市芦田町下有地1,095番地4先交差点 | O9: =ASC(K9) -> 北側(近)全削除_x000D_ 北側(遠)全削除_x000D_ 南側(近)全削除_x000D_ 南側(遠)全削除
A10: =IF(E9="","",IF(E10="〃",A9,A9+1)) -> 2 | B10: =IF(OFFSET(L10,-1,)=L10,"〃",L10) -> 〃 | C10: =IF(B10="〃","〃","新規") -> 〃 | D10: =IF(OFFSET(M10,-1,)=M10,"〃",M10) -> 〃 | E10: =IF(OFFSET(N10,-1,)=N10,"〃",N10) -> 〃 | F10: (削)停止線 実線（白） | G10: 2 | J10: 10 | K10: 南側全削除_x000D_ 北側全削除 | L10: 261280090_x000D_ (第20-7-1199) | M10: 県道 | N10: 福山市芦田町下有地1,095番地4先交差点 | O10: =ASC(K10) -> 南側全削除_x000D_ 北側全削除
A11: =IF(E10="","",IF(E11="〃",A10,A10+1)) -> 3 | B11: =IF(OFFSET(L11,-1,)=L11,"〃",L11) -> 261280090_x000D_ (第20-7-0671) | C11: =IF(B11="〃","〃","新規") -> 新規 | D11: =IF(OFFSET(M11,-1,)=M11,"〃",M11) -> 市道 | E11: =IF(OFFSET(N11,-1,)=N11,"〃",N11) -> 福山市駅家町法成寺149番地2先交差点 | F11: (削)横断歩道 実線（白） | G11: 1 | J11: 40 | K11: 西側全縞削除 | L11: 261280090_x000D_ (第20-7-0671) | M11: 市道 | N11: 福山市駅家町法成寺149番地2先交差点 | O11: =ASC(K11) -> 西側全縞削除
A12: =IF(E11="","",IF(E12="〃",A11,A11+1)) -> 3 | B12: =IF(OFFSET(L12,-1,)=L12,"〃",L12) -> 〃 | C12: =IF(B12="〃","〃","新規") -> 〃 | D12: =IF(OFFSET(M12,-1,)=M12,"〃",M12) -> 〃 | E12: =IF(OFFSET(N12,-1,)=N12,"〃",N12) -> 〃 | F12: (削)横断歩道予告 図示（白） | G12: 4 | J12: 20 | K12: 東側(遠)全削除_x000D_ 東側(近)全削除_x000D_ 西側(遠)全削除_x000D_ 西側(近)全削除 | L12: 261280090_x000D_ (第20-7-0671) | M12: 市道 | N12: 福山市駅家町法成寺149番地2先交差点 | O12: =ASC(K12) -> 東側(遠)全削除_x000D_ 東側(近)全削除_x000D_ 西側(遠)全削除_x000D_ 西側(近)全削除
A13: =IF(E12="","",IF(E13="〃",A12,A12+1)) -> 3 | B13: =IF(OFFSET(L13,-1,)=L13,"〃",L13) -> 〃 | C13: =IF(B13="〃","〃","新規") -> 〃 | D13: =IF(OFFSET(M13,-1,)=M13,"〃",M13) -> 〃 | E13: =IF(OFFSET(N13,-1,)=N13,"〃",N13) -> 〃 | F13: (削)停止線 実線（白） | G13: 2 | J13: 6 | K13: 西側全削除_x000D_ 東側全削除 | L13: 261280090_x000D_ (第20-7-0671) | M13: 市道 | N13: 福山市駅家町法成寺149番地2先交差点 | O13: =ASC(K13) -> 西側全削除_x000D_ 東側全削除
A14: =IF(E13="","",IF(E14="〃",A13,A13+1)) -> 4 | B14: =IF(OFFSET(L14,-1,)=L14,"〃",L14) -> 261280090 | C14: =IF(B14="〃","〃","新規") -> 新規 | D14: =IF(OFFSET(M14,-1,)=M14,"〃",M14) -> 県道 | E14: =IF(OFFSET(N14,-1,)=N14,"〃",N14) -> 福山市駅家町法成寺229番地2先交差点 | F14: (削)横断歩道 実線（白） | G14: 1 | J14: 35 | K14: 全縞削除 | L14: 261280090 | M14: 県道 | N14: 福山市駅家町法成寺229番地2先交差点 | O14: =ASC(K14) -> 全縞削除
A15: =IF(E14="","",IF(E15="〃",A14,A14+1)) -> 4 | B15: =IF(OFFSET(L15,-1,)=L15,"〃",L15) -> 〃 | C15: =IF(B15="〃","〃","新規") -> 〃 | D15: =IF(OFFSET(M15,-1,)=M15,"〃",M15) -> 〃 | E15: =IF(OFFSET(N15,-1,)=N15,"〃",N15) -> 〃 | F15: (削)横断歩道予告 図示（白） | G15: 1 | J15: 1 | K15: 南側(近)全削除 | L15: 261280090 | M15: 県道 | N15: 福山市駅家町法成寺229番地2先交差点 | O15: =ASC(K15) -> 南側(近)全削除
A16: =IF(E15="","",IF(E16="〃",A15,A15+1)) -> 4 | B16: =IF(OFFSET(L16,-1,)=L16,"〃",L16) -> 〃 | C16: =IF(B16="〃","〃","新規") -> 〃 | D16: =IF(OFFSET(M16,-1,)=M16,"〃",M16) -> 〃 | E16: =IF(OFFSET(N16,-1,)=N16,"〃",N16) -> 〃 | F16: (削)停止線 実線（白） | G16: 1 | J16: 6 | K16: 南側全削除 | L16: 261280090 | M16: 県道 | N16: 福山市駅家町法成寺229番地2先交差点 | O16: =ASC(K16) -> 南側全削除
A17: =IF(E16="","",IF(E17="〃",A16,A16+1)) -> 5 | B17: =IF(OFFSET(L17,-1,)=L17,"〃",L17) -> 〃 | C17: =IF(B17="〃","〃","新規") -> 〃 | D17: =IF(OFFSET(M17,-1,)=M17,"〃",M17) -> 市道 | E17: =IF(OFFSET(N17,-1,)=N17,"〃",N17) -> 福山市駅家町法成寺243番地1先交差点 | F17: (削)横断歩道 実線（白） | G17: 1 | J17: 72 | K17: 全縞削除 | L17: 261280090 | M17: 市道 | N17: 福山市駅家町法成寺243番地1先交差点 | O17: =ASC(K17) -> 全縞削除
A18: =IF(E17="","",IF(E18="〃",A17,A17+1)) -> 5 | B18: =IF(OFFSET(L18,-1,)=L18,"〃",L18) -> 〃 | C18: =IF(B18="〃","〃","新規") -> 〃 | D18: =IF(OFFSET(M18,-1,)=M18,"〃",M18) -> 〃 | E18: =IF(OFFSET(N18,-1,)=N18,"〃",N18) -> 〃 | F18: (削)横断歩道予告 図示（白） | G18: 4 | J18: 24 | K18: 北側(遠)全削除_x000D_ 北側(近)全削除_x000D_ 南側(遠)全削除_x000D_ 南側(近)全削除 | L18: 261280090 | M18: 市道 | N18: 福山市駅家町法成寺243番地1先交差点 | O18: =ASC(K18) -> 北側(遠)全削除_x000D_ 北側(近)全削除_x000D_ 南側(遠)全削除_x000D_ 南側(近)全削除
A19: =IF(E18="","",IF(E19="〃",A18,A18+1)) -> 5 | B19: =IF(OFFSET(L19,-1,)=L19,"〃",L19) -> 〃 | C19: =IF(B19="〃","〃","新規") -> 〃 | D19: =IF(OFFSET(M19,-1,)=M19,"〃",M19) -> 〃 | E19: =IF(OFFSET(N19,-1,)=N19,"〃",N19) -> 〃 | F19: (削)停止線 実線（白） | G19: 2 | J19: 15 | K19: 南側全削除_x000D_ 北側全削除 | L19: 261280090 | M19: 市道 | N19: 福山市駅家町法成寺243番地1先交差点 | O19: =ASC(K19) -> 南側全削除_x000D_ 北側全削除
A20: =IF(E19="","",IF(E20="〃",A19,A19+1)) -> 6 | B20: =IF(OFFSET(L20,-1,)=L20,"〃",L20) -> 〃 | C20: =IF(B20="〃","〃","新規") -> 〃 | D20: =IF(OFFSET(M20,-1,)=M20,"〃",M20) -> 〃 | E20: =IF(OFFSET(N20,-1,)=N20,"〃",N20) -> 福山市駅家町法成寺549番地2先交差点 | F20: (削)横断歩道 実線（白） | G20: 1 | J20: 4 | K20: 全縞削除 | L20: 261280090 | M20: 市道 | N20: 福山市駅家町法成寺549番地2先交差点 | O20: =ASC(K20) -> 全縞削除
A21: =IF(E20="","",IF(E21="〃",A20,A20+1)) -> 6 | B21: =IF(OFFSET(L21,-1,)=L21,"〃",L21) -> 〃 | C21: =IF(B21="〃","〃","新規") -> 〃 | D21: =IF(OFFSET(M21,-1,)=M21,"〃",M21) -> 〃 | E21: =IF(OFFSET(N21,-1,)=N21,"〃",N21) -> 〃 | F21: (削)横断歩道予告 図示（白） | G21: 1 | J21: 6 | K21: 北側(遠)全削除 | L21: 261280090 | M21: 市道 | N21: 福山市駅家町法成寺549番地2先交差点 | O21: =ASC(K21) -> 北側(遠)全削除
A22: =IF(E21="","",IF(E22="〃",A21,A21+1)) -> 6 | B22: =IF(OFFSET(L22,-1,)=L22,"〃",L22) -> 〃 | C22: =IF(B22="〃","〃","新規") -> 〃 | D22: =IF(OFFSET(M22,-1,)=M22,"〃",M22) -> 〃 | E22: =IF(OFFSET(N22,-1,)=N22,"〃",N22) -> 〃 | F22: (削)停止線 実線（白） | G22: 2 | J22: 4 | K22: 南側全削除_x000D_ 北側全削除 | L22: 261280090 | M22: 市道 | N22: 福山市駅家町法成寺549番地2先交差点 | O22: =ASC(K22) -> 南側全削除_x000D_ 北側全削除
A23: =IF(E22="","",IF(E23="〃",A22,A22+1)) -> 7 | B23: =IF(OFFSET(L23,-1,)=L23,"〃",L23) -> 261280090_x000D_ (第20-7-0715) | C23: =IF(B23="〃","〃","新規") -> 新規 | D23: =IF(OFFSET(M23,-1,)=M23,"〃",M23) -> 〃 | E23: =IF(OFFSET(N23,-1,)=N23,"〃",N23) -> 福山市駅家町法成寺81番地6先交差点 | F23: 停止線 実線（白） | G23: 1 | H23: 1.8 | K23: 南側1.8m既存削除後北寄に移設(施工位置署担当者に確認) | L23: 261280090_x000D_ (第20-7-0715) | M23: 市道 | N23: 福山市駅家町法成寺81番地6先交差点 | O23: =ASC(K23) -> 南側1.8m既存削除後北寄に移設(施工位置署担当者に確認)
A24: =IF(E23="","",IF(E24="〃",A23,A23+1)) -> 7 | B24: =IF(OFFSET(L24,-1,)=L24,"〃",L24) -> 〃 | C24: =IF(B24="〃","〃","新規") -> 〃 | D24: =IF(OFFSET(M24,-1,)=M24,"〃",M24) -> 〃 | E24: =IF(OFFSET(N24,-1,)=N24,"〃",N24) -> 〃 | F24: (削)横断歩道 実線（白） | G24: 1 | J24: 36 | K24: 南側全削除 | L24: 261280090_x000D_ (第20-7-0715) | M24: 市道 | N24: 福山市駅家町法成寺81番地6先交差点 | O24: =ASC(K24) -> 南側全削除
A25: =IF(E24="","",IF(E25="〃",A24,A24+1)) -> 7 | B25: =IF(OFFSET(L25,-1,)=L25,"〃",L25) -> 〃 | C25: =IF(B25="〃","〃","新規") -> 〃 | D25: =IF(OFFSET(M25,-1,)=M25,"〃",M25) -> 〃 | E25: =IF(OFFSET(N25,-1,)=N25,"〃",N25) -> 〃 | F25: (削)停止線 実線（白） | G25: 1 | J25: 5.4 | K25: 南側全削除 | L25: 261280090_x000D_ (第20-7-0715) | M25: 市道 | N25: 福山市駅家町法成寺81番地6先交差点 | O25: =ASC(K25) -> 南側全削除
A26: =IF(E25="","",IF(E26="〃",A25,A25+1)) -> 8 | B26: =IF(OFFSET(L26,-1,)=L26,"〃",L26) -> 261280099_x000D_ (第20-7-0753) | C26: =IF(B26="〃","〃","新規") -> 新規 | D26: =IF(OFFSET(M26,-1,)=M26,"〃",M26) -> 県道 | E26: =IF(OFFSET(N26,-1,)=N26,"〃",N26) -> 福山市駅家町万能倉1,310番地1先交差点 | F26: 停止線 実線（白） | G26: 1 | H26: 3 | K26: 東側既存削除後西方に移設(移設場所署担当者に確認) | L26: 261280099_x000D_ (第20-7-0753) | M26: 県道 | N26: 福山市駅家町万能倉1,310番地1先交差点 | O26: =ASC(K26) -> 東側既存削除後西方に移設(移設場所署担当者に確認)
A27: =IF(E26="","",IF(E27="〃",A26,A26+1)) -> 8 | B27: =IF(OFFSET(L27,-1,)=L27,"〃",L27) -> 〃 | C27: =IF(B27="〃","〃","新規") -> 〃 | D27: =IF(OFFSET(M27,-1,)=M27,"〃",M27) -> 〃 | E27: =IF(OFFSET(N27,-1,)=N27,"〃",N27) -> 〃 | F27: (削)横断歩道 実線（白） | G27: 1 | J27: 5 | K27: 全縞削除 | L27: 261280099_x000D_ (第20-7-0753) | M27: 県道 | N27: 福山市駅家町万能倉1,310番地1先交差点 | O27: =ASC(K27) -> 全縞削除
A28: =IF(E27="","",IF(E28="〃",A27,A27+1)) -> 8 | B28: =IF(OFFSET(L28,-1,)=L28,"〃",L28) -> 〃 | C28: =IF(B28="〃","〃","新規") -> 〃 | D28: =IF(OFFSET(M28,-1,)=M28,"〃",M28) -> 〃 | E28: =IF(OFFSET(N28,-1,)=N28,"〃",N28) -> 〃 | F28: (削)停止線 実線（白） | G28: 1 | J28: 3 | K28: 東側全削除 | L28: 261280099_x000D_ (第20-7-0753) | M28: 県道 | N28: 福山市駅家町万能倉1,310番地1先交差点 | O28: =ASC(K28) -> 東側全削除
A29: =IF(E28="","",IF(E29="〃",A28,A28+1)) -> 8 | B29: =IF(OFFSET(L29,-1,)=L29,"〃",L29) -> 261280099 | C29: =IF(B29="〃","〃","新規") -> 新規 | D29: =IF(OFFSET(M29,-1,)=M29,"〃",M29) -> 市道 | E29: =IF(OFFSET(N29,-1,)=N29,"〃",N29) -> 〃 | F29: その他 線 | G29: 1 | I29: 4 | K29: 中央線(白)4m延長 | L29: 261280099 | M29: 市道 | N29: 福山市駅家町万能倉1,310番地1先交差点 | O29: =ASC(K29) -> 中央線(白)4m延長
A30: =IF(E29="","",IF(E30="〃",A29,A29+1)) -> 9 | B30: =IF(OFFSET(L30,-1,)=L30,"〃",L30) -> 261280090 | C30: =IF(B30="〃","〃","新規") -> 新規 | D30: =IF(OFFSET(M30,-1,)=M30,"〃",M30) -> 〃 | E30: =IF(OFFSET(N30,-1,)=N30,"〃",N30) -> 福山市駅家町万能倉1,436番地7先交差点 | F30: その他 線 | G30: 1 | I30: 3 | K30: 中央線(黄)延長 | L30: 261280090 | M30: 市道 | N30: 福山市駅家町万能倉1,436番地7先交差点 | O30: =ASC(K30) -> 中央線(黄)延長
A31: =IF(E30="","",IF(E31="〃",A30,A30+1)) -> 9 | B31: =IF(OFFSET(L31,-1,)=L31,"〃",L31) -> 〃 | C31: =IF(B31="〃","〃","新規") -> 〃 | D31: =IF(OFFSET(M31,-1,)=M31,"〃",M31) -> 〃 | E31: =IF(OFFSET(N31,-1,)=N31,"〃",N31) -> 〃 | F31: (削)横断歩道 実線（白） | G31: 1 | J31: 54 | K31: 全縞削除 | L31: 261280090 | M31: 市道 | N31: 福山市駅家町万能倉1,436番地7先交差点 | O31: =ASC(K31) -> 全縞削除
A32: =IF(E31="","",IF(E32="〃",A31,A31+1)) -> 9 | B32: =IF(OFFSET(L32,-1,)=L32,"〃",L32) -> 〃 | C32: =IF(B32="〃","〃","新規") -> 〃 | D32: =IF(OFFSET(M32,-1,)=M32,"〃",M32) -> 〃 | E32: =IF(OFFSET(N32,-1,)=N32,"〃",N32) -> 〃 | F32: (削)横断歩道予告 図示（白） | G32: 3 | J32: 19 | K32: 東側(近)全削除_x000D_ 東側(遠)全削除_x000D_ 西側(近)全削除 | L32: 261280090 | M32: 市道 | N32: 福山市駅家町万能倉1,436番地7先交差点 | O32: =ASC(K32) -> 東側(近)全削除_x000D_ 東側(遠)全削除_x000D_ 西側(近)全削除
A33: =IF(E32="","",IF(E33="〃",A32,A32+1)) -> 9 | B33: =IF(OFFSET(L33,-1,)=L33,"〃",L33) -> 〃 | C33: =IF(B33="〃","〃","新規") -> 〃 | D33: =IF(OFFSET(M33,-1,)=M33,"〃",M33) -> 〃 | E33: =IF(OFFSET(N33,-1,)=N33,"〃",N33) -> 〃 | F33: (削)停止線 実線（白） | G33: 2 | J33: 15.9 | K33: 東側全削除_x000D_ 西側全削除 | L33: 261280090 | M33: 市道 | N33: 福山市駅家町万能倉1,436番地7先交差点 | O33: =ASC(K33) -> 東側全削除_x000D_ 西側全削除
A34: =IF(E33="","",IF(E34="〃",A33,A33+1)) -> 10 | B34: =IF(OFFSET(L34,-1,)=L34,"〃",L34) -> 〃 | C34: =IF(B34="〃","〃","新規") -> 〃 | D34: =IF(OFFSET(M34,-1,)=M34,"〃",M34) -> 〃 | E34: =IF(OFFSET(N34,-1,)=N34,"〃",N34) -> 福山市駅家町万能倉1番地1先交差点 | F34: (削)横断歩道 実線（白） | G34: 1 | J34: 54 | K34: 全縞削除 | L34: 261280090 | M34: 市道 | N34: 福山市駅家町万能倉1番地1先交差点 | O34: =ASC(K34) -> 全縞削除
A35: =IF(E34="","",IF(E35="〃",A34,A34+1)) -> 10 | B35: =IF(OFFSET(L35,-1,)=L35,"〃",L35) -> 〃 | C35: =IF(B35="〃","〃","新規") -> 〃 | D35: =IF(OFFSET(M35,-1,)=M35,"〃",M35) -> 〃 | E35: =IF(OFFSET(N35,-1,)=N35,"〃",N35) -> 〃 | F35: (削)横断歩道予告 図示（白） | G35: 4 | J35: 26 | K35: 西側(遠)全削除_x000D_ 西側(近)全削除_x000D_ 東側(遠)全削除_x000D_ 東側(近)全削除 | L35: 261280090 | M35: 市道 | N35: 福山市駅家町万能倉1番地1先交差点 | O35: =ASC(K35) -> 西側(遠)全削除_x000D_ 西側(近)全削除_x000D_ 東側(遠)全削除_x000D_ 東側(近)全削除
A36: =IF(E35="","",IF(E36="〃",A35,A35+1)) -> 10 | B36: =IF(OFFSET(L36,-1,)=L36,"〃",L36) -> 〃 | C36: =IF(B36="〃","〃","新規") -> 〃 | D36: =IF(OFFSET(M36,-1,)=M36,"〃",M36) -> 〃 | E36: =IF(OFFSET(N36,-1,)=N36,"〃",N36) -> 〃 | F36: (削)停止線 実線（白） | G36: 2 | J36: 14.5 | K36: 西側全削除_x000D_ 東側全削除 | L36: 261280090 | M36: 市道 | N36: 福山市駅家町万能倉1番地1先交差点 | O36: =ASC(K36) -> 西側全削除_x000D_ 東側全削除
A37: =IF(E36="","",IF(E37="〃",A36,A36+1)) -> 11 | B37: =IF(OFFSET(L37,-1,)=L37,"〃",L37) -> 261280099_x000D_ (第20-7-0412) | C37: =IF(B37="〃","〃","新規") -> 新規 | D37: =IF(OFFSET(M37,-1,)=M37,"〃",M37) -> 県道 | E37: =IF(OFFSET(N37,-1,)=N37,"〃",N37) -> 福山市加茂町粟根16番地3先交差点 | F37: 停止線 実線（白） | G37: 1 | H37: 3 | K37: 北側既存削除後南方に移設(施工場所署担当者に確認) | L37: 261280099_x000D_ (第20-7-0412) | M37: 県道 | N37: 福山市加茂町粟根16番地3先交差点 | O37: =ASC(K37) -> 北側既存削除後南方に移設(施工場所署担当者に確認)
A38: =IF(E37="","",IF(E38="〃",A37,A37+1)) -> 11 | B38: =IF(OFFSET(L38,-1,)=L38,"〃",L38) -> 〃 | C38: =IF(B38="〃","〃","新規") -> 〃 | D38: =IF(OFFSET(M38,-1,)=M38,"〃",M38) -> 〃 | E38: =IF(OFFSET(N38,-1,)=N38,"〃",N38) -> 〃 | F38: (削)横断歩道 実線（白） | G38: 1 | J38: 50 | K38: 北側全縞削除 | L38: 261280099_x000D_ (第20-7-0412) | M38: 県道 | N38: 福山市加茂町粟根16番地3先交差点 | O38: =ASC(K38) -> 北側全縞削除
A39: =IF(E38="","",IF(E39="〃",A38,A38+1)) -> 11 | B39: =IF(OFFSET(L39,-1,)=L39,"〃",L39) -> 〃 | C39: =IF(B39="〃","〃","新規") -> 〃 | D39: =IF(OFFSET(M39,-1,)=M39,"〃",M39) -> 〃 | E39: =IF(OFFSET(N39,-1,)=N39,"〃",N39) -> 〃 | F39: (削)停止線 実線（白） | G39: 1 | J39: 9 | K39: 北側全削除 | L39: 261280099_x000D_ (第20-7-0412) | M39: 県道 | N39: 福山市加茂町粟根16番地3先交差点 | O39: =ASC(K39) -> 北側全削除
A40: =IF(E39="","",IF(E40="〃",A39,A39+1)) -> 11 | B40: =IF(OFFSET(L40,-1,)=L40,"〃",L40) -> 261280099 | C40: =IF(B40="〃","〃","新規") -> 新規 | D40: =IF(OFFSET(M40,-1,)=M40,"〃",M40) -> 県道(加茂油木線) | E40: =IF(OFFSET(N40,-1,)=N40,"〃",N40) -> 〃 | F40: その他 線 | G40: 1 | I40: 10 | K40: 中央線(黄)10m延長 | L40: 261280099 | M40: 県道(加茂油木線) | N40: 福山市加茂町粟根16番地3先交差点 | O40: =ASC(K40) -> 中央線(黄)10m延長
...

Sheet 場所表_福山北_更新
B1: 更新 | C1: ="("&表紙等_署用!H1&")" -> (№ 8-32) | L1: 福山北 | M1: 文字の折り返しで行高さがおかしくならないように、最終的な出力セルより幅を大きくしてあります。
B2: 規制番号 | C2: 道路種別 | D2: 場所・区間 | E2: 標示種別 | G2: 事業量 | M2: 規制番号 | N2: 道路種別 | O2: 場所・区間
E3: 横断歩道本数 記号文字個数 | F3: 数 | G3: 横断歩道等 実線４５㎝幅 | H3: 実線３０㎝幅 | I3: 実線１５㎝幅 | J3: 図示 | K3: 削除 | L3: 備考(縞数、方向等)
G4: m | H4: m | I4: m | J4: m | K4: m
A5: 1 | B5: =M5 -> 第12-7-0785 | C5: =N5 -> 市道 | D5: =O5 -> 福山市芦田町下有地1,036番地1先交差点 | E5: 止まれ文字 図示（白） | F5: 1 | J5: 13 | L5: 縮小施工 | M5: 第12-7-0785 | N5: 市道 | O5: 福山市芦田町下有地1,036番地1先交差点 | P5: =ASC(L5) -> 縮小施工
A6: =IF(D5="","",IF(D6="〃",A5,A5+1)) -> 1 | B6: =IF(OFFSET(M6,-1,)=M6,"〃",M6) -> 〃 | C6: =IF(OFFSET(N6,-1,)=N6,"〃",N6) -> 〃 | D6: =IF(OFFSET(O6,-1,)=O6,"〃",O6) -> 〃 | E6: 停止線 実線（白） | F6: 1 | H6: 7 | L6: 7.0m | M6: 第12-7-0785 | N6: 市道 | O6: 福山市芦田町下有地1,036番地1先交差点 | P6: =ASC(L6) -> 7.0m
A7: =IF(D6="","",IF(D7="〃",A6,A6+1)) -> 2 | B7: =IF(OFFSET(M7,-1,)=M7,"〃",M7) -> 第20-7-0356 | C7: =IF(OFFSET(N7,-1,)=N7,"〃",N7) -> 県道 | D7: =IF(OFFSET(O7,-1,)=O7,"〃",O7) -> 福山市芦田町下有地1,076番地2先（芦田中学校入口交差点） | E7: 横断歩道 実線（白） | F7: 1 | G7: 18 | L7: 3m6縞(各縞両側0.5mずつ削除し3m幅にする) | M7: 第20-7-0356 | N7: 県道 | O7: 福山市芦田町下有地1,076番地2先（芦田中学校入口交差点） | P7: =ASC(L7) -> 3m6縞(各縞両側0.5mずつ削除し3m幅にする)
A8: =IF(D7="","",IF(D8="〃",A7,A7+1)) -> 2 | B8: =IF(OFFSET(M8,-1,)=M8,"〃",M8) -> 〃 | C8: =IF(OFFSET(N8,-1,)=N8,"〃",N8) -> 〃 | D8: =IF(OFFSET(O8,-1,)=O8,"〃",O8) -> 〃 | E8: 停止線 実線（白） | F8: 2 | G8: 6 | L8: 北東側3m_x000D_ 南西側3m | M8: 第20-7-0356 | N8: 県道 | O8: 福山市芦田町下有地1,076番地2先（芦田中学校入口交差点） | P8: =ASC(L8) -> 北東側3m_x000D_ 南西側3m
A9: =IF(D8="","",IF(D9="〃",A8,A8+1)) -> 2 | B9: =IF(OFFSET(M9,-1,)=M9,"〃",M9) -> 〃 | C9: =IF(OFFSET(N9,-1,)=N9,"〃",N9) -> 〃 | D9: =IF(OFFSET(O9,-1,)=O9,"〃",O9) -> 〃 | E9: (削)横断歩道 実線（白） | F9: 1 | K9: 10 | L9: 各縞両側0.5mずつ削除 | M9: 第20-7-0356 | N9: 県道 | O9: 福山市芦田町下有地1,076番地2先（芦田中学校入口交差点） | P9: =ASC(L9) -> 各縞両側0.5mずつ削除
A10: =IF(D9="","",IF(D10="〃",A9,A9+1)) -> 3 | B10: =IF(OFFSET(M10,-1,)=M10,"〃",M10) -> 第20-7-0674 | C10: =IF(OFFSET(N10,-1,)=N10,"〃",N10) -> 〃 | D10: =IF(OFFSET(O10,-1,)=O10,"〃",O10) -> 福山市芦田町下有地1,099番地13先交差点 | E10: 横断歩道 実線（白） | F10: 1 | G10: 18 | L10: 3m6縞(各縞南側1m削除し3m幅にする) | M10: 第20-7-0674 | N10: 県道 | O10: 福山市芦田町下有地1,099番地13先交差点 | P10: =ASC(L10) -> 3m6縞(各縞南側1m削除し3m幅にする)
A11: =IF(D10="","",IF(D11="〃",A10,A10+1)) -> 3 | B11: =IF(OFFSET(M11,-1,)=M11,"〃",M11) -> 〃 | C11: =IF(OFFSET(N11,-1,)=N11,"〃",N11) -> 〃 | D11: =IF(OFFSET(O11,-1,)=O11,"〃",O11) -> 〃 | E11: 横断歩道予告 図示（白） | F11: 2 | J11: 18 | L11: 南側(遠)_x000D_ 南側(近) | M11: 第20-7-0674 | N11: 県道 | O11: 福山市芦田町下有地1,099番地13先交差点 | P11: =ASC(L11) -> 南側(遠)_x000D_ 南側(近)
A12: =IF(D11="","",IF(D12="〃",A11,A11+1)) -> 3 | B12: =IF(OFFSET(M12,-1,)=M12,"〃",M12) -> 〃 | C12: =IF(OFFSET(N12,-1,)=N12,"〃",N12) -> 〃 | D12: =IF(OFFSET(O12,-1,)=O12,"〃",O12) -> 〃 | E12: 停止線 実線（白） | F12: 2 | G12: 5.2 | L12: 南側2.4m_x000D_ 北側2.8m | M12: 第20-7-0674 | N12: 県道 | O12: 福山市芦田町下有地1,099番地13先交差点 | P12: =ASC(L12) -> 南側2.4m_x000D_ 北側2.8m
A13: =IF(D12="","",IF(D13="〃",A12,A12+1)) -> 3 | B13: =IF(OFFSET(M13,-1,)=M13,"〃",M13) -> 〃 | C13: =IF(OFFSET(N13,-1,)=N13,"〃",N13) -> 〃 | D13: =IF(OFFSET(O13,-1,)=O13,"〃",O13) -> 〃 | E13: (削)横断歩道 実線（白） | F13: 1 | K13: 5 | L13: 各縞南側1mずつ削除 | M13: 第20-7-0674 | N13: 県道 | O13: 福山市芦田町下有地1,099番地13先交差点 | P13: =ASC(L13) -> 各縞南側1mずつ削除
A14: =IF(D13="","",IF(D14="〃",A13,A13+1)) -> 4 | B14: =IF(OFFSET(M14,-1,)=M14,"〃",M14) -> 第12-7-0783 | C14: =IF(OFFSET(N14,-1,)=N14,"〃",N14) -> 市道 | D14: =IF(OFFSET(O14,-1,)=O14,"〃",O14) -> 福山市芦田町福田170番地3先交差点 | E14: 止まれ文字 図示（白） | F14: 1 | J14: 13 | L14: 縮小施工 | M14: 第12-7-0783 | N14: 市道 | O14: 福山市芦田町福田170番地3先交差点 | P14: =ASC(L14) -> 縮小施工
A15: =IF(D14="","",IF(D15="〃",A14,A14+1)) -> 4 | B15: =IF(OFFSET(M15,-1,)=M15,"〃",M15) -> 〃 | C15: =IF(OFFSET(N15,-1,)=N15,"〃",N15) -> 〃 | D15: =IF(OFFSET(O15,-1,)=O15,"〃",O15) -> 〃 | E15: (削)止まれ文字 図示（白） | F15: 1 | K15: 10 | M15: 第12-7-0783 | N15: 市道 | O15: 福山市芦田町福田170番地3先交差点 | P15: =ASC(L15)
A16: =IF(D15="","",IF(D16="〃",A15,A15+1)) -> 5 | B16: =IF(OFFSET(M16,-1,)=M16,"〃",M16) -> 第12-7-0791 | C16: =IF(OFFSET(N16,-1,)=N16,"〃",N16) -> 〃 | D16: =IF(OFFSET(O16,-1,)=O16,"〃",O16) -> 福山市駅家町近田620番地4先交差点 | E16: 止まれ文字 図示（白） | F16: 2 | J16: 26 | L16: 西側縮小施工_x000D_ 東側縮小施工 | M16: 第12-7-0791 | N16: 市道 | O16: 福山市駅家町近田620番地4先交差点 | P16: =ASC(L16) -> 西側縮小施工_x000D_ 東側縮小施工
A17: =IF(D16="","",IF(D17="〃",A16,A16+1)) -> 5 | B17: =IF(OFFSET(M17,-1,)=M17,"〃",M17) -> 〃 | C17: =IF(OFFSET(N17,-1,)=N17,"〃",N17) -> 〃 | D17: =IF(OFFSET(O17,-1,)=O17,"〃",O17) -> 〃 | E17: 停止線 実線（白） | F17: 1 | H17: 1.5 | L17: 西側1.5m | M17: 第12-7-0791 | N17: 市道 | O17: 福山市駅家町近田620番地4先交差点 | P17: =ASC(L17) -> 西側1.5m
A18: =IF(D17="","",IF(D18="〃",A17,A17+1)) -> 6 | B18: =IF(OFFSET(M18,-1,)=M18,"〃",M18) -> 第20-7-1624 | C18: =IF(OFFSET(N18,-1,)=N18,"〃",N18) -> 県道 | D18: =IF(OFFSET(O18,-1,)=O18,"〃",O18) -> 福山市駅家町今岡470番地1先交差点 | E18: 横断歩道 実線（白） | F18: 1 | G18: 36 | L18: 3m12縞(各縞両側0.5mずつ削除し3m幅にする) | M18: 第20-7-1624 | N18: 県道 | O18: 福山市駅家町今岡470番地1先交差点 | P18: =ASC(L18) -> 3m12縞(各縞両側0.5mずつ削除し3m幅にする)
A19: =IF(D18="","",IF(D19="〃",A18,A18+1)) -> 6 | B19: =IF(OFFSET(M19,-1,)=M19,"〃",M19) -> 〃 | C19: =IF(OFFSET(N19,-1,)=N19,"〃",N19) -> 〃 | D19: =IF(OFFSET(O19,-1,)=O19,"〃",O19) -> 〃 | E19: (削)横断歩道 実線（白） | F19: 1 | K19: 20 | L19: 各縞両側0.5mずつ削除 | M19: 第20-7-1624 | N19: 県道 | O19: 福山市駅家町今岡470番地1先交差点 | P19: =ASC(L19) -> 各縞両側0.5mずつ削除
A20: =IF(D19="","",IF(D20="〃",A19,A19+1)) -> 7 | B20: =IF(OFFSET(M20,-1,)=M20,"〃",M20) -> 第20-7-1272 | C20: =IF(OFFSET(N20,-1,)=N20,"〃",N20) -> 国道486号 | D20: =IF(OFFSET(O20,-1,)=O20,"〃",O20) -> 福山市駅家町万能倉345番地1南西方50メートル先（万能倉橋交差点） | E20: 横断歩道 実線（白） | F20: 1 | G20: 12 | L20: 南側2.4m5縞 | M20: 第20-7-1272 | N20: 国道486号 | O20: 福山市駅家町万能倉345番地1南西方50メートル先（万能倉橋交差点） | P20: =ASC(L20) -> 南側2.4m5縞
A21: =IF(D20="","",IF(D21="〃",A20,A20+1)) -> 7 | B21: =IF(OFFSET(M21,-1,)=M21,"〃",M21) -> 〃 | C21: =IF(OFFSET(N21,-1,)=N21,"〃",N21) -> 〃 | D21: =IF(OFFSET(O21,-1,)=O21,"〃",O21) -> 〃 | E21: 停止線 実線（白） | F21: 1 | G21: 2.6 | L21: 南側2.6m | M21: 第20-7-1272 | N21: 国道486号 | O21: 福山市駅家町万能倉345番地1南西方50メートル先（万能倉橋交差点） | P21: =ASC(L21) -> 南側2.6m
A22: =IF(D21="","",IF(D22="〃",A21,A21+1)) -> 8 | B22: =IF(OFFSET(M22,-1,)=M22,"〃",M22) -> 第12-7-2605 | C22: =IF(OFFSET(N22,-1,)=N22,"〃",N22) -> 市道 | D22: =IF(OFFSET(O22,-1,)=O22,"〃",O22) -> 福山市加茂町下加茂181番地2先交差点 | E22: 止まれ文字 図示（白） | F22: 2 | J22: 27 | L22: 北側縮小施工_x000D_ 南側「止」と「ま」のみ | M22: 第12-7-2605 | N22: 市道 | O22: 福山市加茂町下加茂181番地2先交差点 | P22: =ASC(L22) -> 北側縮小施工_x000D_ 南側｢止｣と｢ま｣のみ
A23: =IF(D22="","",IF(D23="〃",A22,A22+1)) -> 8 | B23: =IF(OFFSET(M23,-1,)=M23,"〃",M23) -> 〃 | C23: =IF(OFFSET(N23,-1,)=N23,"〃",N23) -> 〃 | D23: =IF(OFFSET(O23,-1,)=O23,"〃",O23) -> 〃 | E23: 停止線 実線（白） | F23: 2 | H23: 6 | L23: 北側3.0m_x000D_ 南側3.0m | M23: 第12-7-2605 | N23: 市道 | O23: 福山市加茂町下加茂181番地2先交差点 | P23: =ASC(L23) -> 北側3.0m_x000D_ 南側3.0m
A24: =IF(D23="","",IF(D24="〃",A23,A23+1)) -> 9 | B24: =IF(OFFSET(M24,-1,)=M24,"〃",M24) -> 第12-7-2604 | C24: =IF(OFFSET(N24,-1,)=N24,"〃",N24) -> 〃 | D24: =IF(OFFSET(O24,-1,)=O24,"〃",O24) -> 福山市加茂町下加茂192番地4先交差点 | E24: 止まれ文字 図示（白） | F24: 2 | J24: 26 | L24: 南側縮小施工_x000D_ 北側縮小施工 | M24: 第12-7-2604 | N24: 市道 | O24: 福山市加茂町下加茂192番地4先交差点 | P24: =ASC(L24) -> 南側縮小施工_x000D_ 北側縮小施工
A25: =IF(D24="","",IF(D25="〃",A24,A24+1)) -> 9 | B25: =IF(OFFSET(M25,-1,)=M25,"〃",M25) -> 〃 | C25: =IF(OFFSET(N25,-1,)=N25,"〃",N25) -> 〃 | D25: =IF(OFFSET(O25,-1,)=O25,"〃",O25) -> 〃 | E25: 停止線 実線（白） | F25: 2 | H25: 6 | L25: 南側3ｍ_x000D_ 北側3ｍ | M25: 第12-7-2604 | N25: 市道 | O25: 福山市加茂町下加茂192番地4先交差点 | P25: =ASC(L25) -> 南側3m_x000D_ 北側3m
A26: =IF(D25="","",IF(D26="〃",A25,A25+1)) -> 10 | B26: =IF(OFFSET(M26,-1,)=M26,"〃",M26) -> 第20-7-1773 | C26: =IF(OFFSET(N26,-1,)=N26,"〃",N26) -> 〃 | D26: =IF(OFFSET(O26,-1,)=O26,"〃",O26) -> 福山市新市町宮内215番地先交差点 | E26: 横断歩道予告 図示（白） | F26: 4 | J26: 36 | L26: 東側(近)_x000D_ 東側(遠)_x000D_ 西側(近)_x000D_ 西側(遠) | M26: 第20-7-1773 | N26: 市道 | O26: 福山市新市町宮内215番地先交差点 | P26: =ASC(L26) -> 東側(近)_x000D_ 東側(遠)_x000D_ 西側(近)_x000D_ 西側(遠)
A27: =IF(D26="","",IF(D27="〃",A26,A26+1)) -> 10 | B27: =IF(OFFSET(M27,-1,)=M27,"〃",M27) -> 〃 | C27: =IF(OFFSET(N27,-1,)=N27,"〃",N27) -> 〃 | D27: =IF(OFFSET(O27,-1,)=O27,"〃",O27) -> 〃 | E27: 停止線 実線（白） | F27: 1 | G27: 2.5 | L27: 東側2.5m | M27: 第20-7-1773 | N27: 市道 | O27: 福山市新市町宮内215番地先交差点 | P27: =ASC(L27) -> 東側2.5m
A28: =IF(D27="","",IF(D28="〃",A27,A27+1)) -> 11 | B28: =IF(OFFSET(M28,-1,)=M28,"〃",M28) -> 第20-7-2154 | C28: =IF(OFFSET(N28,-1,)=N28,"〃",N28) -> 県道(新市七曲西城線) | D28: =IF(OFFSET(O28,-1,)=O28,"〃",O28) -> 福山市新市町新市785番地1先 | E28: 横断歩道 実線（白） | F28: 1 | G28: 18 | L28: 3m6縞(各縞両側0.5mずつ削除し3m幅にする、南端以外全て) | M28: 第20-7-2154 | N28: 県道(新市七曲西城線) | O28: 福山市新市町新市785番地1先 | P28: =ASC(L28) -> 3m6縞(各縞両側0.5mずつ削除し3m幅にする､南端以外全て)
A29: =IF(D28="","",IF(D29="〃",A28,A28+1)) -> 11 | B29: =IF(OFFSET(M29,-1,)=M29,"〃",M29) -> 〃 | C29: =IF(OFFSET(N29,-1,)=N29,"〃",N29) -> 〃 | D29: =IF(OFFSET(O29,-1,)=O29,"〃",O29) -> 〃 | E29: 横断歩道予告 図示（白） | F29: 4 | J29: 36 | L29: 西側(近)_x000D_ 西側(遠)_x000D_ 東側(近)_x000D_ 東側(遠) | M29: 第20-7-2154 | N29: 県道(新市七曲西城線) | O29: 福山市新市町新市785番地1先 | P29: =ASC(L29) -> 西側(近)_x000D_ 西側(遠)_x000D_ 東側(近)_x000D_ 東側(遠)
A30: =IF(D29="","",IF(D30="〃",A29,A29+1)) -> 11 | B30: =IF(OFFSET(M30,-1,)=M30,"〃",M30) -> 〃 | C30: =IF(OFFSET(N30,-1,)=N30,"〃",N30) -> 〃 | D30: =IF(OFFSET(O30,-1,)=O30,"〃",O30) -> 〃 | E30: 停止線 実線（白） | F30: 2 | G30: 6 | L30: 西側3.0m_x000D_ 東側3.0m | M30: 第20-7-2154 | N30: 県道(新市七曲西城線) | O30: 福山市新市町新市785番地1先 | P30: =ASC(L30) -> 西側3.0m_x000D_ 東側3.0m
A31: =IF(D30="","",IF(D31="〃",A30,A30+1)) -> 11 | B31: =IF(OFFSET(M31,-1,)=M31,"〃",M31) -> 〃 | C31: =IF(OFFSET(N31,-1,)=N31,"〃",N31) -> 〃 | D31: =IF(OFFSET(O31,-1,)=O31,"〃",O31) -> 〃 | E31: (削)横断歩道 実線（白） | F31: 1 | K31: 13 | L31: 各縞両側0.5mずつ削除 | M31: 第20-7-2154 | N31: 県道(新市七曲西城線) | O31: 福山市新市町新市785番地1先 | P31: =ASC(L31) -> 各縞両側0.5mずつ削除
A32: =IF(D31="","",IF(D32="〃",A31,A31+1)) -> 11 | B32: =IF(OFFSET(M32,-1,)=M32,"〃",M32) -> 0 | C32: =IF(OFFSET(N32,-1,)=N32,"〃",N32) -> 〃 | D32: =IF(OFFSET(O32,-1,)=O32,"〃",O32) -> 〃 | E32: その他 線 | F32: 2 | I32: 1 | L32: 中央線(黄)1m延長 | N32: 県道(新市七曲西城線) | O32: 福山市新市町新市785番地1先 | P32: =ASC(L32) -> 中央線(黄)1m延長
A33: =IF(D32="","",IF(D33="〃",A32,A32+1)) -> 12 | B33: =IF(OFFSET(M33,-1,)=M33,"〃",M33) -> 第12-7-3127 | C33: =IF(OFFSET(N33,-1,)=N33,"〃",N33) -> 市道 | D33: =IF(OFFSET(O33,-1,)=O33,"〃",O33) -> 福山市神辺町字下御領218番地6先交差点 | E33: 止まれ文字 図示（白） | F33: 1 | J33: 13 | L33: 北側縮小施工 | M33: 第12-7-3127 | N33: 市道 | O33: 福山市神辺町字下御領218番地6先交差点 | P33: =ASC(L33) -> 北側縮小施工
A34: =IF(D33="","",IF(D34="〃",A33,A33+1)) -> 12 | B34: =IF(OFFSET(M34,-1,)=M34,"〃",M34) -> 〃 | C34: =IF(OFFSET(N34,-1,)=N34,"〃",N34) -> 〃 | D34: =IF(OFFSET(O34,-1,)=O34,"〃",O34) -> 〃 | E34: 停止線 実線（白） | F34: 1 | H34: 2.6 | L34: 北側2.6m | M34: 第12-7-3127 | N34: 市道 | O34: 福山市神辺町字下御領218番地6先交差点 | P34: =ASC(L34) -> 北側2.6m
A35: =IF(D34="","",IF(D35="〃",A34,A34+1)) -> 12 | B35: =IF(OFFSET(M35,-1,)=M35,"〃",M35) -> 第20-7-2124 | C35: =IF(OFFSET(N35,-1,)=N35,"〃",N35) -> 〃 | D35: =IF(OFFSET(O35,-1,)=O35,"〃",O35) -> 〃 | E35: 横断歩道 実線（白） | F35: 2 | G35: 24 | L35: 東側3m3縞(南端から1〜3縞)_x000D_ 西側3m5縞 | M35: 第20-7-2124 | N35: 市道 | O35: 福山市神辺町字下御領218番地6先交差点 | P35: =ASC(L35) -> 東側3m3縞(南端から1〜3縞)_x000D_ 西側3m5縞
A36: =IF(D35="","",IF(D36="〃",A35,A35+1)) -> 12 | B36: =IF(OFFSET(M36,-1,)=M36,"〃",M36) -> 〃 | C36: =IF(OFFSET(N36,-1,)=N36,"〃",N36) -> 〃 | D36: =IF(OFFSET(O36,-1,)=O36,"〃",O36) -> 〃 | E36: 横断歩道予告 図示（白） | F36: 1 | J36: 9 | L36: 東側(近) | M36: 第20-7-2124 | N36: 市道 | O36: 福山市神辺町字下御領218番地6先交差点 | P36: =ASC(L36) -> 東側(近)
A37: =IF(D36="","",IF(D37="〃",A36,A36+1)) -> 12 | B37: =IF(OFFSET(M37,-1,)=M37,"〃",M37) -> 〃 | C37: =IF(OFFSET(N37,-1,)=N37,"〃",N37) -> 〃 | D37: =IF(OFFSET(O37,-1,)=O37,"〃",O37) -> 〃 | E37: 停止線 実線（白） | F37: 2 | G37: 4 | L37: 東側2.0m_x000D_ 西側2.0m | M37: 第20-7-2124 | N37: 市道 | O37: 福山市神辺町字下御領218番地6先交差点 | P37: =ASC(L37) -> 東側2.0m_x000D_ 西側2.0m
