Workbook
Name COL_事業量: 設計書!$E$5
Name COL_詳細情報: 設計書!$C$5
Name COL_単位: 設計書!$F$5
Name COL_塗装情報: 所属別事業量一覧表!$E$8
Name COL_塗装情報: 設計書!$D$5
Name COL_発注分類: 所属別事業量一覧表!$A$8
Name COL_発注分類: 設計書!$A$5
Name COL_幅員: 設計書!$B$5
Name COUNT_SUM: 所属別事業量一覧表!$F$15
Name EditCol: 場所表_更新!$G$3:$G$7
Name EditCol: 場所表_三原_更新!#REF!
Name EditCol: 場所表_三原_新規!#REF!
Name EditCol: 場所表_新規!$H$3:$H$7
Name EditCol: 場所表_尾道_更新!$H$3:$H$124
Name EditCol: 場所表_尾道_新規!#REF!
Name EditCol: 場所表_府中_更新!$H$3:$H$26
Name EditCol: 場所表_府中_新規!$H$3:$H$7
Name EditCol: 場所表_福山西_更新!$G$3:$G$7
Name EditCol: 場所表_福山西_新規!$I$3:$I$13
Name EditCol: 場所表_福山東_更新!$G$3:$G$7
Name EditCol: 場所表_福山東_新規!#REF!
Name EditCol: 場所表_福山北_更新!$H$3:$H$39
Name EditCol: 場所表_福山北_新規!$I$3:$I$49
Name EditRow: 場所表_更新!$A$6:$I$6
Name EditRow: 場所表_三原_更新!#REF!
Name EditRow: 場所表_三原_新規!$B$6:$J$6
Name EditRow: 場所表_新規!$A$6:$J$6
Name EditRow: 場所表_尾道_更新!$B$6:$L$6
Name EditRow: 場所表_尾道_新規!$B$6:$J$6
Name EditRow: 場所表_府中_更新!$B$6:$K$6
Name EditRow: 場所表_府中_新規!$A$6:$J$6
Name EditRow: 場所表_福山西_更新!$A$6:$I$6
Name EditRow: 場所表_福山西_新規!$B$6:$K$6
Name EditRow: 場所表_福山東_更新!$A$6:$I$6
Name EditRow: 場所表_福山東_新規!$B$6:$I$6
Name EditRow: 場所表_福山北_更新!$B$6:$L$6
Name EditRow: 場所表_福山北_新規!$B$6:$K$6
Name EndCol: 場所表_更新!$H$3:$H$7
Name EndCol: 場所表_三原_更新!$H$3:$H$5
Name EndCol: 場所表_三原_新規!$I$3:$I$25
Name EndCol: 場所表_新規!$I$3:$I$7
Name EndCol: 場所表_尾道_更新!$K$3:$K$124
Name EndCol: 場所表_尾道_新規!$I$3:$I$13
Name EndCol: 場所表_府中_更新!$J$3:$J$26
Name EndCol: 場所表_府中_新規!$I$3:$I$7
Name EndCol: 場所表_福山西_更新!$H$3:$H$7
Name EndCol: 場所表_福山西_新規!$J$3:$J$13
Name EndCol: 場所表_福山東_更新!$H$3:$H$7
Name EndCol: 場所表_福山東_新規!#REF!
Name EndCol: 場所表_福山北_更新!$K$3:$K$39
Name EndCol: 場所表_福山北_新規!$J$3:$J$49
Name EndRow: 場所表_更新!$A$7:$I$7
Name EndRow: 場所表_三原_更新!#REF!
Name EndRow: 場所表_三原_新規!$B$25:$J$25
Name EndRow: 場所表_新規!$A$7:$J$7
Name EndRow: 場所表_尾道_更新!$B$124:$L$124
Name EndRow: 場所表_尾道_新規!$B$13:$J$13
Name EndRow: 場所表_府中_更新!$B$26:$K$26
Name EndRow: 場所表_府中_新規!$A$7:$J$7
Name EndRow: 場所表_福山西_更新!$A$7:$I$7

Sheet 表紙等_署用
H1: =IF(工事番号="","№ ","№ " & 工事番号) -> № 8-32 | J1: 工事番号 | K1: 8-32
A2: 署長 | B2: 副署長・次長 | C2: 交通官 | D2: 課長 | E2: 係長 | F2: 主任 | G2: =年月 -> 令和 8 年 9 月 | J2: 年月 | K2: 令和 8 年 9 月
G3: 監督職員 設 計
A12: 工 事 設 計 書
A22: 工事名称 | C22: 福山市引野町1丁目ほか道路標示工事
A28: 工事場所 | C28: 福山市引野町1丁目22番45号桐4号橋東詰交差点
G30: =IF(OR(工事場所箇所数=0,工事場所箇所数=1),"","ほか " & 工事場所箇所数 -1 &" か所") -> ほか 146 か所 | J30: 工事場所箇所数 | K30: =SUM(K31:K59) -> 147
J31: 場所表_広島中央_更新!新規更新合計値 | K31: =IF(ISERROR(INDIRECT(J31)),0,INDIRECT(J31)) -> 0
J32: 場所表_広島東_更新!新規更新合計値 | K32: =IF(ISERROR(INDIRECT(J32)),0,INDIRECT(J32)) -> 0
A33: 工事期間 | C33: 契約日の翌日から令和9年2月26日までの間 | J33: 場所表_広島西_更新!新規更新合計値 | K33: =IF(ISERROR(INDIRECT(J33)),0,INDIRECT(J33)) -> 0
J34: 場所表_広島南_更新!新規更新合計値 | K34: =IF(ISERROR(INDIRECT(J34)),0,INDIRECT(J34)) -> 0
J35: 場所表_安佐南_更新!新規更新合計値 | K35: =IF(ISERROR(INDIRECT(J35)),0,INDIRECT(J35)) -> 0
J36: 場所表_呉_更新!新規更新合計値 | K36: =IF(ISERROR(INDIRECT(J36)),0,INDIRECT(J36)) -> 0
A37: 監督職員 | C37: 高山 航輝 | J37: 場所表_音戸_更新!新規更新合計値 | K37: =IF(ISERROR(INDIRECT(J37)),0,INDIRECT(J37)) -> 0
J38: 場所表_江田島_更新!新規更新合計値 | K38: =IF(ISERROR(INDIRECT(J38)),0,INDIRECT(J38)) -> 0
J39: 場所表_海田_更新!新規更新合計値 | K39: =IF(ISERROR(INDIRECT(J39)),0,INDIRECT(J39)) -> 0
A40: 検 査 員 | C40: 大塚 真二 | J40: 場所表_廿日市_更新!新規更新合計値 | K40: =IF(ISERROR(INDIRECT(J40)),0,INDIRECT(J40)) -> 0
J41: 場所表_大竹_更新!新規更新合計値 | K41: =IF(ISERROR(INDIRECT(J41)),0,INDIRECT(J41)) -> 0
J42: 場所表_竹原_更新!新規更新合計値 | K42: =IF(ISERROR(INDIRECT(J42)),0,INDIRECT(J42)) -> 0
J43: 場所表_広_更新!新規更新合計値 | K43: =IF(ISERROR(INDIRECT(J43)),0,INDIRECT(J43)) -> 0
J44: 場所表_東広島_更新!新規更新合計値 | K44: =IF(ISERROR(INDIRECT(J44)),0,INDIRECT(J44)) -> 0
J45: 場所表_安佐北_更新!新規更新合計値 | K45: =IF(ISERROR(INDIRECT(J45)),0,INDIRECT(J45)) -> 0
A46: 福山東警察署 | J46: 場所表_安芸高田_更新!新規更新合計値 | K46: =IF(ISERROR(INDIRECT(J46)),0,INDIRECT(J46)) -> 0
J47: 場所表_山県_更新!新規更新合計値 | K47: =IF(ISERROR(INDIRECT(J47)),0,INDIRECT(J47)) -> 0
J48: 場所表_尾道_更新!新規更新合計値 | K48: =IF(ISERROR(INDIRECT(J48)),0,INDIRECT(J48)) -> 50
J49: 場所表_因島_更新!新規更新合計値 | K49: =IF(ISERROR(INDIRECT(J49)),0,INDIRECT(J49)) -> 0
J50: 場所表_三原_更新!新規更新合計値 | K50: =IF(ISERROR(INDIRECT(J50)),0,INDIRECT(J50)) -> 13
J51: 場所表_福山西_更新!新規更新合計値 | K51: =IF(ISERROR(INDIRECT(J51)),0,INDIRECT(J51)) -> 3
J52: 場所表_福山東_更新!新規更新合計値 | K52: =IF(ISERROR(INDIRECT(J52)),0,INDIRECT(J52)) -> 44
J53: 場所表_福山北_更新!新規更新合計値 | K53: =IF(ISERROR(INDIRECT(J53)),0,INDIRECT(J53)) -> 27
J54: 場所表_府中_更新!新規更新合計値 | K54: =IF(ISERROR(INDIRECT(J54)),0,INDIRECT(J54)) -> 10
J55: 場所表_庄原_更新!新規更新合計値 | K55: =IF(ISERROR(INDIRECT(J55)),0,INDIRECT(J55)) -> 0
A56: 本工事は下記のとおりとする。 | J56: 場所表_三次_更新!新規更新合計値 | K56: =IF(ISERROR(INDIRECT(J56)),0,INDIRECT(J56)) -> 0
A57: ○ 工事種別 | J57: 場所表_世羅_更新!新規更新合計値 | K57: =IF(ISERROR(INDIRECT(J57)),0,INDIRECT(J57)) -> 0
A58: 塗装工 | J58: 場所表_高速隊_更新!新規更新合計値 | K58: =IF(ISERROR(INDIRECT(J58)),0,INDIRECT(J58)) -> 0
A59: ○ 工事内容 | J59: 場所表_佐伯_更新!新規更新合計値 | K59: =IF(ISERROR(INDIRECT(J59)),0,INDIRECT(J59)) -> 0
A60: 別添のとおり
A61: ○ 特記事項
A62: 1 道路標示工事仕様書に従い、正確に施工すること。 2 交通誘導は交通規制区間内で行い、安全に配意すること。
A63: 記
A64: １ 工事場所
A65: 別添工事場所表のとおり
A66: ２ 工事費
A67: 別添工事設計表のとおり
A68: 金 | B68: =設計書!合計 -> 0

Sheet 表紙等_本部
I1: =表紙等_署用!H1 -> № 8-32
A2: 本部長 | B2: 主務部長 | C2: 主務課長 | D2: 次 席 | E2: 課長補佐 | F2: 係 長 | G2: 主 任 | H2: =表紙等_署用!G2 -> 令和 8 年 9 月
H3: 監督職員 設 計
A12: 工 事 設 計 書
A22: 工事名称 | C22: =表紙等_署用!工事名称 -> 福山市引野町1丁目ほか道路標示工事
A28: 工事場所 | C28: =表紙等_署用!工事場所 -> 福山市引野町1丁目22番45号桐4号橋東詰交差点
H30: =表紙等_署用!G30 -> ほか 146 か所
A33: 工事期間 | C33: =表紙等_署用!工事期間 -> 契約日の翌日から令和9年2月26日までの間
A37: 監督職員 | C37: =表紙等_署用!監督員 -> 高山 航輝
A40: 検 査 員 | C40: =表紙等_署用!検査員 -> 大塚 真二
A46: 広 島 県 警 察 本 部
A56: 本工事は下記のとおりとする。
A57: ○ 工事種別
A58: =表紙等_署用!工事種別 -> 塗装工
A59: ○ 工事内容
A60: =表紙等_署用!工事内容 -> 別添のとおり
A61: ○ 特記事項
A62: =表紙等_署用!特記事項 -> 1 道路標示工事仕様書に従い、正確に施工すること。 2 交通誘導は交通規制区間内で行い、安全に配意すること。
A63: 記
A64: １ 工事場所
A65: 別添工事場所表のとおり
A66: ２ 工事費
A67: 別添工事設計表のとおり
A68: 金 | B68: =表紙等_署用!工事費 -> 0

Sheet 設計書
A1: 道 路 標 示 工 事 設 計 書
H2: ="("&表紙等_署用!H1&")" -> (№ 8-32)
H3: 交 通 規 制 課
A5: 発注分類 | B5: 幅 | C5: 詳細設定 | D5: 塗装種類 | E5: 事業量 | F5: 単位 | G5: 単価（円） | H5: 金額（円） | I5: 小計
A6: 横断歩道等 実線４５㎝幅 | B6: 45 | D6: 溶融式（白） | E6: 1686.8 | F6: m
A7: 実線３０㎝幅 | B7: 30 | D7: 溶融式（白） | E7: 87.6 | F7: m | I7: =IF(SUM(H7:H7)=0,"",SUM(H7:H7))
A8: 実線１５㎝幅 | B8: 15 | D8: 溶融式（白） | E8: 30.9 | F8: m | I8: =IF(SUM(H8:H8)=0,"",SUM(H8:H8))
D9: 溶融式（黄） | E9: 499 | F9: m | I9: =IF(SUM(H9:H9)=0,"",SUM(H9:H9))
A10: 図示 | D10: 溶融式（白） | E10: 1246 | F10: m | I10: =IF(SUM(H10:H10)=0,"",SUM(H10:H10))
A11: 削除 | E11: 2737.3 | F11: m
A12: 小 計 | H12: =ROUNDUP(SUM(H6:H11),0) -> 0 | I12: =SUM(I7:I11) -> 0
A13: 交 通 誘 導 員 ( 労 務 費 ） | D13: 交通整理員Ａ | F13: 人
D14: 交通整理員Ａ（夜間） | F14: 人
D15: 交通整理員Ｂ | E15: 34 | F15: 人
D16: 交通整理員Ｂ（夜間） | F16: 人 | H16: =E16*G16 -> 0
A17: 小 計 | H17: =SUM(H13:H16) -> 0 | I17: =SUM(H13:H16) -> 0
B18: 共 通 仮 設 費 | H18: =ROUNDDOWN((H12+H17)*M18/100,-3) -> 0
B19: 現 場 管 理 費 | H19: =ROUNDDOWN((H12+H18+H17)*$M19/100,-3) -> 0
B20: 一 般 管 理 費 | H20: =J20-M21 -> 0
A21: 計 | H21: =SUM(H12,H17:H20) -> 0
A22: 消 費 税 相 当 分 | H22: =H21*0.1 -> 0
A23: 合 計 | H23: =SUM(H21:H22) -> 0

Sheet 所属別事業量一覧表
A1: 所 属 別 事 業 量 一 覧 表
BQ2: ="("&表紙等_署用!$H$1&")" -> (№ 8-32)
BQ3: 交 通 規 制 課
F5: 工事量
F6: 広島中央 | H6: 広島東 | J6: 広島西 | L6: 広島南 | N6: 安佐南 | P6: 安佐北 | R6: 佐伯 | T6: 海田 | V6: 廿日市 | X6: 大竹 | Z6: 山県 | AB6: 呉 | AD6: 広 | AF6: 音戸 | AH6: 江田島 | AJ6: 東広島 | AL6: 竹原 | AN6: 福山東 | AP6: 福山西 | AR6: 福山北 | AT6: 尾道 | AV6: 因島 | AX6: 三原 | AZ6: 府中 | BB6: 三次 | BD6: 庄原 | BF6: 安芸高田 | BH6: 世羅 | BJ6: 高速隊 | BL6: 木江 | BN6: 機動隊 | BP6: 計
A7: 箇所数 | F7: =BU18 -> 0 | H7: =BU19 -> 0 | J7: =BU20 -> 0 | L7: =BU21 -> 0 | N7: =BU22 -> 0 | P7: =BU33 -> 0 | R7: =BU48 -> 0 | T7: =BU26 -> 0 | V7: =BU27 -> 0 | X7: =BU28 -> 0 | Z7: =BU35 -> 0 | AB7: =BU23 -> 0 | AD7: =BU30 -> 0 | AF7: =BU24 -> 0 | AH7: =BU25 -> 0 | AJ7: =BU31 -> 0 | AL7: =BU29 -> 0 | AN7: =BU40 -> 0 | AP7: =BU39 -> 0 | AR7: =BU41 -> 0 | AT7: =BU36 -> 0 | AV7: =BU37 -> 0 | AX7: =BU38 -> 0 | AZ7: =BU42 -> 0 | BB7: =BU44 -> 0 | BD7: =BU43 -> 0 | BF7: =BU34 -> 0 | BH7: =BU45 -> 0 | BJ7: =BU46 -> 0 | BL7: =BU32 -> 0 | BN7: =BU47 -> 0 | BP7: =SUM(F7:BO7) -> 0
A8: 発注分類 | B8: 幅 | C8: 標示種類 | D8: 詳細設定 | E8: 塗装種類 | F8: 個数 | G8: 施工長 | H8: 個数 | I8: 施工長 | J8: 個数 | K8: 施工長 | L8: 個数 | M8: 施工長 | N8: 個数 | O8: 施工長 | P8: 個数 | Q8: 施工長 | R8: 個数 | S8: 施工長 | T8: 個数 | U8: 施工長 | V8: 個数 | W8: 施工長 | X8: 個数 | Y8: 施工長 | Z8: 個数 | AA8: 施工長 | AB8: 個数 | AC8: 施工長 | AD8: 個数 | AE8: 施工長 | AF8: 個数 | AG8: 施工長 | AH8: 個数 | AI8: 施工長 | AJ8: 個数 | AK8: 施工長 | AL8: 個数 | AM8: 施工長 | AN8: 個数 | AO8: 施工長 | AP8: 個数 | AQ8: 施工長 | AR8: 個数 | AS8: 施工長 | AT8: 個数 | AU8: 施工長 | AV8: 個数 | AW8: 施工長 | AX8: 個数 | AY8: 施工長 | AZ8: 個数 | BA8: 施工長 | BB8: 個数 | BC8: 施工長 | BD8: 個数 | BE8: 施工長 | BF8: 個数 | BG8: 施工長 | BH8: 個数 | BI8: 施工長 | BJ8: 個数 | BK8: 施工長 | BL8: 個数 | BM8: 施工長 | BN8: 個数 | BO8: 施工長 | BP8: 個数 | BQ8: 施工長
A9: 横断歩道等 実線４５㎝幅 | E9: 溶融式（白） | AP9: 2 | AQ9: 31 | AR9: 7 | AS9: 163.1 | AT9: 44 | AU9: 1125.5 | AZ9: 10 | BA9: 367.2 | BP9: =SUMIF(F$8:BO$8,"個数",F9:BO9) -> 63 | BQ9: =SUMIF(F$8:BO$8,"施工長",F9:BO9) -> 1686.8
A10: 実線３０㎝幅 | E10: 溶融式（白） | AR10: 7 | AS10: 23.1 | AT10: 19 | AU10: 54.9 | AZ10: 3 | BA10: 9.6 | BP10: =SUMIF(F$8:BO$8,"個数",F10:BO10) -> 29 | BQ10: =SUMIF(F$8:BO$8,"施工長",F10:BO10) -> 87.6
A11: 実線１５㎝幅 | E11: 溶融式（白） | AR11: 2 | AS11: 15 | AT11: 6 | AU11: 15.9 | BP11: =SUMIF(F$8:BO$8,"個数",F11:BO11) -> 8 | BQ11: =SUMIF(F$8:BO$8,"施工長",F11:BO11) -> 30.9
E12: 溶融式（黄） | AR12: 4 | AS12: 14 | AX12: 2 | AY12: 485 | BP12: =SUMIF(F$8:BO$8,"個数",F12:BO12) -> 6 | BQ12: =SUMIF(F$8:BO$8,"施工長",F12:BO12) -> 499
A13: 図示 | E13: 溶融式（白） | AP13: 8 | AQ13: 72 | AR13: 22 | AS13: 243 | AT13: 82 | AU13: 856 | AZ13: 7 | BA13: 75 | BP13: =SUMIF(F$8:BO$8,"個数",F13:BO13) -> 119 | BQ13: =SUMIF(F$8:BO$8,"施工長",F13:BO13) -> 1246
A14: 削除 | AN14: 82 | AO14: 842.5 | AP14: 7 | AQ14: 156 | AR14: 71 | AS14: 845.8 | AT14: 35 | AU14: 395 | AX14: 35 | AY14: 479 | AZ14: 3 | BA14: 19 | BP14: =SUMIF(F$8:BO$8,"個数",F14:BO14) -> 233 | BQ14: =SUMIF(F$8:BO$8,"施工長",F14:BO14) -> 2737.3
E15: 計 | F15: =SUM(F9:F14) -> 0 | G15: =SUM(G9:G14) -> 0 | H15: =SUM(H9:H14) -> 0 | I15: =SUM(I9:I14) -> 0 | J15: =SUM(J9:J14) -> 0 | K15: =SUM(K9:K14) -> 0 | L15: =SUM(L9:L14) -> 0 | M15: =SUM(M9:M14) -> 0 | ... BO15: =SUM(BO9:BO14) -> 0 | BP15: =SUMIF(F$8:BO$8,"個数",F15:BO15) -> 458 | BQ15: =SUMIF(F$8:BO$8,"施工長",F15:BO15) -> 6287.6

Sheet 場所表_府中_新規
A1: 新規 | C1: ="("&表紙等_署用!H1&")" -> (№ 8-32) | J1: 凸凹 | K1: 文字の折り返しで行高さがおかしくならないように、最終的な出力セルより幅を大きくしてあります。
A2: 整理番号 （規制番号） | B2: 区分 | C2: 道路種別 | D2: 場所・区間 | E2: 標示種別 | G2: 事業量 | K2: 整理番号 （規制番号） | L2: 道路種別 | M2: 場所・区間
E3: 横断歩道本数 記号文字個数 | F3: 数 | J3: 備考(縞数、方向等)
A5: =K5 -> 0 | B5: =IF(A5="〃","〃","新規") -> 新規 | C5: =L5 -> 0 | D5: =M5 -> 0 | N5: =ASC(J5)
A6: =IF(OFFSET(K6,-1,)=K6,"〃",K6) -> 〃 | B6: =IF(A6="〃","〃","新規") -> 〃 | C6: =IF(OFFSET(L6,-1,)=L6,"〃",L6) -> 〃 | D6: =IF(OFFSET(M6,-1,)=M6,"〃",M6) -> 〃 | N6: =ASC(J6)
A7: =IF(OFFSET(K7,-1,)=K7,"〃",K7) -> 〃 | B7: =IF(A7="〃","〃","新規") -> 〃 | C7: =IF(OFFSET(L7,-1,)=L7,"〃",L7) -> 〃 | D7: =IF(OFFSET(M7,-1,)=M7,"〃",M7) -> 〃 | N7: =ASC(J7)
A8: =警察署名 -> 凸凹 | D8: 新規合計 | E8: 0 | G8: =IF(ISERROR(FIND("図示", G3)), IF(ISERROR(FIND("削除", G3)), SUMPRODUCT((ISNUMBER(FIND("横断歩道 実線",$E5:$E7)))*(G5:G7<>""), $F5:$F7), 0), SUMIF(G5:G7,">0",$F5:$F7)) -> 0 | H8: =IF(ISERROR(FIND("図示", H3)), IF(ISERROR(FIND("削除", H3)), SUMPRODUCT((ISNUMBER(FIND("横断歩道 実線",$E5:$E7)))*(H5:H7<>""), $F5:$F7), 0), SUMIF(H5:H7,">0",$F5:$F7)) -> 0 | I8: =IF(ISERROR(FIND("図示", I3)), IF(ISERROR(FIND("削除", I3)), SUMPRODUCT((ISNUMBER(FIND("横断歩道 実線",$E5:$E7)))*(I5:I7<>""), $F5:$F7), 0), SUMIF(I5:I7,">0",$F5:$F7)) -> 0
G9: =SUM(G5:G7) -> 0 | H9: =SUM(H5:H7) -> 0 | I9: =SUM(I5:I7) -> 0

Sheet 場所表_新規
A1: 新規 | C1: ="("&表紙等_署用!H1&")" -> (№ 8-32) | J1: 凸凹 | K1: 文字の折り返しで行高さがおかしくならないように、最終的な出力セルより幅を大きくしてあります。
A2: 整理番号 （規制番号） | B2: 区分 | C2: 道路種別 | D2: 場所・区間 | E2: 標示種別 | G2: 事業量 | K2: 整理番号 （規制番号） | L2: 道路種別 | M2: 場所・区間
E3: 横断歩道本数 記号文字個数 | F3: 数 | J3: 備考(縞数、方向等)
A5: =K5 -> 0 | B5: =IF(A5="〃","〃","新規") -> 新規 | C5: =L5 -> 0 | D5: =M5 -> 0 | N5: =ASC(J5)
A6: =IF(OFFSET(K6,-1,)=K6,"〃",K6) -> 〃 | B6: =IF(A6="〃","〃","新規") -> 〃 | C6: =IF(OFFSET(L6,-1,)=L6,"〃",L6) -> 〃 | D6: =IF(OFFSET(M6,-1,)=M6,"〃",M6) -> 〃 | N6: =ASC(J6)
A7: =IF(OFFSET(K7,-1,)=K7,"〃",K7) -> 〃 | B7: =IF(A7="〃","〃","新規") -> 〃 | C7: =IF(OFFSET(L7,-1,)=L7,"〃",L7) -> 〃 | D7: =IF(OFFSET(M7,-1,)=M7,"〃",M7) -> 〃 | N7: =ASC(J7)
A8: =警察署名 -> 凸凹 | D8: 新規合計 | G8: =IF(ISERROR(FIND("図示", G3)), IF(ISERROR(FIND("削除", G3)), SUMPRODUCT((ISNUMBER(FIND("横断歩道 実線",$E5:$E7)))*(G5:G7<>""), $F5:$F7), 0), SUMIF(G5:G7,">0",$F5:$F7)) -> 0 | H8: =IF(ISERROR(FIND("図示", H3)), IF(ISERROR(FIND("削除", H3)), SUMPRODUCT((ISNUMBER(FIND("横断歩道 実線",$E5:$E7)))*(H5:H7<>""), $F5:$F7), 0), SUMIF(H5:H7,">0",$F5:$F7)) -> 0 | I8: =IF(ISERROR(FIND("図示", I3)), IF(ISERROR(FIND("削除", I3)), SUMPRODUCT((ISNUMBER(FIND("横断歩道 実線",$E5:$E7)))*(I5:I7<>""), $F5:$F7), 0), SUMIF(I5:I7,">0",$F5:$F7)) -> 0
G9: =SUM(G5:G7) -> 0 | H9: =SUM(H5:H7) -> 0 | I9: =SUM(I5:I7) -> 0

Sheet 場所表_更新
A1: 更新 | B1: ="("&表紙等_署用!H1&")" -> (№ 8-32) | I1: 凸凹 | J1: 文字の折り返しで行高さがおかしくならないように、最終的な出力セルより幅を大きくしてあります。
A2: 規制番号 | B2: 道路種別 | C2: 場所・区間 | D2: 標示種別 | F2: 事業量 | J2: 規制番号 | K2: 道路種別 | L2: 場所・区間
D3: 横断歩道本数 記号文字個数 | E3: 数 | I3: 備考(縞数、方向等)
A5: =J5 -> 0 | B5: =K5 -> 0 | C5: =L5 -> 0 | M5: =ASC(I5)
A6: =IF(OFFSET(J6,-1,)=J6,"〃",J6) -> 〃 | B6: =IF(OFFSET(K6,-1,)=K6,"〃",K6) -> 〃 | C6: =IF(OFFSET(L6,-1,)=L6,"〃",L6) -> 〃 | M6: =ASC(I6)
A7: =IF(OFFSET(J7,-1,)=J7,"〃",J7) -> 〃 | B7: =IF(OFFSET(K7,-1,)=K7,"〃",K7) -> 〃 | C7: =IF(OFFSET(L7,-1,)=L7,"〃",L7) -> 〃 | M7: =ASC(I7)
A8: =警察署名 -> 凸凹 | C8: 更新合計 | F8: =IF(ISERROR(FIND("図示", F3)), IF(ISERROR(FIND("削除", F3)), SUMPRODUCT((ISNUMBER(FIND("横断歩道 実線",$D5:$D7)))*(F5:F7<>""), $E5:$E7), 0), SUMIF(F5:F7,">0",$E5:$E7)) -> 0 | G8: =IF(ISERROR(FIND("図示", G3)), IF(ISERROR(FIND("削除", G3)), SUMPRODUCT((ISNUMBER(FIND("横断歩道 実線",$D5:$D7)))*(G5:G7<>""), $E5:$E7), 0), SUMIF(G5:G7,">0",$E5:$E7)) -> 0 | H8: =IF(ISERROR(FIND("図示", H3)), IF(ISERROR(FIND("削除", H3)), SUMPRODUCT((ISNUMBER(FIND("横断歩道 実線",$D5:$D7)))*(H5:H7<>""), $E5:$E7), 0), SUMIF(H5:H7,">0",$E5:$E7)) -> 0
F9: =SUM(F5:F7) -> 0 | G9: =SUM(G5:G7) -> 0 | H9: =SUM(H5:H7) -> 0
A10: =警察署名 -> 凸凹 | C10: 新規更新合計 | D10: =場所表_新規!新規合計+更新合計 -> 0 | F10: =場所表_新規!G8+場所表_更新!F8 -> 0 | G10: =場所表_新規!H8+場所表_更新!G8 -> 0 | H10: =場所表_新規!I8+場所表_更新!H8 -> 0
F11: =場所表_新規!G9+場所表_更新!F9 -> 0 | G11: =場所表_新規!H9+場所表_更新!G9 -> 0 | H11: =場所表_新規!I9+場所表_更新!H9 -> 0

Sheet 場所表_福山東_新規
B1: 新規 | D1: ="("&表紙等_署用!H1&")" -> (№ 8-32) | I1: 福山東 | J1: 文字の折り返しで行高さがおかしくならないように、最終的な出力セルより幅を大きくしてあります。
B2: 整理番号 （規制番号） | C2: 区分 | D2: 道路種別 | E2: 場所・区間 | F2: 標示種別 | H2: 事業量 | J2: 整理番号 （規制番号） | K2: 道路種別 | L2: 場所・区間
F3: 横断歩道本数 記号文字個数 | G3: 数 | H3: 削除 | I3: 備考(縞数、方向等)
H4: m
A5: 1 | B5: =J5 -> 261210223 | C5: =IF(B5="〃","〃","新規") -> 新規 | D5: =K5 -> 市道 | E5: =L5 -> 福山市引野町1丁目22番45号桐4号橋東詰交差点 | F5: (削)停止線 実線（白） | G5: 1 | H5: 4 | I5: 2m | J5: 261210223 | K5: 市道 | L5: 福山市引野町1丁目22番45号桐4号橋東詰交差点 | M5: =ASC(I5) -> 2m
A6: =IF(E5="","",IF(E6="〃",A5,A5+1)) -> 2 | B6: =IF(OFFSET(J6,-1,)=J6,"〃",J6) -> 〃 | C6: =IF(B6="〃","〃","新規") -> 〃 | D6: =IF(OFFSET(K6,-1,)=K6,"〃",K6) -> 〃 | E6: =IF(OFFSET(L6,-1,)=L6,"〃",L6) -> 福山市引野町1丁目2番45号桐4号橋東詰交差点 | F6: (削)止まれ文字 図示（白） | G6: 1 | H6: 13 | J6: 261210223 | K6: 市道 | L6: 福山市引野町1丁目2番45号桐4号橋東詰交差点 | M6: =ASC(I6)
A7: =IF(E6="","",IF(E7="〃",A6,A6+1)) -> 3 | B7: =IF(OFFSET(J7,-1,)=J7,"〃",J7) -> 261210219 | C7: =IF(B7="〃","〃","新規") -> 新規 | D7: =IF(OFFSET(K7,-1,)=K7,"〃",K7) -> 〃 | E7: =IF(OFFSET(L7,-1,)=L7,"〃",L7) -> 福山市引野町2,491番地先交差点 | F7: (削)止まれ文字 図示（白） | G7: 1 | H7: 10 | J7: 261210219 | K7: 市道 | L7: 福山市引野町2,491番地先交差点 | M7: =ASC(I7)
A8: =IF(E7="","",IF(E8="〃",A7,A7+1)) -> 4 | B8: =IF(OFFSET(J8,-1,)=J8,"〃",J8) -> 〃 | C8: =IF(B8="〃","〃","新規") -> 〃 | D8: =IF(OFFSET(K8,-1,)=K8,"〃",K8) -> 〃 | E8: =IF(OFFSET(L8,-1,)=L8,"〃",L8) -> 福山市引野町273番地1東側先交差点 | F8: (削)止まれ文字 図示（白） | G8: 1 | H8: 20 | J8: 261210219 | K8: 市道 | L8: 福山市引野町273番地1東側先交差点 | M8: =ASC(I8)
A9: =IF(E8="","",IF(E9="〃",A8,A8+1)) -> 4 | B9: =IF(OFFSET(J9,-1,)=J9,"〃",J9) -> 〃 | C9: =IF(B9="〃","〃","新規") -> 〃 | D9: =IF(OFFSET(K9,-1,)=K9,"〃",K9) -> 〃 | E9: =IF(OFFSET(L9,-1,)=L9,"〃",L9) -> 〃 | F9: (削)停止線 実線（白） | G9: 1 | H9: 9 | I9: 3m | J9: 261210219 | K9: 市道 | L9: 福山市引野町273番地1東側先交差点 | M9: =ASC(I9) -> 3m
A10: =IF(E9="","",IF(E10="〃",A9,A9+1)) -> 5 | B10: =IF(OFFSET(J10,-1,)=J10,"〃",J10) -> 〃 | C10: =IF(B10="〃","〃","新規") -> 〃 | D10: =IF(OFFSET(K10,-1,)=K10,"〃",K10) -> 〃 | E10: =IF(OFFSET(L10,-1,)=L10,"〃",L10) -> 福山市引野町3丁目5番16号先交差点 | F10: (削)止まれ文字 図示（白） | G10: 1 | H10: 20 | I10: 北側 | J10: 261210219 | K10: 市道 | L10: 福山市引野町3丁目5番16号先交差点 | M10: =ASC(I10) -> 北側
A11: =IF(E10="","",IF(E11="〃",A10,A10+1)) -> 6 | B11: =IF(OFFSET(J11,-1,)=J11,"〃",J11) -> 〃 | C11: =IF(B11="〃","〃","新規") -> 〃 | D11: =IF(OFFSET(K11,-1,)=K11,"〃",K11) -> 〃 | E11: =IF(OFFSET(L11,-1,)=L11,"〃",L11) -> 福山市引野町4丁目2番36号先交差点 | F11: (削)停止線 実線（白） | G11: 2 | H11: 10 | I11: 南側、2ｍ_x000D_ 北側、３ｍ | J11: 261210219 | K11: 市道 | L11: 福山市引野町4丁目2番36号先交差点 | M11: =ASC(I11) -> 南側､2m_x000D_ 北側､3m
A12: =IF(E11="","",IF(E12="〃",A11,A11+1)) -> 7 | B12: =IF(OFFSET(J12,-1,)=J12,"〃",J12) -> 〃 | C12: =IF(B12="〃","〃","新規") -> 〃 | D12: =IF(OFFSET(K12,-1,)=K12,"〃",K12) -> 〃 | E12: =IF(OFFSET(L12,-1,)=L12,"〃",L12) -> 福山市引野町4丁目3番19号先交差点 | F12: (削)止まれ文字 図示（白） | G12: 1 | H12: 20 | I12: 北側 | J12: 261210219 | K12: 市道 | L12: 福山市引野町4丁目3番19号先交差点 | M12: =ASC(I12) -> 北側
A13: =IF(E12="","",IF(E13="〃",A12,A12+1)) -> 7 | B13: =IF(OFFSET(J13,-1,)=J13,"〃",J13) -> 〃 | C13: =IF(B13="〃","〃","新規") -> 〃 | D13: =IF(OFFSET(K13,-1,)=K13,"〃",K13) -> 〃 | E13: =IF(OFFSET(L13,-1,)=L13,"〃",L13) -> 〃 | F13: (削)停止線 実線（白） | G13: 1 | H13: 6 | I13: 北側、３ｍ | J13: 261210219 | K13: 市道 | L13: 福山市引野町4丁目3番19号先交差点 | M13: =ASC(I13) -> 北側､3m
A14: =IF(E13="","",IF(E14="〃",A13,A13+1)) -> 8 | B14: =IF(OFFSET(J14,-1,)=J14,"〃",J14) -> 〃 | C14: =IF(B14="〃","〃","新規") -> 〃 | D14: =IF(OFFSET(K14,-1,)=K14,"〃",K14) -> 〃 | E14: =IF(OFFSET(L14,-1,)=L14,"〃",L14) -> 福山市引野町5丁目23番1号先交差点 | F14: (削)止まれ文字 図示（白） | G14: 2 | H14: 20 | I14: 南側 | J14: 261210219 | K14: 市道 | L14: 福山市引野町5丁目23番1号先交差点 | M14: =ASC(I14) -> 南側
A15: =IF(E14="","",IF(E15="〃",A14,A14+1)) -> 8 | B15: =IF(OFFSET(J15,-1,)=J15,"〃",J15) -> 〃 | C15: =IF(B15="〃","〃","新規") -> 〃 | D15: =IF(OFFSET(K15,-1,)=K15,"〃",K15) -> 〃 | E15: =IF(OFFSET(L15,-1,)=L15,"〃",L15) -> 〃 | F15: (削)停止線 実線（白） | G15: 1 | H15: 6 | I15: 北側、２ｍ | J15: 261210219 | K15: 市道 | L15: 福山市引野町5丁目23番1号先交差点 | M15: =ASC(I15) -> 北側､2m
A16: =IF(E15="","",IF(E16="〃",A15,A15+1)) -> 9 | B16: =IF(OFFSET(J16,-1,)=J16,"〃",J16) -> 〃 | C16: =IF(B16="〃","〃","新規") -> 〃 | D16: =IF(OFFSET(K16,-1,)=K16,"〃",K16) -> 〃 | E16: =IF(OFFSET(L16,-1,)=L16,"〃",L16) -> 福山市引野町5丁目26番40号先交差点 | F16: (削)止まれ文字 図示（白） | G16: 1 | H16: 10 | J16: 261210219 | K16: 市道 | L16: 福山市引野町5丁目26番40号先交差点 | M16: =ASC(I16)
A17: =IF(E16="","",IF(E17="〃",A16,A16+1)) -> 9 | B17: =IF(OFFSET(J17,-1,)=J17,"〃",J17) -> 〃 | C17: =IF(B17="〃","〃","新規") -> 〃 | D17: =IF(OFFSET(K17,-1,)=K17,"〃",K17) -> 〃 | E17: =IF(OFFSET(L17,-1,)=L17,"〃",L17) -> 〃 | F17: (削)停止線 実線（白） | G17: 1 | H17: 6 | I17: ３ｍ | J17: 261210219 | K17: 市道 | L17: 福山市引野町5丁目26番40号先交差点 | M17: =ASC(I17) -> 3m
A18: =IF(E17="","",IF(E18="〃",A17,A17+1)) -> 10 | B18: =IF(OFFSET(J18,-1,)=J18,"〃",J18) -> 〃 | C18: =IF(B18="〃","〃","新規") -> 〃 | D18: =IF(OFFSET(K18,-1,)=K18,"〃",K18) -> 〃 | E18: =IF(OFFSET(L18,-1,)=L18,"〃",L18) -> 福山市引野町5丁目29番1号先交差点 | F18: (削)止まれ文字 図示（白） | G18: 1 | H18: 10 | J18: 261210219 | K18: 市道 | L18: 福山市引野町5丁目29番1号先交差点 | M18: =ASC(I18)
A19: =IF(E18="","",IF(E19="〃",A18,A18+1)) -> 10 | B19: =IF(OFFSET(J19,-1,)=J19,"〃",J19) -> 〃 | C19: =IF(B19="〃","〃","新規") -> 〃 | D19: =IF(OFFSET(K19,-1,)=K19,"〃",K19) -> 〃 | E19: =IF(OFFSET(L19,-1,)=L19,"〃",L19) -> 〃 | F19: (削)停止線 実線（白） | G19: 1 | H19: 2 | I19: １ｍ | J19: 261210219 | K19: 市道 | L19: 福山市引野町5丁目29番1号先交差点 | M19: =ASC(I19) -> 1m
A20: =IF(E19="","",IF(E20="〃",A19,A19+1)) -> 11 | B20: =IF(OFFSET(J20,-1,)=J20,"〃",J20) -> 〃 | C20: =IF(B20="〃","〃","新規") -> 〃 | D20: =IF(OFFSET(K20,-1,)=K20,"〃",K20) -> 〃 | E20: =IF(OFFSET(L20,-1,)=L20,"〃",L20) -> 福山市引野町980の1番地先（竹之内交差点） | F20: (削)自転車横断帯 自転車マーク | G20: 1 | H20: 1 | J20: 261210219 | K20: 市道 | L20: 福山市引野町980の1番地先（竹之内交差点） | M20: =ASC(I20)
A21: =IF(E20="","",IF(E21="〃",A20,A20+1)) -> 11 | B21: =IF(OFFSET(J21,-1,)=J21,"〃",J21) -> 〃 | C21: =IF(B21="〃","〃","新規") -> 〃 | D21: =IF(OFFSET(K21,-1,)=K21,"〃",K21) -> 〃 | E21: =IF(OFFSET(L21,-1,)=L21,"〃",L21) -> 〃 | F21: (削)自転車横断帯 実線（白） | G21: 2 | H21: 2 | I21: 両側１ｍ削除 | J21: 261210219 | K21: 市道 | L21: 福山市引野町980の1番地先（竹之内交差点） | M21: =ASC(I21) -> 両側1m削除
A22: =IF(E21="","",IF(E22="〃",A21,A21+1)) -> 12 | B22: =IF(OFFSET(J22,-1,)=J22,"〃",J22) -> 〃 | C22: =IF(B22="〃","〃","新規") -> 〃 | D22: =IF(OFFSET(K22,-1,)=K22,"〃",K22) -> 〃 | E22: =IF(OFFSET(L22,-1,)=L22,"〃",L22) -> 福山市引野町北2丁目22番3号先（内田（北）交差点） | F22: (削)自転車横断帯 自転車マーク | G22: 1 | H22: 1 | J22: 261210219 | K22: 市道 | L22: 福山市引野町北2丁目22番3号先（内田（北）交差点） | M22: =ASC(I22)
A23: =IF(E22="","",IF(E23="〃",A22,A22+1)) -> 12 | B23: =IF(OFFSET(J23,-1,)=J23,"〃",J23) -> 〃 | C23: =IF(B23="〃","〃","新規") -> 〃 | D23: =IF(OFFSET(K23,-1,)=K23,"〃",K23) -> 〃 | E23: =IF(OFFSET(L23,-1,)=L23,"〃",L23) -> 〃 | F23: (削)自転車横断帯 実線（白） | G23: 2 | H23: 2 | I23: 両側１ｍ削除 | J23: 261210219 | K23: 市道 | L23: 福山市引野町北2丁目22番3号先（内田（北）交差点） | M23: =ASC(I23) -> 両側1m削除
A24: =IF(E23="","",IF(E24="〃",A23,A23+1)) -> 13 | B24: =IF(OFFSET(J24,-1,)=J24,"〃",J24) -> 261210223 | C24: =IF(B24="〃","〃","新規") -> 新規 | D24: =IF(OFFSET(K24,-1,)=K24,"〃",K24) -> 〃 | E24: =IF(OFFSET(L24,-1,)=L24,"〃",L24) -> 福山市引野町北4丁目23番9号先（東消防署前交差点） | F24: (削)自転車横断帯 自転車マーク | G24: 1 | H24: 1 | I24: 西側 | J24: 261210223 | K24: 市道 | L24: 福山市引野町北4丁目23番9号先（東消防署前交差点） | M24: =ASC(I24) -> 西側
A25: =IF(E24="","",IF(E25="〃",A24,A24+1)) -> 14 | B25: =IF(OFFSET(J25,-1,)=J25,"〃",J25) -> 〃 | C25: =IF(B25="〃","〃","新規") -> 〃 | D25: =IF(OFFSET(K25,-1,)=K25,"〃",K25) -> 〃 | E25: =IF(OFFSET(L25,-1,)=L25,"〃",L25) -> 福山市王子町2丁目12番15号先交差点 | F25: (削)止まれ文字 図示（白） | G25: 1 | H25: 10 | J25: 261210223 | K25: 市道 | L25: 福山市王子町2丁目12番15号先交差点 | M25: =ASC(I25)
A26: =IF(E25="","",IF(E26="〃",A25,A25+1)) -> 15 | B26: =IF(OFFSET(J26,-1,)=J26,"〃",J26) -> 〃 | C26: =IF(B26="〃","〃","新規") -> 〃 | D26: =IF(OFFSET(K26,-1,)=K26,"〃",K26) -> 〃 | E26: =IF(OFFSET(L26,-1,)=L26,"〃",L26) -> 福山市王子町2丁目13番5号先交差点 | F26: (削)止まれ文字 図示（白） | G26: 1 | H26: 13 | J26: 261210223 | K26: 市道 | L26: 福山市王子町2丁目13番5号先交差点 | M26: =ASC(I26)
A27: =IF(E26="","",IF(E27="〃",A26,A26+1)) -> 15 | B27: =IF(OFFSET(J27,-1,)=J27,"〃",J27) -> 〃 | C27: =IF(B27="〃","〃","新規") -> 〃 | D27: =IF(OFFSET(K27,-1,)=K27,"〃",K27) -> 〃 | E27: =IF(OFFSET(L27,-1,)=L27,"〃",L27) -> 〃 | F27: (削)停止線 実線（白） | G27: 1 | H27: 5 | I27: 2.5m | J27: 261210223 | K27: 市道 | L27: 福山市王子町2丁目13番5号先交差点 | M27: =ASC(I27) -> 2.5m
A28: =IF(E27="","",IF(E28="〃",A27,A27+1)) -> 16 | B28: =IF(OFFSET(J28,-1,)=J28,"〃",J28) -> 〃 | C28: =IF(B28="〃","〃","新規") -> 〃 | D28: =IF(OFFSET(K28,-1,)=K28,"〃",K28) -> 〃 | E28: =IF(OFFSET(L28,-1,)=L28,"〃",L28) -> 福山市王子町2丁目15番11号先交差点 | F28: (削)止まれ文字 図示（白） | G28: 1 | H28: 20 | J28: 261210223 | K28: 市道 | L28: 福山市王子町2丁目15番11号先交差点 | M28: =ASC(I28)
A29: =IF(E28="","",IF(E29="〃",A28,A28+1)) -> 16 | B29: =IF(OFFSET(J29,-1,)=J29,"〃",J29) -> 〃 | C29: =IF(B29="〃","〃","新規") -> 〃 | D29: =IF(OFFSET(K29,-1,)=K29,"〃",K29) -> 〃 | E29: =IF(OFFSET(L29,-1,)=L29,"〃",L29) -> 〃 | F29: (削)停止線 実線（白） | G29: 1 | H29: 2 | I29: 1m | J29: 261210223 | K29: 市道 | L29: 福山市王子町2丁目15番11号先交差点 | M29: =ASC(I29) -> 1m
A30: =IF(E29="","",IF(E30="〃",A29,A29+1)) -> 17 | B30: =IF(OFFSET(J30,-1,)=J30,"〃",J30) -> 〃 | C30: =IF(B30="〃","〃","新規") -> 〃 | D30: =IF(OFFSET(K30,-1,)=K30,"〃",K30) -> 〃 | E30: =IF(OFFSET(L30,-1,)=L30,"〃",L30) -> 福山市王子町2丁目18番19号先交差点 | F30: (削)止まれ文字 図示（白） | G30: 1 | H30: 13 | J30: 261210223 | K30: 市道 | L30: 福山市王子町2丁目18番19号先交差点 | M30: =ASC(I30)
A31: =IF(E30="","",IF(E31="〃",A30,A30+1)) -> 17 | B31: =IF(OFFSET(J31,-1,)=J31,"〃",J31) -> 〃 | C31: =IF(B31="〃","〃","新規") -> 〃 | D31: =IF(OFFSET(K31,-1,)=K31,"〃",K31) -> 〃 | E31: =IF(OFFSET(L31,-1,)=L31,"〃",L31) -> 〃 | F31: (削)停止線 実線（白） | G31: 1 | H31: 6 | I31: 3m | J31: 261210223 | K31: 市道 | L31: 福山市王子町2丁目18番19号先交差点 | M31: =ASC(I31) -> 3m
A32: =IF(E31="","",IF(E32="〃",A31,A31+1)) -> 18 | B32: =IF(OFFSET(J32,-1,)=J32,"〃",J32) -> 〃 | C32: =IF(B32="〃","〃","新規") -> 〃 | D32: =IF(OFFSET(K32,-1,)=K32,"〃",K32) -> 〃 | E32: =IF(OFFSET(L32,-1,)=L32,"〃",L32) -> 福山市沖野上町1丁目9番6号先（沖野上町1丁目東交差点） | F32: (削)自転車横断帯 実線（白） | G32: 4 | H32: 48 | I32: 12ｍ両側2本ずつ | J32: 261210223 | K32: 市道 | L32: 福山市沖野上町1丁目9番6号先（沖野上町1丁目東交差点） | M32: =ASC(I32) -> 12m両側2本ずつ
A33: =IF(E32="","",IF(E33="〃",A32,A32+1)) -> 19 | B33: =IF(OFFSET(J33,-1,)=J33,"〃",J33) -> 261210219 | C33: =IF(B33="〃","〃","新規") -> 新規 | D33: =IF(OFFSET(K33,-1,)=K33,"〃",K33) -> 〃 | E33: =IF(OFFSET(L33,-1,)=L33,"〃",L33) -> 福山市久松台2丁目10番3号先交差点 | F33: (削)止まれ文字 図示（白） | G33: 1 | H33: 20 | J33: 261210219 | K33: 市道 | L33: 福山市久松台2丁目10番3号先交差点 | M33: =ASC(I33)
A34: =IF(E33="","",IF(E34="〃",A33,A33+1)) -> 20 | B34: =IF(OFFSET(J34,-1,)=J34,"〃",J34) -> 〃 | C34: =IF(B34="〃","〃","新規") -> 〃 | D34: =IF(OFFSET(K34,-1,)=K34,"〃",K34) -> 〃 | E34: =IF(OFFSET(L34,-1,)=L34,"〃",L34) -> 福山市久松台2丁目11番15号先交差点 | F34: (削)止まれ文字 図示（白） | G34: 1 | H34: 20 | J34: 261210219 | K34: 市道 | L34: 福山市久松台2丁目11番15号先交差点 | M34: =ASC(I34)
A35: =IF(E34="","",IF(E35="〃",A34,A34+1)) -> 20 | B35: =IF(OFFSET(J35,-1,)=J35,"〃",J35) -> 〃 | C35: =IF(B35="〃","〃","新規") -> 〃 | D35: =IF(OFFSET(K35,-1,)=K35,"〃",K35) -> 〃 | E35: =IF(OFFSET(L35,-1,)=L35,"〃",L35) -> 〃 | F35: (削)停止線 実線（白） | G35: 1 | H35: 2 | I35: １ｍ | J35: 261210219 | K35: 市道 | L35: 福山市久松台2丁目11番15号先交差点 | M35: =ASC(I35) -> 1m
A36: =IF(E35="","",IF(E36="〃",A35,A35+1)) -> 21 | B36: =IF(OFFSET(J36,-1,)=J36,"〃",J36) -> 〃 | C36: =IF(B36="〃","〃","新規") -> 〃 | D36: =IF(OFFSET(K36,-1,)=K36,"〃",K36) -> 〃 | E36: =IF(OFFSET(L36,-1,)=L36,"〃",L36) -> 福山市久松台2丁目9番26号先交差点 | F36: (削)止まれ文字 図示（白） | G36: 1 | H36: 20 | J36: 261210219 | K36: 市道 | L36: 福山市久松台2丁目9番26号先交差点 | M36: =ASC(I36)
A37: =IF(E36="","",IF(E37="〃",A36,A36+1)) -> 21 | B37: =IF(OFFSET(J37,-1,)=J37,"〃",J37) -> 〃 | C37: =IF(B37="〃","〃","新規") -> 〃 | D37: =IF(OFFSET(K37,-1,)=K37,"〃",K37) -> 〃 | E37: =IF(OFFSET(L37,-1,)=L37,"〃",L37) -> 〃 | F37: (削)停止線 実線（白） | G37: 1 | H37: 4 | I37: ２ｍ | J37: 261210219 | K37: 市道 | L37: 福山市久松台2丁目9番26号先交差点 | M37: =ASC(I37) -> 2m
A38: =IF(E37="","",IF(E38="〃",A37,A37+1)) -> 22 | B38: =IF(OFFSET(J38,-1,)=J38,"〃",J38) -> 〃 | C38: =IF(B38="〃","〃","新規") -> 〃 | D38: =IF(OFFSET(K38,-1,)=K38,"〃",K38) -> 〃 | E38: =IF(OFFSET(L38,-1,)=L38,"〃",L38) -> 福山市手城町2丁目1番24号先交差点 | F38: (削)止まれ文字 図示（白） | G38: 1 | H38: 10 | J38: 261210219 | K38: 市道 | L38: 福山市手城町2丁目1番24号先交差点 | M38: =ASC(I38)
A39: =IF(E38="","",IF(E39="〃",A38,A38+1)) -> 23 | B39: =IF(OFFSET(J39,-1,)=J39,"〃",J39) -> 〃 | C39: =IF(B39="〃","〃","新規") -> 〃 | D39: =IF(OFFSET(K39,-1,)=K39,"〃",K39) -> 〃 | E39: =IF(OFFSET(L39,-1,)=L39,"〃",L39) -> 福山市西桜町1丁目9番3号先交差点 | F39: (削)止まれ文字 図示（白） | G39: 1 | H39: 13 | J39: 261210219 | K39: 市道 | L39: 福山市西桜町1丁目9番3号先交差点 | M39: =ASC(I39)
A40: =IF(E39="","",IF(E40="〃",A39,A39+1)) -> 23 | B40: =IF(OFFSET(J40,-1,)=J40,"〃",J40) -> 〃 | C40: =IF(B40="〃","〃","新規") -> 〃 | D40: =IF(OFFSET(K40,-1,)=K40,"〃",K40) -> 〃 | E40: =IF(OFFSET(L40,-1,)=L40,"〃",L40) -> 〃 | F40: (削)停止線 実線（白） | G40: 1 | H40: 6 | I40: ３ｍ | J40: 261210219 | K40: 市道 | L40: 福山市西桜町1丁目9番3号先交差点 | M40: =ASC(I40) -> 3m
A41: =IF(E40="","",IF(E41="〃",A40,A40+1)) -> 24 | B41: =IF(OFFSET(J41,-1,)=J41,"〃",J41) -> 〃 | C41: =IF(B41="〃","〃","新規") -> 〃 | D41: =IF(OFFSET(K41,-1,)=K41,"〃",K41) -> 〃 | E41: =IF(OFFSET(L41,-1,)=L41,"〃",L41) -> 福山市西町1丁目25番11号先交差点 | F41: (削)止まれ文字 図示（白） | G41: 1 | H41: 10 | J41: 261210219 | K41: 市道 | L41: 福山市西町1丁目25番11号先交差点 | M41: =ASC(I41)
A42: =IF(E41="","",IF(E42="〃",A41,A41+1)) -> 24 | B42: =IF(OFFSET(J42,-1,)=J42,"〃",J42) -> 〃 | C42: =IF(B42="〃","〃","新規") -> 〃 | D42: =IF(OFFSET(K42,-1,)=K42,"〃",K42) -> 〃 | E42: =IF(OFFSET(L42,-1,)=L42,"〃",L42) -> 〃 | F42: (削)停止線 実線（白） | G42: 1 | H42: 2 | J42: 261210219 | K42: 市道 | L42: 福山市西町1丁目25番11号先交差点 | M42: =ASC(I42)
A43: =IF(E42="","",IF(E43="〃",A42,A42+1)) -> 25 | B43: =IF(OFFSET(J43,-1,)=J43,"〃",J43) -> 〃 | C43: =IF(B43="〃","〃","新規") -> 〃 | D43: =IF(OFFSET(K43,-1,)=K43,"〃",K43) -> 〃 | E43: =IF(OFFSET(L43,-1,)=L43,"〃",L43) -> 福山市大門町1丁目15番5号先交差点 | F43: (削)止まれ文字 図示（白） | G43: 1 | H43: 20 | J43: 261210219 | K43: 市道 | L43: 福山市大門町1丁目15番5号先交差点 | M43: =ASC(I43)
A44: =IF(E43="","",IF(E44="〃",A43,A43+1)) -> 26 | B44: =IF(OFFSET(J44,-1,)=J44,"〃",J44) -> 〃 | C44: =IF(B44="〃","〃","新規") -> 〃 | D44: =IF(OFFSET(K44,-1,)=K44,"〃",K44) -> 〃 | E44: =IF(OFFSET(L44,-1,)=L44,"〃",L44) -> 福山市大門町1丁目50番39号先交差点 | F44: (削)停止線 実線（白） | G44: 1 | H44: 3 | I44: １ｍ | J44: 261210219 | K44: 市道 | L44: 福山市大門町1丁目50番39号先交差点 | M44: =ASC(I44) -> 1m
A45: =IF(E44="","",IF(E45="〃",A44,A44+1)) -> 27 | B45: =IF(OFFSET(J45,-1,)=J45,"〃",J45) -> 261210223 | C45: =IF(B45="〃","〃","新規") -> 新規 | D45: =IF(OFFSET(K45,-1,)=K45,"〃",K45) -> 〃 | E45: =IF(OFFSET(L45,-1,)=L45,"〃",L45) -> 福山市東深津町2丁目9番30号先交差点 | F45: (削)止まれ文字 図示（白） | G45: 1 | H45: 20 | J45: 261210223 | K45: 市道 | L45: 福山市東深津町2丁目9番30号先交差点 | M45: =ASC(I45)
A46: =IF(E45="","",IF(E46="〃",A45,A45+1)) -> 27 | B46: =IF(OFFSET(J46,-1,)=J46,"〃",J46) -> 〃 | C46: =IF(B46="〃","〃","新規") -> 〃 | D46: =IF(OFFSET(K46,-1,)=K46,"〃",K46) -> 〃 | E46: =IF(OFFSET(L46,-1,)=L46,"〃",L46) -> 〃 | F46: (削)停止線 実線（白） | G46: 1 | H46: 6 | I46: 3m | J46: 261210223 | K46: 市道 | L46: 福山市東深津町2丁目9番30号先交差点 | M46: =ASC(I46) -> 3m
A47: =IF(E46="","",IF(E47="〃",A46,A46+1)) -> 28 | B47: =IF(OFFSET(J47,-1,)=J47,"〃",J47) -> 〃 | C47: =IF(B47="〃","〃","新規") -> 〃 | D47: =IF(OFFSET(K47,-1,)=K47,"〃",K47) -> 〃 | E47: =IF(OFFSET(L47,-1,)=L47,"〃",L47) -> 福山市東深津町3丁目10番12号先交差点 | F47: (削)止まれ文字 図示（白） | G47: 1 | H47: 13 | J47: 261210223 | K47: 市道 | L47: 福山市東深津町3丁目10番12号先交差点 | M47: =ASC(I47)
A48: =IF(E47="","",IF(E48="〃",A47,A47+1)) -> 28 | B48: =IF(OFFSET(J48,-1,)=J48,"〃",J48) -> 〃 | C48: =IF(B48="〃","〃","新規") -> 〃 | D48: =IF(OFFSET(K48,-1,)=K48,"〃",K48) -> 〃 | E48: =IF(OFFSET(L48,-1,)=L48,"〃",L48) -> 〃 | F48: (削)停止線 実線（白） | G48: 1 | H48: 3 | I48: 1.5m | J48: 261210223 | K48: 市道 | L48: 福山市東深津町3丁目10番12号先交差点 | M48: =ASC(I48) -> 1.5m
A49: =IF(E48="","",IF(E49="〃",A48,A48+1)) -> 29 | B49: =IF(OFFSET(J49,-1,)=J49,"〃",J49) -> 〃 | C49: =IF(B49="〃","〃","新規") -> 〃 | D49: =IF(OFFSET(K49,-1,)=K49,"〃",K49) -> 〃 | E49: =IF(OFFSET(L49,-1,)=L49,"〃",L49) -> 福山市東深津町3丁目16番22号先交差点 | F49: (削)止まれ文字 図示（白） | G49: 1 | H49: 5 | J49: 261210223 | K49: 市道 | L49: 福山市東深津町3丁目16番22号先交差点 | M49: =ASC(I49)
A50: =IF(E49="","",IF(E50="〃",A49,A49+1)) -> 30 | B50: =IF(OFFSET(J50,-1,)=J50,"〃",J50) -> 〃 | C50: =IF(B50="〃","〃","新規") -> 〃 | D50: =IF(OFFSET(K50,-1,)=K50,"〃",K50) -> 〃 | E50: =IF(OFFSET(L50,-1,)=L50,"〃",L50) -> 福山市東深津町3丁目1番北東角先交差点 | F50: (削)止まれ文字 図示（白） | G50: 1 | H50: 13 | J50: 261210223 | K50: 市道 | L50: 福山市東深津町3丁目1番北東角先交差点 | M50: =ASC(I50)
A51: =IF(E50="","",IF(E51="〃",A50,A50+1)) -> 30 | B51: =IF(OFFSET(J51,-1,)=J51,"〃",J51) -> 〃 | C51: =IF(B51="〃","〃","新規") -> 〃 | D51: =IF(OFFSET(K51,-1,)=K51,"〃",K51) -> 〃 | E51: =IF(OFFSET(L51,-1,)=L51,"〃",L51) -> 〃 | F51: (削)停止線 実線（白） | G51: 1 | H51: 4 | I51: 2m | J51: 261210223 | K51: 市道 | L51: 福山市東深津町3丁目1番北東角先交差点 | M51: =ASC(I51) -> 2m
A52: =IF(E51="","",IF(E52="〃",A51,A51+1)) -> 31 | B52: =IF(OFFSET(J52,-1,)=J52,"〃",J52) -> 〃 | C52: =IF(B52="〃","〃","新規") -> 〃 | D52: =IF(OFFSET(K52,-1,)=K52,"〃",K52) -> 〃 | E52: =IF(OFFSET(L52,-1,)=L52,"〃",L52) -> 福山市東深津町3丁目22番2号先交差点 | F52: (削)止まれ文字 図示（白） | G52: 1 | H52: 20 | J52: 261210223 | K52: 市道 | L52: 福山市東深津町3丁目22番2号先交差点 | M52: =ASC(I52)
A53: =IF(E52="","",IF(E53="〃",A52,A52+1)) -> 31 | B53: =IF(OFFSET(J53,-1,)=J53,"〃",J53) -> 〃 | C53: =IF(B53="〃","〃","新規") -> 〃 | D53: =IF(OFFSET(K53,-1,)=K53,"〃",K53) -> 〃 | E53: =IF(OFFSET(L53,-1,)=L53,"〃",L53) -> 〃 | F53: (削)停止線 実線（白） | G53: 1 | H53: 5 | I53: 2.5m | J53: 261210223 | K53: 市道 | L53: 福山市東深津町3丁目22番2号先交差点 | M53: =ASC(I53) -> 2.5m
A54: =IF(E53="","",IF(E54="〃",A53,A53+1)) -> 32 | B54: =IF(OFFSET(J54,-1,)=J54,"〃",J54) -> 〃 | C54: =IF(B54="〃","〃","新規") -> 〃 | D54: =IF(OFFSET(K54,-1,)=K54,"〃",K54) -> 〃 | E54: =IF(OFFSET(L54,-1,)=L54,"〃",L54) -> 福山市東深津町3丁目5番12号先交差点 | F54: (削)止まれ文字 図示（白） | G54: 1 | H54: 13 | J54: 261210223 | K54: 市道 | L54: 福山市東深津町3丁目5番12号先交差点 | M54: =ASC(I54)
A55: =IF(E54="","",IF(E55="〃",A54,A54+1)) -> 32 | B55: =IF(OFFSET(J55,-1,)=J55,"〃",J55) -> 〃 | C55: =IF(B55="〃","〃","新規") -> 〃 | D55: =IF(OFFSET(K55,-1,)=K55,"〃",K55) -> 〃 | E55: =IF(OFFSET(L55,-1,)=L55,"〃",L55) -> 〃 | F55: (削)停止線 実線（白） | G55: 1 | H55: 4 | I55: 2m | J55: 261210223 | K55: 市道 | L55: 福山市東深津町3丁目5番12号先交差点 | M55: =ASC(I55) -> 2m
A56: =IF(E55="","",IF(E56="〃",A55,A55+1)) -> 33 | B56: =IF(OFFSET(J56,-1,)=J56,"〃",J56) -> 〃 | C56: =IF(B56="〃","〃","新規") -> 〃 | D56: =IF(OFFSET(K56,-1,)=K56,"〃",K56) -> 〃 | E56: =IF(OFFSET(L56,-1,)=L56,"〃",L56) -> 福山市東深津町3丁目8番48号先交差点 | F56: (削)止まれ文字 図示（白） | G56: 1 | H56: 13 | J56: 261210223 | K56: 市道 | L56: 福山市東深津町3丁目8番48号先交差点 | M56: =ASC(I56)
A57: =IF(E56="","",IF(E57="〃",A56,A56+1)) -> 33 | B57: =IF(OFFSET(J57,-1,)=J57,"〃",J57) -> 〃 | C57: =IF(B57="〃","〃","新規") -> 〃 | D57: =IF(OFFSET(K57,-1,)=K57,"〃",K57) -> 〃 | E57: =IF(OFFSET(L57,-1,)=L57,"〃",L57) -> 〃 | F57: (削)停止線 実線（白） | G57: 1 | H57: 7 | I57: 3.5m | J57: 261210223 | K57: 市道 | L57: 福山市東深津町3丁目8番48号先交差点 | M57: =ASC(I57) -> 3.5m
A58: =IF(E57="","",IF(E58="〃",A57,A57+1)) -> 34 | B58: =IF(OFFSET(J58,-1,)=J58,"〃",J58) -> 〃 | C58: =IF(B58="〃","〃","新規") -> 〃 | D58: =IF(OFFSET(K58,-1,)=K58,"〃",K58) -> 〃 | E58: =IF(OFFSET(L58,-1,)=L58,"〃",L58) -> 福山市東深津町4丁目13番26号先交差点 | F58: (削)止まれ文字 図示（白） | G58: 1 | H58: 13 | J58: 261210223 | K58: 市道 | L58: 福山市東深津町4丁目13番26号先交差点 | M58: =ASC(I58)
A59: =IF(E58="","",IF(E59="〃",A58,A58+1)) -> 34 | B59: =IF(OFFSET(J59,-1,)=J59,"〃",J59) -> 〃 | C59: =IF(B59="〃","〃","新規") -> 〃 | D59: =IF(OFFSET(K59,-1,)=K59,"〃",K59) -> 〃 | E59: =IF(OFFSET(L59,-1,)=L59,"〃",L59) -> 〃 | F59: (削)停止線 実線（白） | G59: 1 | H59: 5 | I59: 2.5m | J59: 261210223 | K59: 市道 | L59: 福山市東深津町4丁目13番26号先交差点 | M59: =ASC(I59) -> 2.5m
A60: =IF(E59="","",IF(E60="〃",A59,A59+1)) -> 35 | B60: =IF(OFFSET(J60,-1,)=J60,"〃",J60) -> 〃 | C60: =IF(B60="〃","〃","新規") -> 〃 | D60: =IF(OFFSET(K60,-1,)=K60,"〃",K60) -> 〃 | E60: =IF(OFFSET(L60,-1,)=L60,"〃",L60) -> 福山市東深津町5丁目8番15号先交差点 | F60: (削)止まれ文字 図示（白） | G60: 1 | H60: 13 | J60: 261210223 | K60: 市道 | L60: 福山市東深津町5丁目8番15号先交差点 | M60: =ASC(I60)
A61: =IF(E60="","",IF(E61="〃",A60,A60+1)) -> 35 | B61: =IF(OFFSET(J61,-1,)=J61,"〃",J61) -> 〃 | C61: =IF(B61="〃","〃","新規") -> 〃 | D61: =IF(OFFSET(K61,-1,)=K61,"〃",K61) -> 〃 | E61: =IF(OFFSET(L61,-1,)=L61,"〃",L61) -> 〃 | F61: (削)停止線 実線（白） | G61: 1 | H61: 5 | I61: 2.5m | J61: 261210223 | K61: 市道 | L61: 福山市東深津町5丁目8番15号先交差点 | M61: =ASC(I61) -> 2.5m
A62: =IF(E61="","",IF(E62="〃",A61,A61+1)) -> 36 | B62: =IF(OFFSET(J62,-1,)=J62,"〃",J62) -> 〃 | C62: =IF(B62="〃","〃","新規") -> 〃 | D62: =IF(OFFSET(K62,-1,)=K62,"〃",K62) -> 〃 | E62: =IF(OFFSET(L62,-1,)=L62,"〃",L62) -> 福山市南手城町1丁目17番32号先交差点 | F62: (削)横断歩道 実線（白） | G62: 1 | H62: 27 | I62: ３ｍ３縞 | J62: 261210223 | K62: 市道 | L62: 福山市南手城町1丁目17番32号先交差点 | M62: =ASC(I62) -> 3m3縞
A63: =IF(E62="","",IF(E63="〃",A62,A62+1)) -> 36 | B63: =IF(OFFSET(J63,-1,)=J63,"〃",J63) -> 〃 | C63: =IF(B63="〃","〃","新規") -> 〃 | D63: =IF(OFFSET(K63,-1,)=K63,"〃",K63) -> 〃 | E63: =IF(OFFSET(L63,-1,)=L63,"〃",L63) -> 〃 | F63: (削)停止線 実線（白） | G63: 2 | H63: 17.5 | I63: 北側、3.5m_x000D_ 南側、3.5m | J63: 261210223 | K63: 市道 | L63: 福山市南手城町1丁目17番32号先交差点 | M63: =ASC(I63) -> 北側､3.5m_x000D_ 南側､3.5m
A64: =IF(E63="","",IF(E64="〃",A63,A63+1)) -> 37 | B64: =IF(OFFSET(J64,-1,)=J64,"〃",J64) -> 〃 | C64: =IF(B64="〃","〃","新規") -> 〃 | D64: =IF(OFFSET(K64,-1,)=K64,"〃",K64) -> 〃 | E64: =IF(OFFSET(L64,-1,)=L64,"〃",L64) -> 福山市南手城町4丁目15番35号先交差点 | F64: (削)横断歩道 実線（白） | G64: 2 | H64: 90 | I64: 西側、３ｍ５縞_x000D_ 東側、３ｍ５縞 | J64: 261210223 | K64: 市道 | L64: 福山市南手城町4丁目15番35号先交差点 | M64: =ASC(I64) -> 西側､3m5縞_x000D_ 東側､3m5縞
A65: =IF(E64="","",IF(E65="〃",A64,A64+1)) -> 37 | B65: =IF(OFFSET(J65,-1,)=J65,"〃",J65) -> 〃 | C65: =IF(B65="〃","〃","新規") -> 〃 | D65: =IF(OFFSET(K65,-1,)=K65,"〃",K65) -> 〃 | E65: =IF(OFFSET(L65,-1,)=L65,"〃",L65) -> 〃 | F65: (削)停止線 実線（白） | G65: 2 | H65: 21 | I65: 西側、3.5ｍ_x000D_ 東側、3.5m | J65: 261210223 | K65: 市道 | L65: 福山市南手城町4丁目15番35号先交差点 | M65: =ASC(I65) -> 西側､3.5m_x000D_ 東側､3.5m
A66: =IF(E65="","",IF(E66="〃",A65,A65+1)) -> 38 | B66: =IF(OFFSET(J66,-1,)=J66,"〃",J66) -> 261210219 | C66: =IF(B66="〃","〃","新規") -> 新規 | D66: =IF(OFFSET(K66,-1,)=K66,"〃",K66) -> 〃 | E66: =IF(OFFSET(L66,-1,)=L66,"〃",L66) -> 福山市南本庄1丁目4番6号先交差点 | F66: (削)止まれ文字 図示（白） | G66: 2 | H66: 20 | I66: 北側_x000D_ 南側 | J66: 261210219 | K66: 市道 | L66: 福山市南本庄1丁目4番6号先交差点 | M66: =ASC(I66) -> 北側_x000D_ 南側
A67: =IF(E66="","",IF(E67="〃",A66,A66+1)) -> 38 | B67: =IF(OFFSET(J67,-1,)=J67,"〃",J67) -> 〃 | C67: =IF(B67="〃","〃","新規") -> 〃 | D67: =IF(OFFSET(K67,-1,)=K67,"〃",K67) -> 〃 | E67: =IF(OFFSET(L67,-1,)=L67,"〃",L67) -> 〃 | F67: (削)停止線 実線（白） | G67: 1 | H67: 2 | I67: 南側、１ｍ | J67: 261210219 | K67: 市道 | L67: 福山市南本庄1丁目4番6号先交差点 | M67: =ASC(I67) -> 南側､1m
A68: =IF(E67="","",IF(E68="〃",A67,A67+1)) -> 39 | B68: =IF(OFFSET(J68,-1,)=J68,"〃",J68) -> 261210223 | C68: =IF(B68="〃","〃","新規") -> 新規 | D68: =IF(OFFSET(K68,-1,)=K68,"〃",K68) -> 〃 | E68: =IF(OFFSET(L68,-1,)=L68,"〃",L68) -> 福山市幕山台2丁目35番27号先（幕山交差点） | F68: (削)自転車横断帯 実線（白） | G68: 1 | H68: 7 | I68: 南東側、７ｍ | J68: 261210223 | K68: 市道 | L68: 福山市幕山台2丁目35番27号先（幕山交差点） | M68: =ASC(I68) -> 南東側､7m
A69: =IF(E68="","",IF(E69="〃",A68,A68+1)) -> 40 | B69: =IF(OFFSET(J69,-1,)=J69,"〃",J69) -> 〃 | C69: =IF(B69="〃","〃","新規") -> 〃 | D69: =IF(OFFSET(K69,-1,)=K69,"〃",K69) -> 〃 | E69: =IF(OFFSET(L69,-1,)=L69,"〃",L69) -> 福山市明神町1丁目11番7号先交差点 | F69: (削)停止線 実線（白） | G69: 1 | H69: 6 | I69: 3m | J69: 261210223 | K69: 市道 | L69: 福山市明神町1丁目11番7号先交差点 | M69: =ASC(I69) -> 3m
A70: =IF(E69="","",IF(E70="〃",A69,A69+1)) -> 41 | B70: =IF(OFFSET(J70,-1,)=J70,"〃",J70) -> 〃 | C70: =IF(B70="〃","〃","新規") -> 〃 | D70: =IF(OFFSET(K70,-1,)=K70,"〃",K70) -> 〃 | E70: =IF(OFFSET(L70,-1,)=L70,"〃",L70) -> 福山市明神町1丁目13番30号南西角先交差点 | F70: (削)止まれ文字 図示（白） | G70: 1 | H70: 5 | J70: 261210223 | K70: 市道 | L70: 福山市明神町1丁目13番30号南西角先交差点 | M70: =ASC(I70)
A71: =IF(E70="","",IF(E71="〃",A70,A70+1)) -> 42 | B71: =IF(OFFSET(J71,-1,)=J71,"〃",J71) -> 〃 | C71: =IF(B71="〃","〃","新規") -> 〃 | D71: =IF(OFFSET(K71,-1,)=K71,"〃",K71) -> 〃 | E71: =IF(OFFSET(L71,-1,)=L71,"〃",L71) -> 福山市明神町1丁目6番8号先交差点 | F71: (削)止まれ文字 図示（白） | G71: 1 | H71: 20 | J71: 261210223 | K71: 市道 | L71: 福山市明神町1丁目6番8号先交差点 | M71: =ASC(I71)
A72: =IF(E71="","",IF(E72="〃",A71,A71+1)) -> 42 | B72: =IF(OFFSET(J72,-1,)=J72,"〃",J72) -> 〃 | C72: =IF(B72="〃","〃","新規") -> 〃 | D72: =IF(OFFSET(K72,-1,)=K72,"〃",K72) -> 〃 | E72: =IF(OFFSET(L72,-1,)=L72,"〃",L72) -> 〃 | F72: (削)停止線 実線（白） | G72: 1 | H72: 6 | I72: 3m | J72: 261210223 | K72: 市道 | L72: 福山市明神町1丁目6番8号先交差点 | M72: =ASC(I72) -> 3m
A73: =IF(E72="","",IF(E73="〃",A72,A72+1)) -> 43 | B73: =IF(OFFSET(J73,-1,)=J73,"〃",J73) -> 〃 | C73: =IF(B73="〃","〃","新規") -> 〃 | D73: =IF(OFFSET(K73,-1,)=K73,"〃",K73) -> 〃 | E73: =IF(OFFSET(L73,-1,)=L73,"〃",L73) -> 福山市明神町1丁目9番48号先交差点 | F73: (削)止まれ文字 図示（白） | G73: 1 | H73: 15 | J73: 261210223 | K73: 市道 | L73: 福山市明神町1丁目9番48号先交差点 | M73: =ASC(I73)
A74: =IF(E73="","",IF(E74="〃",A73,A73+1)) -> 43 | B74: =IF(OFFSET(J74,-1,)=J74,"〃",J74) -> 〃 | C74: =IF(B74="〃","〃","新規") -> 〃 | D74: =IF(OFFSET(K74,-1,)=K74,"〃",K74) -> 〃 | E74: =IF(OFFSET(L74,-1,)=L74,"〃",L74) -> 〃 | F74: (削)停止線 実線（白） | G74: 1 | H74: 2 | I74: 1m | J74: 261210223 | K74: 市道 | L74: 福山市明神町1丁目9番48号先交差点 | M74: =ASC(I74) -> 1m
A75: =IF(E74="","",IF(E75="〃",A74,A74+1)) -> 44 | B75: =IF(OFFSET(J75,-1,)=J75,"〃",J75) -> 〃 | C75: =IF(B75="〃","〃","新規") -> 〃 | D75: =IF(OFFSET(K75,-1,)=K75,"〃",K75) -> 〃 | E75: =IF(OFFSET(L75,-1,)=L75,"〃",L75) -> 福山市明神町2丁目6番20号先交差点 | F75: (削)止まれ文字 図示（白） | G75: 1 | H75: 20 | J75: 261210223 | K75: 市道 | L75: 福山市明神町2丁目6番20号先交差点 | M75: =ASC(I75)
B76: =警察署名 -> 福山東 | E76: 新規合計 | F76: 44 | H76: =IF(ISERROR(FIND("図示", H3)), IF(ISERROR(FIND("削除", H3)), SUMPRODUCT((ISNUMBER(FIND("横断歩道 実線",$F5:$F75)))*(H5:H75<>""), $G5:$G75), 0), SUMIF(H5:H75,">0",$G5:$G75)) -> 0
H77: =SUM(H5:H75) -> 840.5

Sheet 場所表_福山東_更新
A1: 更新 | B1: ="("&表紙等_署用!H1&")" -> (№ 8-32) | I1: 凸凹 | J1: 文字の折り返しで行高さがおかしくならないように、最終的な出力セルより幅を大きくしてあります。
A2: 規制番号 | B2: 道路種別 | C2: 場所・区間 | D2: 標示種別 | F2: 事業量 | J2: 規制番号 | K2: 道路種別 | L2: 場所・区間
D3: 横断歩道本数 記号文字個数 | E3: 数 | I3: 備考(縞数、方向等)
A5: =J5 -> 0 | B5: =K5 -> 0 | C5: =L5 -> 0 | M5: =ASC(I5)
A6: =IF(OFFSET(J6,-1,)=J6,"〃",J6) -> 〃 | B6: =IF(OFFSET(K6,-1,)=K6,"〃",K6) -> 〃 | C6: =IF(OFFSET(L6,-1,)=L6,"〃",L6) -> 〃 | M6: =ASC(I6)
A7: =IF(OFFSET(J7,-1,)=J7,"〃",J7) -> 〃 | B7: =IF(OFFSET(K7,-1,)=K7,"〃",K7) -> 〃 | C7: =IF(OFFSET(L7,-1,)=L7,"〃",L7) -> 〃 | M7: =ASC(I7)
A8: =警察署名 -> 凸凹 | C8: 更新合計 | D8: 0 | F8: =IF(ISERROR(FIND("図示", F3)), IF(ISERROR(FIND("削除", F3)), SUMPRODUCT((ISNUMBER(FIND("横断歩道 実線",$D5:$D7)))*(F5:F7<>""), $E5:$E7), 0), SUMIF(F5:F7,">0",$E5:$E7)) -> 0 | G8: =IF(ISERROR(FIND("図示", G3)), IF(ISERROR(FIND("削除", G3)), SUMPRODUCT((ISNUMBER(FIND("横断歩道 実線",$D5:$D7)))*(G5:G7<>""), $E5:$E7), 0), SUMIF(G5:G7,">0",$E5:$E7)) -> 0 | H8: =IF(ISERROR(FIND("図示", H3)), IF(ISERROR(FIND("削除", H3)), SUMPRODUCT((ISNUMBER(FIND("横断歩道 実線",$D5:$D7)))*(H5:H7<>""), $E5:$E7), 0), SUMIF(H5:H7,">0",$E5:$E7)) -> 0
F9: =SUM(F5:F7) -> 0 | G9: =SUM(G5:G7) -> 0 | H9: =SUM(H5:H7) -> 0
A10: =警察署名 -> 凸凹 | C10: 新規更新合計 | D10: =場所表_福山東_新規!新規合計+更新合計 -> 44 | F10: =場所表_新規!G8+場所表_福山東_更新!F8 -> 0 | G10: =場所表_新規!H8+場所表_福山東_更新!G8 -> 0 | H10: =場所表_新規!I8+場所表_福山東_更新!H8 -> 0
F11: =場所表_新規!G9+場所表_福山東_更新!F9 -> 0 | G11: =場所表_新規!H9+場所表_福山東_更新!G9 -> 0 | H11: =場所表_新規!I9+場所表_福山東_更新!H9 -> 0

Sheet 場所表_福山西_新規
B1: 新規 | D1: ="("&表紙等_署用!H1&")" -> (№ 8-32) | K1: 福山西 | L1: 文字の折り返しで行高さがおかしくならないように、最終的な出力セルより幅を大きくしてあります。
B2: 整理番号 （規制番号） | C2: 区分 | D2: 道路種別 | E2: 場所・区間 | F2: 標示種別 | H2: 事業量 | L2: 整理番号 （規制番号） | M2: 道路種別 | N2: 場所・区間
F3: 横断歩道本数 記号文字個数 | G3: 数 | H3: 横断歩道等 実線４５㎝幅 | I3: 図示 | J3: 削除 | K3: 備考(縞数、方向等)
H4: m | I4: m | J4: m
A5: 1 | B5: =L5 -> 261200009_x000D_ (第20-7-2368) | C5: =IF(B5="〃","〃","新規") -> 新規 | D5: =M5 -> 市道 | E5: =N5 -> 福山市熊野町1,082番地3南方25メートル先交差点 | F5: 横断歩道 実線（白） | G5: 1 | H5: 15 | K5: 3m5縞 | L5: 261200009_x000D_ (第20-7-2368) | M5: 市道 | N5: 福山市熊野町1,082番地3南方25メートル先交差点 | O5: =ASC(K5) -> 3m5縞
A6: =IF(E5="","",IF(E6="〃",A5,A5+1)) -> 1 | B6: =IF(OFFSET(L6,-1,)=L6,"〃",L6) -> 〃 | C6: =IF(B6="〃","〃","新規") -> 〃 | D6: =IF(OFFSET(M6,-1,)=M6,"〃",M6) -> 〃 | E6: =IF(OFFSET(N6,-1,)=N6,"〃",N6) -> 〃 | F6: 横断歩道予告 図示（白） | G6: 4 | I6: 36 | K6: 北西側2個_x000D_ 南東側2個 | L6: 261200009_x000D_ (第20-7-2368) | M6: 市道 | N6: 福山市熊野町1,082番地3南方25メートル先交差点 | O6: =ASC(K6) -> 北西側2個_x000D_ 南東側2個
A7: =IF(E6="","",IF(E7="〃",A6,A6+1)) -> 1 | B7: =IF(OFFSET(L7,-1,)=L7,"〃",L7) -> 〃 | C7: =IF(B7="〃","〃","新規") -> 〃 | D7: =IF(OFFSET(M7,-1,)=M7,"〃",M7) -> 〃 | E7: =IF(OFFSET(N7,-1,)=N7,"〃",N7) -> 〃 | F7: 停止線 実線（白） | G7: 2 | H7: 4.2 | K7: 北西側2.1ｍ_x000D_ 南東側2.1ｍ | L7: 261200009_x000D_ (第20-7-2368) | M7: 市道 | N7: 福山市熊野町1,082番地3南方25メートル先交差点 | O7: =ASC(K7) -> 北西側2.1m_x000D_ 南東側2.1m
A8: =IF(E7="","",IF(E8="〃",A7,A7+1)) -> 2 | B8: =IF(OFFSET(L8,-1,)=L8,"〃",L8) -> 261200009_x000D_ (第20-7-2369) | C8: =IF(B8="〃","〃","新規") -> 新規 | D8: =IF(OFFSET(M8,-1,)=M8,"〃",M8) -> 〃 | E8: =IF(OFFSET(N8,-1,)=N8,"〃",N8) -> 福山市山手町1,358番地1先 | F8: 横断歩道 実線（白） | G8: 1 | H8: 9 | K8: 3m3縞 | L8: 261200009_x000D_ (第20-7-2369) | M8: 市道 | N8: 福山市山手町1,358番地1先 | O8: =ASC(K8) -> 3m3縞
A9: =IF(E8="","",IF(E9="〃",A8,A8+1)) -> 2 | B9: =IF(OFFSET(L9,-1,)=L9,"〃",L9) -> 〃 | C9: =IF(B9="〃","〃","新規") -> 〃 | D9: =IF(OFFSET(M9,-1,)=M9,"〃",M9) -> 〃 | E9: =IF(OFFSET(N9,-1,)=N9,"〃",N9) -> 〃 | F9: 横断歩道予告 図示（白） | G9: 4 | I9: 36 | K9: 南西側2個_x000D_ 北東側2個 | L9: 261200009_x000D_ (第20-7-2369) | M9: 市道 | N9: 福山市山手町1,358番地1先 | O9: =ASC(K9) -> 南西側2個_x000D_ 北東側2個
A10: =IF(E9="","",IF(E10="〃",A9,A9+1)) -> 2 | B10: =IF(OFFSET(L10,-1,)=L10,"〃",L10) -> 〃 | C10: =IF(B10="〃","〃","新規") -> 〃 | D10: =IF(OFFSET(M10,-1,)=M10,"〃",M10) -> 〃 | E10: =IF(OFFSET(N10,-1,)=N10,"〃",N10) -> 〃 | F10: 停止線 実線（白） | G10: 2 | H10: 2.8 | K10: 南西側1.4ｍ_x000D_ 北東側1.4ｍ | L10: 261200009_x000D_ (第20-7-2369) | M10: 市道 | N10: 福山市山手町1,358番地1先 | O10: =ASC(K10) -> 南西側1.4m_x000D_ 北東側1.4m
A11: =IF(E10="","",IF(E11="〃",A10,A10+1)) -> 3 | B11: =IF(OFFSET(L11,-1,)=L11,"〃",L11) -> 261200009 | C11: =IF(B11="〃","〃","新規") -> 新規 | D11: =IF(OFFSET(M11,-1,)=M11,"〃",M11) -> 県道 | E11: =IF(OFFSET(N11,-1,)=N11,"〃",N11) -> 福山市山手町1016番地西側交差点 | F11: (削)横断歩道 実線（白） | G11: 1 | J11: 108 | K11: 4m9縞 | L11: 261200009 | M11: 県道 | N11: 福山市山手町1016番地西側交差点 | O11: =ASC(K11) -> 4m9縞
A12: =IF(E11="","",IF(E12="〃",A11,A11+1)) -> 3 | B12: =IF(OFFSET(L12,-1,)=L12,"〃",L12) -> 〃 | C12: =IF(B12="〃","〃","新規") -> 〃 | D12: =IF(OFFSET(M12,-1,)=M12,"〃",M12) -> 〃 | E12: =IF(OFFSET(N12,-1,)=N12,"〃",N12) -> 〃 | F12: (削)横断歩道予告 図示（白） | G12: 4 | J12: 36 | K12: 南西側2個_x000D_ 北東側2個 | L12: 261200009 | M12: 県道 | N12: 福山市山手町1016番地西側交差点 | O12: =ASC(K12) -> 南西側2個_x000D_ 北東側2個
A13: =IF(E12="","",IF(E13="〃",A12,A12+1)) -> 3 | B13: =IF(OFFSET(L13,-1,)=L13,"〃",L13) -> 〃 | C13: =IF(B13="〃","〃","新規") -> 〃 | D13: =IF(OFFSET(M13,-1,)=M13,"〃",M13) -> 〃 | E13: =IF(OFFSET(N13,-1,)=N13,"〃",N13) -> 〃 | F13: (削)停止線 実線（白） | G13: 2 | J13: 12 | K13: 南西側1.7ｍ_x000D_ 北東側2.3ｍ | L13: 261200009 | M13: 県道 | N13: 福山市山手町1016番地西側交差点 | O13: =ASC(K13) -> 南西側1.7m_x000D_ 北東側2.3m
B14: =警察署名 -> 福山西 | E14: 新規合計 | F14: 3 | H14: =IF(ISERROR(FIND("図示", H3)), IF(ISERROR(FIND("削除", H3)), SUMPRODUCT((ISNUMBER(FIND("横断歩道 実線",$F5:$F13)))*(H5:H13<>""), $G5:$G13), 0), SUMIF(H5:H13,">0",$G5:$G13)) -> 2 | I14: =IF(ISERROR(FIND("図示", I3)), IF(ISERROR(FIND("削除", I3)), SUMPRODUCT((ISNUMBER(FIND("横断歩道 実線",$F5:$F13)))*(I5:I13<>""), $G5:$G13), 0), SUMIF(I5:I13,">0",$G5:$G13)) -> 8 | J14: =IF(ISERROR(FIND("図示", J3)), IF(ISERROR(FIND("削除", J3)), SUMPRODUCT((ISNUMBER(FIND("横断歩道 実線",$F5:$F13)))*(J5:J13<>""), $G5:$G13), 0), SUMIF(J5:J13,">0",$G5:$G13)) -> 0
H15: =SUM(H5:H13) -> 31 | I15: =SUM(I5:I13) -> 72 | J15: =SUM(J5:J13) -> 156

Sheet 場所表_福山西_更新
A1: 更新 | B1: ="("&表紙等_署用!H1&")" -> (№ 8-32) | I1: 凸凹 | J1: 文字の折り返しで行高さがおかしくならないように、最終的な出力セルより幅を大きくしてあります。
A2: 規制番号 | B2: 道路種別 | C2: 場所・区間 | D2: 標示種別 | F2: 事業量 | J2: 規制番号 | K2: 道路種別 | L2: 場所・区間
D3: 横断歩道本数 記号文字個数 | E3: 数 | I3: 備考(縞数、方向等)
A5: =J5 -> 0 | B5: =K5 -> 0 | C5: =L5 -> 0 | M5: =ASC(I5)
A6: =IF(OFFSET(J6,-1,)=J6,"〃",J6) -> 〃 | B6: =IF(OFFSET(K6,-1,)=K6,"〃",K6) -> 〃 | C6: =IF(OFFSET(L6,-1,)=L6,"〃",L6) -> 〃 | M6: =ASC(I6)
A7: =IF(OFFSET(J7,-1,)=J7,"〃",J7) -> 〃 | B7: =IF(OFFSET(K7,-1,)=K7,"〃",K7) -> 〃 | C7: =IF(OFFSET(L7,-1,)=L7,"〃",L7) -> 〃 | M7: =ASC(I7)
A8: =警察署名 -> 凸凹 | C8: 更新合計 | D8: 0 | F8: =IF(ISERROR(FIND("図示", F3)), IF(ISERROR(FIND("削除", F3)), SUMPRODUCT((ISNUMBER(FIND("横断歩道 実線",$D5:$D7)))*(F5:F7<>""), $E5:$E7), 0), SUMIF(F5:F7,">0",$E5:$E7)) -> 0 | G8: =IF(ISERROR(FIND("図示", G3)), IF(ISERROR(FIND("削除", G3)), SUMPRODUCT((ISNUMBER(FIND("横断歩道 実線",$D5:$D7)))*(G5:G7<>""), $E5:$E7), 0), SUMIF(G5:G7,">0",$E5:$E7)) -> 0 | H8: =IF(ISERROR(FIND("図示", H3)), IF(ISERROR(FIND("削除", H3)), SUMPRODUCT((ISNUMBER(FIND("横断歩道 実線",$D5:$D7)))*(H5:H7<>""), $E5:$E7), 0), SUMIF(H5:H7,">0",$E5:$E7)) -> 0
F9: =SUM(F5:F7) -> 0 | G9: =SUM(G5:G7) -> 0 | H9: =SUM(H5:H7) -> 0
A10: =警察署名 -> 凸凹 | C10: 新規更新合計 | D10: =場所表_福山西_新規!新規合計+更新合計 -> 3 | F10: =場所表_新規!G8+場所表_福山西_更新!F8 -> 0 | G10: =場所表_新規!H8+場所表_福山西_更新!G8 -> 0 | H10: =場所表_新規!I8+場所表_福山西_更新!H8 -> 0
F11: =場所表_新規!G9+場所表_福山西_更新!F9 -> 0 | G11: =場所表_新規!H9+場所表_福山西_更新!G9 -> 0 | H11: =場所表_新規!I9+場所表_福山西_更新!H9 -> 0

Sheet 場所表_福山北_新規
B1: 新規 | D1: ="("&表紙等_署用!H1&")" -> (№ 8-32) | K1: 福山北 | L1: 文字の折り返しで行高さがおかしくならないように、最終的な出力セルより幅を大きくしてあります。
B2: 整理番号 （規制番号） | C2: 区分 | D2: 道路種別 | E2: 場所・区間 | F2: 標示種別 | H2: 事業量 | L2: 整理番号 （規制番号） | M2: 道路種別 | N2: 場所・区間
F3: 横断歩道本数 記号文字個数 | G3: 数 | H3: 横断歩道等 実線４５㎝幅 | I3: 実線１５㎝幅 | J3: 削除 | K3: 備考(縞数、方向等)
H4: m | I4: m | J4: m
A5: 1 | B5: =L5 -> 261280090_x000D_ (第20-7-0673) | C5: =IF(B5="〃","〃","新規") -> 新規 | D5: =M5 -> 県道 | E5: =N5 -> 福山市芦田町下有地1,036番地1先交差点 | F5: (削)横断歩道 実線（白） | G5: 1 | J5: 8 | K5: 全縞削除 | L5: 261280090_x000D_ (第20-7-0673) | M5: 県道 | N5: 福山市芦田町下有地1,036番地1先交差点 | O5: =ASC(K5) -> 全縞削除
A6: =IF(E5="","",IF(E6="〃",A5,A5+1)) -> 1 | B6: =IF(OFFSET(L6,-1,)=L6,"〃",L6) -> 〃 | C6: =IF(B6="〃","〃","新規") -> 〃 | D6: =IF(OFFSET(M6,-1,)=M6,"〃",M6) -> 〃 | E6: =IF(OFFSET(N6,-1,)=N6,"〃",N6) -> 〃 | F6: (削)横断歩道予告 図示（白） | G6: 4 | J6: 28 | K6: 西側(近)全削除_x000D_ 西側(遠)全削除_x000D_ 東側(近)全削除_x000D_ 東側(遠)全削除 | L6: 261280090_x000D_ (第20-7-0673) | M6: 県道 | N6: 福山市芦田町下有地1,036番地1先交差点 | O6: =ASC(K6) -> 西側(近)全削除_x000D_ 西側(遠)全削除_x000D_ 東側(近)全削除_x000D_ 東側(遠)全削除
A7: =IF(E6="","",IF(E7="〃",A6,A6+1)) -> 1 | B7: =IF(OFFSET(L7,-1,)=L7,"〃",L7) -> 〃 | C7: =IF(B7="〃","〃","新規") -> 〃 | D7: =IF(OFFSET(M7,-1,)=M7,"〃",M7) -> 〃 | E7: =IF(OFFSET(N7,-1,)=N7,"〃",N7) -> 〃 | F7: (削)停止線 実線（白） | G7: 1 | J7: 3 | K7: 西側全削除 | L7: 261280090_x000D_ (第20-7-0673) | M7: 県道 | N7: 福山市芦田町下有地1,036番地1先交差点 | O7: =ASC(K7) -> 西側全削除
A8: =IF(E7="","",IF(E8="〃",A7,A7+1)) -> 2 | B8: =IF(OFFSET(L8,-1,)=L8,"〃",L8) -> 261280090_x000D_ (第20-7-1199) | C8: =IF(B8="〃","〃","新規") -> 新規 | D8: =IF(OFFSET(M8,-1,)=M8,"〃",M8) -> 〃 | E8: =IF(OFFSET(N8,-1,)=N8,"〃",N8) -> 福山市芦田町下有地1,095番地4先交差点 | F8: (削)横断歩道 実線（白） | G8: 1 | J8: 50 | K8: 全縞削除 | L8: 261280090_x000D_ (第20-7-1199) | M8: 県道 | N8: 福山市芦田町下有地1,095番地4先交差点 | O8: =ASC(K8) -> 全縞削除
A9: =IF(E8="","",IF(E9="〃",A8,A8+1)) -> 2 | B9: =IF(OFFSET(L9,-1,)=L9,"〃",L9) -> 〃 | C9: =IF(B9="〃","〃","新規") -> 〃 | D9: =IF(OFFSET(M9,-1,)=M9,"〃",M9) -> 〃 | E9: =IF(OFFSET(N9,-1,)=N9,"〃",N9) -> 〃 | F9: (削)横断歩道予告 図示（白） | G9: 4 | J9: 36 | K9: 北側(近)全削除_x000D_ 北側(遠)全削除_x000D_ 南側(近)全削除_x000D_ 南側(遠)全削除 | L9: 261280090_x000D_ (第20-7-1199) | M9: 県道 | N9: 福山市芦田町下有地1,095番地4先交差点 | O9: =ASC(K9) -> 北側(近)全削除_x000D_ 北側(遠)全削除_x000D_ 南側(近)全削除_x000D_ 南側(遠)全削除
A10: =IF(E9="","",IF(E10="〃",A9,A9+1)) -> 2 | B10: =IF(OFFSET(L10,-1,)=L10,"〃",L10) -> 〃 | C10: =IF(B10="〃","〃","新規") -> 〃 | D10: =IF(OFFSET(M10,-1,)=M10,"〃",M10) -> 〃 | E10: =IF(OFFSET(N10,-1,)=N10,"〃",N10) -> 〃 | F10: (削)停止線 実線（白） | G10: 2 | J10: 10 | K10: 南側全削除_x000D_ 北側全削除 | L10: 261280090_x000D_ (第20-7-1199) | M10: 県道 | N10: 福山市芦田町下有地1,095番地4先交差点 | O10: =ASC(K10) -> 南側全削除_x000D_ 北側全削除
A11: =IF(E10="","",IF(E11="〃",A10,A10+1)) -> 3 | B11: =IF(OFFSET(L11,-1,)=L11,"〃",L11) -> 261280090_x000D_ (第20-7-0671) | C11: =IF(B11="〃","〃","新規") -> 新規 | D11: =IF(OFFSET(M11,-1,)=M11,"〃",M11) -> 市道 | E11: =IF(OFFSET(N11,-1,)=N11,"〃",N11) -> 福山市駅家町法成寺149番地2先交差点 | F11: (削)横断歩道 実線（白） | G11: 1 | J11: 40 | K11: 西側全縞削除 | L11: 261280090_x000D_ (第20-7-0671) | M11: 市道 | N11: 福山市駅家町法成寺149番地2先交差点 | O11: =ASC(K11) -> 西側全縞削除
A12: =IF(E11="","",IF(E12="〃",A11,A11+1)) -> 3 | B12: =IF(OFFSET(L12,-1,)=L12,"〃",L12) -> 〃 | C12: =IF(B12="〃","〃","新規") -> 〃 | D12: =IF(OFFSET(M12,-1,)=M12,"〃",M12) -> 〃 | E12: =IF(OFFSET(N12,-1,)=N12,"〃",N12) -> 〃 | F12: (削)横断歩道予告 図示（白） | G12: 4 | J12: 20 | K12: 東側(遠)全削除_x000D_ 東側(近)全削除_x000D_ 西側(遠)全削除_x000D_ 西側(近)全削除 | L12: 261280090_x000D_ (第20-7-0671) | M12: 市道 | N12: 福山市駅家町法成寺149番地2先交差点 | O12: =ASC(K12) -> 東側(遠)全削除_x000D_ 東側(近)全削除_x000D_ 西側(遠)全削除_x000D_ 西側(近)全削除
A13: =IF(E12="","",IF(E13="〃",A12,A12+1)) -> 3 | B13: =IF(OFFSET(L13,-1,)=L13,"〃",L13) -> 〃 | C13: =IF(B13="〃","〃","新規") -> 〃 | D13: =IF(OFFSET(M13,-1,)=M13,"〃",M13) -> 〃 | E13: =IF(OFFSET(N13,-1,)=N13,"〃",N13) -> 〃 | F13: (削)停止線 実線（白） | G13: 2 | J13: 6 | K13: 西側全削除_x000D_ 東側全削除 | L13: 261280090_x000D_ (第20-7-0671) | M13: 市道 | N13: 福山市駅家町法成寺149番地2先交差点 | O13: =ASC(K13) -> 西側全削除_x000D_ 東側全削除
A14: =IF(E13="","",IF(E14="〃",A13,A13+1)) -> 4 | B14: =IF(OFFSET(L14,-1,)=L14,"〃",L14) -> 261280090 | C14: =IF(B14="〃","〃","新規") -> 新規 | D14: =IF(OFFSET(M14,-1,)=M14,"〃",M14) -> 県道 | E14: =IF(OFFSET(N14,-1,)=N14,"〃",N14) -> 福山市駅家町法成寺229番地2先交差点 | F14: (削)横断歩道 実線（白） | G14: 1 | J14: 35 | K14: 全縞削除 | L14: 261280090 | M14: 県道 | N14: 福山市駅家町法成寺229番地2先交差点 | O14: =ASC(K14) -> 全縞削除
A15: =IF(E14="","",IF(E15="〃",A14,A14+1)) -> 4 | B15: =IF(OFFSET(L15,-1,)=L15,"〃",L15) -> 〃 | C15: =IF(B15="〃","〃","新規") -> 〃 | D15: =IF(OFFSET(M15,-1,)=M15,"〃",M15) -> 〃 | E15: =IF(OFFSET(N15,-1,)=N15,"〃",N15) -> 〃 | F15: (削)横断歩道予告 図示（白） | G15: 1 | J15: 1 | K15: 南側(近)全削除 | L15: 261280090 | M15: 県道 | N15: 福山市駅家町法成寺229番地2先交差点 | O15: =ASC(K15) -> 南側(近)全削除
A16: =IF(E15="","",IF(E16="〃",A15,A15+1)) -> 4 | B16: =IF(OFFSET(L16,-1,)=L16,"〃",L16) -> 〃 | C16: =IF(B16="〃","〃","新規") -> 〃 | D16: =IF(OFFSET(M16,-1,)=M16,"〃",M16) -> 〃 | E16: =IF(OFFSET(N16,-1,)=N16,"〃",N16) -> 〃 | F16: (削)停止線 実線（白） | G16: 1 | J16: 6 | K16: 南側全削除 | L16: 261280090 | M16: 県道 | N16: 福山市駅家町法成寺229番地2先交差点 | O16: =ASC(K16) -> 南側全削除
A17: =IF(E16="","",IF(E17="〃",A16,A16+1)) -> 5 | B17: =IF(OFFSET(L17,-1,)=L17,"〃",L17) -> 〃 | C17: =IF(B17="〃","〃","新規") -> 〃 | D17: =IF(OFFSET(M17,-1,)=M17,"〃",M17) -> 市道 | E17: =IF(OFFSET(N17,-1,)=N17,"〃",N17) -> 福山市駅家町法成寺243番地1先交差点 | F17: (削)横断歩道 実線（白） | G17: 1 | J17: 72 | K17: 全縞削除 | L17: 261280090 | M17: 市道 | N17: 福山市駅家町法成寺243番地1先交差点 | O17: =ASC(K17) -> 全縞削除
A18: =IF(E17="","",IF(E18="〃",A17,A17+1)) -> 5 | B18: =IF(OFFSET(L18,-1,)=L18,"〃",L18) -> 〃 | C18: =IF(B18="〃","〃","新規") -> 〃 | D18: =IF(OFFSET(M18,-1,)=M18,"〃",M18) -> 〃 | E18: =IF(OFFSET(N18,-1,)=N18,"〃",N18) -> 〃 | F18: (削)横断歩道予告 図示（白） | G18: 4 | J18: 24 | K18: 北側(遠)全削除_x000D_ 北側(近)全削除_x000D_ 南側(遠)全削除_x000D_ 南側(近)全削除 | L18: 261280090 | M18: 市道 | N18: 福山市駅家町法成寺243番地1先交差点 | O18: =ASC(K18) -> 北側(遠)全削除_x000D_ 北側(近)全削除_x000D_ 南側(遠)全削除_x000D_ 南側(近)全削除
A19: =IF(E18="","",IF(E19="〃",A18,A18+1)) -> 5 | B19: =IF(OFFSET(L19,-1,)=L19,"〃",L19) -> 〃 | C19: =IF(B19="〃","〃","新規") -> 〃 | D19: =IF(OFFSET(M19,-1,)=M19,"〃",M19) -> 〃 | E19: =IF(OFFSET(N19,-1,)=N19,"〃",N19) -> 〃 | F19: (削)停止線 実線（白） | G19: 2 | J19: 15 | K19: 南側全削除_x000D_ 北側全削除 | L19: 261280090 | M19: 市道 | N19: 福山市駅家町法成寺243番地1先交差点 | O19: =ASC(K19) -> 南側全削除_x000D_ 北側全削除
A20: =IF(E19="","",IF(E20="〃",A19,A19+1)) -> 6 | B20: =IF(OFFSET(L20,-1,)=L20,"〃",L20) -> 〃 | C20: =IF(B20="〃","〃","新規") -> 〃 | D20: =IF(OFFSET(M20,-1,)=M20,"〃",M20) -> 〃 | E20: =IF(OFFSET(N20,-1,)=N20,"〃",N20) -> 福山市駅家町法成寺549番地2先交差点 | F20: (削)横断歩道 実線（白） | G20: 1 | J20: 4 | K20: 全縞削除 | L20: 261280090 | M20: 市道 | N20: 福山市駅家町法成寺549番地2先交差点 | O20: =ASC(K20) -> 全縞削除
A21: =IF(E20="","",IF(E21="〃",A20,A20+1)) -> 6 | B21: =IF(OFFSET(L21,-1,)=L21,"〃",L21) -> 〃 | C21: =IF(B21="〃","〃","新規") -> 〃 | D21: =IF(OFFSET(M21,-1,)=M21,"〃",M21) -> 〃 | E21: =IF(OFFSET(N21,-1,)=N21,"〃",N21) -> 〃 | F21: (削)横断歩道予告 図示（白） | G21: 1 | J21: 6 | K21: 北側(遠)全削除 | L21: 261280090 | M21: 市道 | N21: 福山市駅家町法成寺549番地2先交差点 | O21: =ASC(K21) -> 北側(遠)全削除
A22: =IF(E21="","",IF(E22="〃",A21,A21+1)) -> 6 | B22: =IF(OFFSET(L22,-1,)=L22,"〃",L22) -> 〃 | C22: =IF(B22="〃","〃","新規") -> 〃 | D22: =IF(OFFSET(M22,-1,)=M22,"〃",M22) -> 〃 | E22: =IF(OFFSET(N22,-1,)=N22,"〃",N22) -> 〃 | F22: (削)停止線 実線（白） | G22: 2 | J22: 4 | K22: 南側全削除_x000D_ 北側全削除 | L22: 261280090 | M22: 市道 | N22: 福山市駅家町法成寺549番地2先交差点 | O22: =ASC(K22) -> 南側全削除_x000D_ 北側全削除
A23: =IF(E22="","",IF(E23="〃",A22,A22+1)) -> 7 | B23: =IF(OFFSET(L23,-1,)=L23,"〃",L23) -> 261280090_x000D_ (第20-7-0715) | C23: =IF(B23="〃","〃","新規") -> 新規 | D23: =IF(OFFSET(M23,-1,)=M23,"〃",M23) -> 〃 | E23: =IF(OFFSET(N23,-1,)=N23,"〃",N23) -> 福山市駅家町法成寺81番地6先交差点 | F23: 停止線 実線（白） | G23: 1 | H23: 1.8 | K23: 南側1.8m既存削除後北寄に移設(施工位置署担当者に確認) | L23: 261280090_x000D_ (第20-7-0715) | M23: 市道 | N23: 福山市駅家町法成寺81番地6先交差点 | O23: =ASC(K23) -> 南側1.8m既存削除後北寄に移設(施工位置署担当者に確認)
A24: =IF(E23="","",IF(E24="〃",A23,A23+1)) -> 7 | B24: =IF(OFFSET(L24,-1,)=L24,"〃",L24) -> 〃 | C24: =IF(B24="〃","〃","新規") -> 〃 | D24: =IF(OFFSET(M24,-1,)=M24,"〃",M24) -> 〃 | E24: =IF(OFFSET(N24,-1,)=N24,"〃",N24) -> 〃 | F24: (削)横断歩道 実線（白） | G24: 1 | J24: 36 | K24: 南側全削除 | L24: 261280090_x000D_ (第20-7-0715) | M24: 市道 | N24: 福山市駅家町法成寺81番地6先交差点 | O24: =ASC(K24) -> 南側全削除
A25: =IF(E24="","",IF(E25="〃",A24,A24+1)) -> 7 | B25: =IF(OFFSET(L25,-1,)=L25,"〃",L25) -> 〃 | C25: =IF(B25="〃","〃","新規") -> 〃 | D25: =IF(OFFSET(M25,-1,)=M25,"〃",M25) -> 〃 | E25: =IF(OFFSET(N25,-1,)=N25,"〃",N25) -> 〃 | F25: (削)停止線 実線（白） | G25: 1 | J25: 5.4 | K25: 南側全削除 | L25: 261280090_x000D_ (第20-7-0715) | M25: 市道 | N25: 福山市駅家町法成寺81番地6先交差点 | O25: =ASC(K25) -> 南側全削除
A26: =IF(E25="","",IF(E26="〃",A25,A25+1)) -> 8 | B26: =IF(OFFSET(L26,-1,)=L26,"〃",L26) -> 261280099_x000D_ (第20-7-0753) | C26: =IF(B26="〃","〃","新規") -> 新規 | D26: =IF(OFFSET(M26,-1,)=M26,"〃",M26) -> 県道 | E26: =IF(OFFSET(N26,-1,)=N26,"〃",N26) -> 福山市駅家町万能倉1,310番地1先交差点 | F26: 停止線 実線（白） | G26: 1 | H26: 3 | K26: 東側既存削除後西方に移設(移設場所署担当者に確認) | L26: 261280099_x000D_ (第20-7-0753) | M26: 県道 | N26: 福山市駅家町万能倉1,310番地1先交差点 | O26: =ASC(K26) -> 東側既存削除後西方に移設(移設場所署担当者に確認)
A27: =IF(E26="","",IF(E27="〃",A26,A26+1)) -> 8 | B27: =IF(OFFSET(L27,-1,)=L27,"〃",L27) -> 〃 | C27: =IF(B27="〃","〃","新規") -> 〃 | D27: =IF(OFFSET(M27,-1,)=M27,"〃",M27) -> 〃 | E27: =IF(OFFSET(N27,-1,)=N27,"〃",N27) -> 〃 | F27: (削)横断歩道 実線（白） | G27: 1 | J27: 5 | K27: 全縞削除 | L27: 261280099_x000D_ (第20-7-0753) | M27: 県道 | N27: 福山市駅家町万能倉1,310番地1先交差点 | O27: =ASC(K27) -> 全縞削除
A28: =IF(E27="","",IF(E28="〃",A27,A27+1)) -> 8 | B28: =IF(OFFSET(L28,-1,)=L28,"〃",L28) -> 〃 | C28: =IF(B28="〃","〃","新規") -> 〃 | D28: =IF(OFFSET(M28,-1,)=M28,"〃",M28) -> 〃 | E28: =IF(OFFSET(N28,-1,)=N28,"〃",N28) -> 〃 | F28: (削)停止線 実線（白） | G28: 1 | J28: 3 | K28: 東側全削除 | L28: 261280099_x000D_ (第20-7-0753) | M28: 県道 | N28: 福山市駅家町万能倉1,310番地1先交差点 | O28: =ASC(K28) -> 東側全削除
A29: =IF(E28="","",IF(E29="〃",A28,A28+1)) -> 8 | B29: =IF(OFFSET(L29,-1,)=L29,"〃",L29) -> 261280099 | C29: =IF(B29="〃","〃","新規") -> 新規 | D29: =IF(OFFSET(M29,-1,)=M29,"〃",M29) -> 市道 | E29: =IF(OFFSET(N29,-1,)=N29,"〃",N29) -> 〃 | F29: その他 線 | G29: 1 | I29: 4 | K29: 中央線(白)4m延長 | L29: 261280099 | M29: 市道 | N29: 福山市駅家町万能倉1,310番地1先交差点 | O29: =ASC(K29) -> 中央線(白)4m延長
A30: =IF(E29="","",IF(E30="〃",A29,A29+1)) -> 9 | B30: =IF(OFFSET(L30,-1,)=L30,"〃",L30) -> 261280090 | C30: =IF(B30="〃","〃","新規") -> 新規 | D30: =IF(OFFSET(M30,-1,)=M30,"〃",M30) -> 〃 | E30: =IF(OFFSET(N30,-1,)=N30,"〃",N30) -> 福山市駅家町万能倉1,436番地7先交差点 | F30: その他 線 | G30: 1 | I30: 3 | K30: 中央線(黄)延長 | L30: 261280090 | M30: 市道 | N30: 福山市駅家町万能倉1,436番地7先交差点 | O30: =ASC(K30) -> 中央線(黄)延長
A31: =IF(E30="","",IF(E31="〃",A30,A30+1)) -> 9 | B31: =IF(OFFSET(L31,-1,)=L31,"〃",L31) -> 〃 | C31: =IF(B31="〃","〃","新規") -> 〃 | D31: =IF(OFFSET(M31,-1,)=M31,"〃",M31) -> 〃 | E31: =IF(OFFSET(N31,-1,)=N31,"〃",N31) -> 〃 | F31: (削)横断歩道 実線（白） | G31: 1 | J31: 54 | K31: 全縞削除 | L31: 261280090 | M31: 市道 | N31: 福山市駅家町万能倉1,436番地7先交差点 | O31: =ASC(K31) -> 全縞削除
A32: =IF(E31="","",IF(E32="〃",A31,A31+1)) -> 9 | B32: =IF(OFFSET(L32,-1,)=L32,"〃",L32) -> 〃 | C32: =IF(B32="〃","〃","新規") -> 〃 | D32: =IF(OFFSET(M32,-1,)=M32,"〃",M32) -> 〃 | E32: =IF(OFFSET(N32,-1,)=N32,"〃",N32) -> 〃 | F32: (削)横断歩道予告 図示（白） | G32: 3 | J32: 19 | K32: 東側(近)全削除_x000D_ 東側(遠)全削除_x000D_ 西側(近)全削除 | L32: 261280090 | M32: 市道 | N32: 福山市駅家町万能倉1,436番地7先交差点 | O32: =ASC(K32) -> 東側(近)全削除_x000D_ 東側(遠)全削除_x000D_ 西側(近)全削除
A33: =IF(E32="","",IF(E33="〃",A32,A32+1)) -> 9 | B33: =IF(OFFSET(L33,-1,)=L33,"〃",L33) -> 〃 | C33: =IF(B33="〃","〃","新規") -> 〃 | D33: =IF(OFFSET(M33,-1,)=M33,"〃",M33) -> 〃 | E33: =IF(OFFSET(N33,-1,)=N33,"〃",N33) -> 〃 | F33: (削)停止線 実線（白） | G33: 2 | J33: 15.9 | K33: 東側全削除_x000D_ 西側全削除 | L33: 261280090 | M33: 市道 | N33: 福山市駅家町万能倉1,436番地7先交差点 | O33: =ASC(K33) -> 東側全削除_x000D_ 西側全削除
A34: =IF(E33="","",IF(E34="〃",A33,A33+1)) -> 10 | B34: =IF(OFFSET(L34,-1,)=L34,"〃",L34) -> 〃 | C34: =IF(B34="〃","〃","新規") -> 〃 | D34: =IF(OFFSET(M34,-1,)=M34,"〃",M34) -> 〃 | E34: =IF(OFFSET(N34,-1,)=N34,"〃",N34) -> 福山市駅家町万能倉1番地1先交差点 | F34: (削)横断歩道 実線（白） | G34: 1 | J34: 54 | K34: 全縞削除 | L34: 261280090 | M34: 市道 | N34: 福山市駅家町万能倉1番地1先交差点 | O34: =ASC(K34) -> 全縞削除
A35: =IF(E34="","",IF(E35="〃",A34,A34+1)) -> 10 | B35: =IF(OFFSET(L35,-1,)=L35,"〃",L35) -> 〃 | C35: =IF(B35="〃","〃","新規") -> 〃 | D35: =IF(OFFSET(M35,-1,)=M35,"〃",M35) -> 〃 | E35: =IF(OFFSET(N35,-1,)=N35,"〃",N35) -> 〃 | F35: (削)横断歩道予告 図示（白） | G35: 4 | J35: 26 | K35: 西側(遠)全削除_x000D_ 西側(近)全削除_x000D_ 東側(遠)全削除_x000D_ 東側(近)全削除 | L35: 261280090 | M35: 市道 | N35: 福山市駅家町万能倉1番地1先交差点 | O35: =ASC(K35) -> 西側(遠)全削除_x000D_ 西側(近)全削除_x000D_ 東側(遠)全削除_x000D_ 東側(近)全削除
A36: =IF(E35="","",IF(E36="〃",A35,A35+1)) -> 10 | B36: =IF(OFFSET(L36,-1,)=L36,"〃",L36) -> 〃 | C36: =IF(B36="〃","〃","新規") -> 〃 | D36: =IF(OFFSET(M36,-1,)=M36,"〃",M36) -> 〃 | E36: =IF(OFFSET(N36,-1,)=N36,"〃",N36) -> 〃 | F36: (削)停止線 実線（白） | G36: 2 | J36: 14.5 | K36: 西側全削除_x000D_ 東側全削除 | L36: 261280090 | M36: 市道 | N36: 福山市駅家町万能倉1番地1先交差点 | O36: =ASC(K36) -> 西側全削除_x000D_ 東側全削除
A37: =IF(E36="","",IF(E37="〃",A36,A36+1)) -> 11 | B37: =IF(OFFSET(L37,-1,)=L37,"〃",L37) -> 261280099_x000D_ (第20-7-0412) | C37: =IF(B37="〃","〃","新規") -> 新規 | D37: =IF(OFFSET(M37,-1,)=M37,"〃",M37) -> 県道 | E37: =IF(OFFSET(N37,-1,)=N37,"〃",N37) -> 福山市加茂町粟根16番地3先交差点 | F37: 停止線 実線（白） | G37: 1 | H37: 3 | K37: 北側既存削除後南方に移設(施工場所署担当者に確認) | L37: 261280099_x000D_ (第20-7-0412) | M37: 県道 | N37: 福山市加茂町粟根16番地3先交差点 | O37: =ASC(K37) -> 北側既存削除後南方に移設(施工場所署担当者に確認)
A38: =IF(E37="","",IF(E38="〃",A37,A37+1)) -> 11 | B38: =IF(OFFSET(L38,-1,)=L38,"〃",L38) -> 〃 | C38: =IF(B38="〃","〃","新規") -> 〃 | D38: =IF(OFFSET(M38,-1,)=M38,"〃",M38) -> 〃 | E38: =IF(OFFSET(N38,-1,)=N38,"〃",N38) -> 〃 | F38: (削)横断歩道 実線（白） | G38: 1 | J38: 50 | K38: 北側全縞削除 | L38: 261280099_x000D_ (第20-7-0412) | M38: 県道 | N38: 福山市加茂町粟根16番地3先交差点 | O38: =ASC(K38) -> 北側全縞削除
A39: =IF(E38="","",IF(E39="〃",A38,A38+1)) -> 11 | B39: =IF(OFFSET(L39,-1,)=L39,"〃",L39) -> 〃 | C39: =IF(B39="〃","〃","新規") -> 〃 | D39: =IF(OFFSET(M39,-1,)=M39,"〃",M39) -> 〃 | E39: =IF(OFFSET(N39,-1,)=N39,"〃",N39) -> 〃 | F39: (削)停止線 実線（白） | G39: 1 | J39: 9 | K39: 北側全削除 | L39: 261280099_x000D_ (第20-7-0412) | M39: 県道 | N39: 福山市加茂町粟根16番地3先交差点 | O39: =ASC(K39) -> 北側全削除
A40: =IF(E39="","",IF(E40="〃",A39,A39+1)) -> 11 | B40: =IF(OFFSET(L40,-1,)=L40,"〃",L40) -> 261280099 | C40: =IF(B40="〃","〃","新規") -> 新規 | D40: =IF(OFFSET(M40,-1,)=M40,"〃",M40) -> 県道(加茂油木線) | E40: =IF(OFFSET(N40,-1,)=N40,"〃",N40) -> 〃 | F40: その他 線 | G40: 1 | I40: 10 | K40: 中央線(黄)10m延長 | L40: 261280099 | M40: 県道(加茂油木線) | N40: 福山市加茂町粟根16番地3先交差点 | O40: =ASC(K40) -> 中央線(黄)10m延長
A41: =IF(E40="","",IF(E41="〃",A40,A40+1)) -> 12 | B41: =IF(OFFSET(L41,-1,)=L41,"〃",L41) -> 261280090 | C41: =IF(B41="〃","〃","新規") -> 新規 | D41: =IF(OFFSET(M41,-1,)=M41,"〃",M41) -> 市道 | E41: =IF(OFFSET(N41,-1,)=N41,"〃",N41) -> 福山市加茂町下加茂17番地先交差点 | F41: (削)横断歩道 実線（白） | G41: 1 | J41: 7 | K41: 全縞削除 | L41: 261280090 | M41: 市道 | N41: 福山市加茂町下加茂17番地先交差点 | O41: =ASC(K41) -> 全縞削除
A42: =IF(E41="","",IF(E42="〃",A41,A41+1)) -> 12 | B42: =IF(OFFSET(L42,-1,)=L42,"〃",L42) -> 〃 | C42: =IF(B42="〃","〃","新規") -> 〃 | D42: =IF(OFFSET(M42,-1,)=M42,"〃",M42) -> 〃 | E42: =IF(OFFSET(N42,-1,)=N42,"〃",N42) -> 〃 | F42: (削)横断歩道予告 図示（白） | G42: 4 | J42: 24 | K42: 南側(近)全削除_x000D_ 南側(遠)全削除_x000D_ 北側(近)全削除_x000D_ 北側(遠)全削除 | L42: 261280090 | M42: 市道 | N42: 福山市加茂町下加茂17番地先交差点 | O42: =ASC(K42) -> 南側(近)全削除_x000D_ 南側(遠)全削除_x000D_ 北側(近)全削除_x000D_ 北側(遠)全削除
A43: =IF(E42="","",IF(E43="〃",A42,A42+1)) -> 12 | B43: =IF(OFFSET(L43,-1,)=L43,"〃",L43) -> 〃 | C43: =IF(B43="〃","〃","新規") -> 〃 | D43: =IF(OFFSET(M43,-1,)=M43,"〃",M43) -> 〃 | E43: =IF(OFFSET(N43,-1,)=N43,"〃",N43) -> 〃 | F43: (削)停止線 実線（白） | G43: 2 | J43: 5 | K43: 南側全削除_x000D_ 北側全削除 | L43: 261280090 | M43: 市道 | N43: 福山市加茂町下加茂17番地先交差点 | O43: =ASC(K43) -> 南側全削除_x000D_ 北側全削除
A44: =IF(E43="","",IF(E44="〃",A43,A43+1)) -> 13 | B44: =IF(OFFSET(L44,-1,)=L44,"〃",L44) -> 261280099_x000D_ (第20-7-1224) | C44: =IF(B44="〃","〃","新規") -> 新規 | D44: =IF(OFFSET(M44,-1,)=M44,"〃",M44) -> 県道 | E44: =IF(OFFSET(N44,-1,)=N44,"〃",N44) -> 福山市加茂町中野2丁目1番地先交差点 | F44: 停止線 実線（白） | G44: 1 | H44: 3 | K44: 北側3.0m | L44: 261280099_x000D_ (第20-7-1224) | M44: 県道 | N44: 福山市加茂町中野2丁目1番地先交差点 | O44: =ASC(K44) -> 北側3.0m
A45: =IF(E44="","",IF(E45="〃",A44,A44+1)) -> 13 | B45: =IF(OFFSET(L45,-1,)=L45,"〃",L45) -> 〃 | C45: =IF(B45="〃","〃","新規") -> 〃 | D45: =IF(OFFSET(M45,-1,)=M45,"〃",M45) -> 〃 | E45: =IF(OFFSET(N45,-1,)=N45,"〃",N45) -> 〃 | F45: (削)横断歩道 実線（白） | G45: 1 | J45: 72 | K45: 北側全縞削除 | L45: 261280099_x000D_ (第20-7-1224) | M45: 県道 | N45: 福山市加茂町中野2丁目1番地先交差点 | O45: =ASC(K45) -> 北側全縞削除
A46: =IF(E45="","",IF(E46="〃",A45,A45+1)) -> 13 | B46: =IF(OFFSET(L46,-1,)=L46,"〃",L46) -> 261280099 | C46: =IF(B46="〃","〃","新規") -> 新規 | D46: =IF(OFFSET(M46,-1,)=M46,"〃",M46) -> 県道(加茂油木線) | E46: =IF(OFFSET(N46,-1,)=N46,"〃",N46) -> 〃 | F46: その他 線 | G46: 1 | I46: 11 | K46: 中央線(白)11m延長 | L46: 261280099 | M46: 県道(加茂油木線) | N46: 福山市加茂町中野2丁目1番地先交差点 | O46: =ASC(K46) -> 中央線(白)11m延長
A47: =IF(E46="","",IF(E47="〃",A46,A46+1)) -> 14 | B47: =IF(OFFSET(L47,-1,)=L47,"〃",L47) -> 261280099_x000D_ (第20-7-2018) | C47: =IF(B47="〃","〃","新規") -> 新規 | D47: =IF(OFFSET(M47,-1,)=M47,"〃",M47) -> 市道 | E47: =IF(OFFSET(N47,-1,)=N47,"〃",N47) -> 福山市神辺町字湯野254番地2先交差点 | F47: (削)横断歩道 実線（白） | G47: 1 | J47: 4 | K47: 全縞削除 | L47: 261280099_x000D_ (第20-7-2018) | M47: 市道 | N47: 福山市神辺町字湯野254番地2先交差点 | O47: =ASC(K47) -> 全縞削除
A48: =IF(E47="","",IF(E48="〃",A47,A47+1)) -> 14 | B48: =IF(OFFSET(L48,-1,)=L48,"〃",L48) -> 〃 | C48: =IF(B48="〃","〃","新規") -> 〃 | D48: =IF(OFFSET(M48,-1,)=M48,"〃",M48) -> 〃 | E48: =IF(OFFSET(N48,-1,)=N48,"〃",N48) -> 〃 | F48: (削)横断歩道予告 図示（白） | G48: 1 | J48: 2 | K48: 東側(遠)全削除 | L48: 261280099_x000D_ (第20-7-2018) | M48: 市道 | N48: 福山市神辺町字湯野254番地2先交差点 | O48: =ASC(K48) -> 東側(遠)全削除
A49: =IF(E48="","",IF(E49="〃",A48,A48+1)) -> 14 | B49: =IF(OFFSET(L49,-1,)=L49,"〃",L49) -> 〃 | C49: =IF(B49="〃","〃","新規") -> 〃 | D49: =IF(OFFSET(M49,-1,)=M49,"〃",M49) -> 〃 | E49: =IF(OFFSET(N49,-1,)=N49,"〃",N49) -> 〃 | F49: (削)停止線 実線（白） | G49: 1 | J49: 2 | K49: 全削除 | L49: 261280099_x000D_ (第20-7-2018) | M49: 市道 | N49: 福山市神辺町字湯野254番地2先交差点 | O49: =ASC(K49) -> 全削除
B50: =警察署名 -> 福山北 | E50: 新規合計 | F50: 14 | H50: =IF(ISERROR(FIND("図示", H3)), IF(ISERROR(FIND("削除", H3)), SUMPRODUCT((ISNUMBER(FIND("横断歩道 実線",$F5:$F49)))*(H5:H49<>""), $G5:$G49), 0), SUMIF(H5:H49,">0",$G5:$G49)) -> 0 | I50: =IF(ISERROR(FIND("図示", I3)), IF(ISERROR(FIND("削除", I3)), SUMPRODUCT((ISNUMBER(FIND("横断歩道 実線",$F5:$F49)))*(I5:I49<>""), $G5:$G49), 0), SUMIF(I5:I49,">0",$G5:$G49)) -> 0 | J50: =IF(ISERROR(FIND("図示", J3)), IF(ISERROR(FIND("削除", J3)), SUMPRODUCT((ISNUMBER(FIND("横断歩道 実線",$F5:$F49)))*(J5:J49<>""), $G5:$G49), 0), SUMIF(J5:J49,">0",$G5:$G49)) -> 0
H51: =SUM(H5:H49) -> 10.8 | I51: =SUM(I5:I49) -> 28 | J51: =SUM(J5:J49) -> 775.8

Sheet 場所表_福山北_更新
B1: 更新 | C1: ="("&表紙等_署用!H1&")" -> (№ 8-32) | L1: 福山北 | M1: 文字の折り返しで行高さがおかしくならないように、最終的な出力セルより幅を大きくしてあります。
B2: 規制番号 | C2: 道路種別 | D2: 場所・区間 | E2: 標示種別 | G2: 事業量 | M2: 規制番号 | N2: 道路種別 | O2: 場所・区間
E3: 横断歩道本数 記号文字個数 | F3: 数 | G3: 横断歩道等 実線４５㎝幅 | H3: 実線３０㎝幅 | I3: 実線１５㎝幅 | J3: 図示 | K3: 削除 | L3: 備考(縞数、方向等)
G4: m | H4: m | I4: m | J4: m | K4: m
A5: 1 | B5: =M5 -> 第12-7-0785 | C5: =N5 -> 市道 | D5: =O5 -> 福山市芦田町下有地1,036番地1先交差点 | E5: 止まれ文字 図示（白） | F5: 1 | J5: 13 | L5: 縮小施工 | M5: 第12-7-0785 | N5: 市道 | O5: 福山市芦田町下有地1,036番地1先交差点 | P5: =ASC(L5) -> 縮小施工
A6: =IF(D5="","",IF(D6="〃",A5,A5+1)) -> 1 | B6: =IF(OFFSET(M6,-1,)=M6,"〃",M6) -> 〃 | C6: =IF(OFFSET(N6,-1,)=N6,"〃",N6) -> 〃 | D6: =IF(OFFSET(O6,-1,)=O6,"〃",O6) -> 〃 | E6: 停止線 実線（白） | F6: 1 | H6: 7 | L6: 7.0m | M6: 第12-7-0785 | N6: 市道 | O6: 福山市芦田町下有地1,036番地1先交差点 | P6: =ASC(L6) -> 7.0m
A7: =IF(D6="","",IF(D7="〃",A6,A6+1)) -> 2 | B7: =IF(OFFSET(M7,-1,)=M7,"〃",M7) -> 第20-7-0356 | C7: =IF(OFFSET(N7,-1,)=N7,"〃",N7) -> 県道 | D7: =IF(OFFSET(O7,-1,)=O7,"〃",O7) -> 福山市芦田町下有地1,076番地2先（芦田中学校入口交差点） | E7: 横断歩道 実線（白） | F7: 1 | G7: 18 | L7: 3m6縞(各縞両側0.5mずつ削除し3m幅にする) | M7: 第20-7-0356 | N7: 県道 | O7: 福山市芦田町下有地1,076番地2先（芦田中学校入口交差点） | P7: =ASC(L7) -> 3m6縞(各縞両側0.5mずつ削除し3m幅にする)
A8: =IF(D7="","",IF(D8="〃",A7,A7+1)) -> 2 | B8: =IF(OFFSET(M8,-1,)=M8,"〃",M8) -> 〃 | C8: =IF(OFFSET(N8,-1,)=N8,"〃",N8) -> 〃 | D8: =IF(OFFSET(O8,-1,)=O8,"〃",O8) -> 〃 | E8: 停止線 実線（白） | F8: 2 | G8: 6 | L8: 北東側3m_x000D_ 南西側3m | M8: 第20-7-0356 | N8: 県道 | O8: 福山市芦田町下有地1,076番地2先（芦田中学校入口交差点） | P8: =ASC(L8) -> 北東側3m_x000D_ 南西側3m
A9: =IF(D8="","",IF(D9="〃",A8,A8+1)) -> 2 | B9: =IF(OFFSET(M9,-1,)=M9,"〃",M9) -> 〃 | C9: =IF(OFFSET(N9,-1,)=N9,"〃",N9) -> 〃 | D9: =IF(OFFSET(O9,-1,)=O9,"〃",O9) -> 〃 | E9: (削)横断歩道 実線（白） | F9: 1 | K9: 10 | L9: 各縞両側0.5mずつ削除 | M9: 第20-7-0356 | N9: 県道 | O9: 福山市芦田町下有地1,076番地2先（芦田中学校入口交差点） | P9: =ASC(L9) -> 各縞両側0.5mずつ削除
A10: =IF(D9="","",IF(D10="〃",A9,A9+1)) -> 3 | B10: =IF(OFFSET(M10,-1,)=M10,"〃",M10) -> 第20-7-0674 | C10: =IF(OFFSET(N10,-1,)=N10,"〃",N10) -> 〃 | D10: =IF(OFFSET(O10,-1,)=O10,"〃",O10) -> 福山市芦田町下有地1,099番地13先交差点 | E10: 横断歩道 実線（白） | F10: 1 | G10: 18 | L10: 3m6縞(各縞南側1m削除し3m幅にする) | M10: 第20-7-0674 | N10: 県道 | O10: 福山市芦田町下有地1,099番地13先交差点 | P10: =ASC(L10) -> 3m6縞(各縞南側1m削除し3m幅にする)
A11: =IF(D10="","",IF(D11="〃",A10,A10+1)) -> 3 | B11: =IF(OFFSET(M11,-1,)=M11,"〃",M11) -> 〃 | C11: =IF(OFFSET(N11,-1,)=N11,"〃",N11) -> 〃 | D11: =IF(OFFSET(O11,-1,)=O11,"〃",O11) -> 〃 | E11: 横断歩道予告 図示（白） | F11: 2 | J11: 18 | L11: 南側(遠)_x000D_ 南側(近) | M11: 第20-7-0674 | N11: 県道 | O11: 福山市芦田町下有地1,099番地13先交差点 | P11: =ASC(L11) -> 南側(遠)_x000D_ 南側(近)
A12: =IF(D11="","",IF(D12="〃",A11,A11+1)) -> 3 | B12: =IF(OFFSET(M12,-1,)=M12,"〃",M12) -> 〃 | C12: =IF(OFFSET(N12,-1,)=N12,"〃",N12) -> 〃 | D12: =IF(OFFSET(O12,-1,)=O12,"〃",O12) -> 〃 | E12: 停止線 実線（白） | F12: 2 | G12: 5.2 | L12: 南側2.4m_x000D_ 北側2.8m | M12: 第20-7-0674 | N12: 県道 | O12: 福山市芦田町下有地1,099番地13先交差点 | P12: =ASC(L12) -> 南側2.4m_x000D_ 北側2.8m
A13: =IF(D12="","",IF(D13="〃",A12,A12+1)) -> 3 | B13: =IF(OFFSET(M13,-1,)=M13,"〃",M13) -> 〃 | C13: =IF(OFFSET(N13,-1,)=N13,"〃",N13) -> 〃 | D13: =IF(OFFSET(O13,-1,)=O13,"〃",O13) -> 〃 | E13: (削)横断歩道 実線（白） | F13: 1 | K13: 5 | L13: 各縞南側1mずつ削除 | M13: 第20-7-0674 | N13: 県道 | O13: 福山市芦田町下有地1,099番地13先交差点 | P13: =ASC(L13) -> 各縞南側1mずつ削除
A14: =IF(D13="","",IF(D14="〃",A13,A13+1)) -> 4 | B14: =IF(OFFSET(M14,-1,)=M14,"〃",M14) -> 第12-7-0783 | C14: =IF(OFFSET(N14,-1,)=N14,"〃",N14) -> 市道 | D14: =IF(OFFSET(O14,-1,)=O14,"〃",O14) -> 福山市芦田町福田170番地3先交差点 | E14: 止まれ文字 図示（白） | F14: 1 | J14: 13 | L14: 縮小施工 | M14: 第12-7-0783 | N14: 市道 | O14: 福山市芦田町福田170番地3先交差点 | P14: =ASC(L14) -> 縮小施工
A15: =IF(D14="","",IF(D15="〃",A14,A14+1)) -> 4 | B15: =IF(OFFSET(M15,-1,)=M15,"〃",M15) -> 〃 | C15: =IF(OFFSET(N15,-1,)=N15,"〃",N15) -> 〃 | D15: =IF(OFFSET(O15,-1,)=O15,"〃",O15) -> 〃 | E15: (削)止まれ文字 図示（白） | F15: 1 | K15: 10 | M15: 第12-7-0783 | N15: 市道 | O15: 福山市芦田町福田170番地3先交差点 | P15: =ASC(L15)
A16: =IF(D15="","",IF(D16="〃",A15,A15+1)) -> 5 | B16: =IF(OFFSET(M16,-1,)=M16,"〃",M16) -> 第12-7-0791 | C16: =IF(OFFSET(N16,-1,)=N16,"〃",N16) -> 〃 | D16: =IF(OFFSET(O16,-1,)=O16,"〃",O16) -> 福山市駅家町近田620番地4先交差点 | E16: 止まれ文字 図示（白） | F16: 2 | J16: 26 | L16: 西側縮小施工_x000D_ 東側縮小施工 | M16: 第12-7-0791 | N16: 市道 | O16: 福山市駅家町近田620番地4先交差点 | P16: =ASC(L16) -> 西側縮小施工_x000D_ 東側縮小施工
A17: =IF(D16="","",IF(D17="〃",A16,A16+1)) -> 5 | B17: =IF(OFFSET(M17,-1,)=M17,"〃",M17) -> 〃 | C17: =IF(OFFSET(N17,-1,)=N17,"〃",N17) -> 〃 | D17: =IF(OFFSET(O17,-1,)=O17,"〃",O17) -> 〃 | E17: 停止線 実線（白） | F17: 1 | H17: 1.5 | L17: 西側1.5m | M17: 第12-7-0791 | N17: 市道 | O17: 福山市駅家町近田620番地4先交差点 | P17: =ASC(L17) -> 西側1.5m
A18: =IF(D17="","",IF(D18="〃",A17,A17+1)) -> 6 | B18: =IF(OFFSET(M18,-1,)=M18,"〃",M18) -> 第20-7-1624 | C18: =IF(OFFSET(N18,-1,)=N18,"〃",N18) -> 県道 | D18: =IF(OFFSET(O18,-1,)=O18,"〃",O18) -> 福山市駅家町今岡470番地1先交差点 | E18: 横断歩道 実線（白） | F18: 1 | G18: 36 | L18: 3m12縞(各縞両側0.5mずつ削除し3m幅にする) | M18: 第20-7-1624 | N18: 県道 | O18: 福山市駅家町今岡470番地1先交差点 | P18: =ASC(L18) -> 3m12縞(各縞両側0.5mずつ削除し3m幅にする)
A19: =IF(D18="","",IF(D19="〃",A18,A18+1)) -> 6 | B19: =IF(OFFSET(M19,-1,)=M19,"〃",M19) -> 〃 | C19: =IF(OFFSET(N19,-1,)=N19,"〃",N19) -> 〃 | D19: =IF(OFFSET(O19,-1,)=O19,"〃",O19) -> 〃 | E19: (削)横断歩道 実線（白） | F19: 1 | K19: 20 | L19: 各縞両側0.5mずつ削除 | M19: 第20-7-1624 | N19: 県道 | O19: 福山市駅家町今岡470番地1先交差点 | P19: =ASC(L19) -> 各縞両側0.5mずつ削除
A20: =IF(D19="","",IF(D20="〃",A19,A19+1)) -> 7 | B20: =IF(OFFSET(M20,-1,)=M20,"〃",M20) -> 第20-7-1272 | C20: =IF(OFFSET(N20,-1,)=N20,"〃",N20) -> 国道486号 | D20: =IF(OFFSET(O20,-1,)=O20,"〃",O20) -> 福山市駅家町万能倉345番地1南西方50メートル先（万能倉橋交差点） | E20: 横断歩道 実線（白） | F20: 1 | G20: 12 | L20: 南側2.4m5縞 | M20: 第20-7-1272 | N20: 国道486号 | O20: 福山市駅家町万能倉345番地1南西方50メートル先（万能倉橋交差点） | P20: =ASC(L20) -> 南側2.4m5縞
A21: =IF(D20="","",IF(D21="〃",A20,A20+1)) -> 7 | B21: =IF(OFFSET(M21,-1,)=M21,"〃",M21) -> 〃 | C21: =IF(OFFSET(N21,-1,)=N21,"〃",N21) -> 〃 | D21: =IF(OFFSET(O21,-1,)=O21,"〃",O21) -> 〃 | E21: 停止線 実線（白） | F21: 1 | G21: 2.6 | L21: 南側2.6m | M21: 第20-7-1272 | N21: 国道486号 | O21: 福山市駅家町万能倉345番地1南西方50メートル先（万能倉橋交差点） | P21: =ASC(L21) -> 南側2.6m
A22: =IF(D21="","",IF(D22="〃",A21,A21+1)) -> 8 | B22: =IF(OFFSET(M22,-1,)=M22,"〃",M22) -> 第12-7-2605 | C22: =IF(OFFSET(N22,-1,)=N22,"〃",N22) -> 市道 | D22: =IF(OFFSET(O22,-1,)=O22,"〃",O22) -> 福山市加茂町下加茂181番地2先交差点 | E22: 止まれ文字 図示（白） | F22: 2 | J22: 27 | L22: 北側縮小施工_x000D_ 南側「止」と「ま」のみ | M22: 第12-7-2605 | N22: 市道 | O22: 福山市加茂町下加茂181番地2先交差点 | P22: =ASC(L22) -> 北側縮小施工_x000D_ 南側｢止｣と｢ま｣のみ
A23: =IF(D22="","",IF(D23="〃",A22,A22+1)) -> 8 | B23: =IF(OFFSET(M23,-1,)=M23,"〃",M23) -> 〃 | C23: =IF(OFFSET(N23,-1,)=N23,"〃",N23) -> 〃 | D23: =IF(OFFSET(O23,-1,)=O23,"〃",O23) -> 〃 | E23: 停止線 実線（白） | F23: 2 | H23: 6 | L23: 北側3.0m_x000D_ 南側3.0m | M23: 第12-7-2605 | N23: 市道 | O23: 福山市加茂町下加茂181番地2先交差点 | P23: =ASC(L23) -> 北側3.0m_x000D_ 南側3.0m
A24: =IF(D23="","",IF(D24="〃",A23,A23+1)) -> 9 | B24: =IF(OFFSET(M24,-1,)=M24,"〃",M24) -> 第12-7-2604 | C24: =IF(OFFSET(N24,-1,)=N24,"〃",N24) -> 〃 | D24: =IF(OFFSET(O24,-1,)=O24,"〃",O24) -> 福山市加茂町下加茂192番地4先交差点 | E24: 止まれ文字 図示（白） | F24: 2 | J24: 26 | L24: 南側縮小施工_x000D_ 北側縮小施工 | M24: 第12-7-2604 | N24: 市道 | O24: 福山市加茂町下加茂192番地4先交差点 | P24: =ASC(L24) -> 南側縮小施工_x000D_ 北側縮小施工
A25: =IF(D24="","",IF(D25="〃",A24,A24+1)) -> 9 | B25: =IF(OFFSET(M25,-1,)=M25,"〃",M25) -> 〃 | C25: =IF(OFFSET(N25,-1,)=N25,"〃",N25) -> 〃 | D25: =IF(OFFSET(O25,-1,)=O25,"〃",O25) -> 〃 | E25: 停止線 実線（白） | F25: 2 | H25: 6 | L25: 南側3ｍ_x000D_ 北側3ｍ | M25: 第12-7-2604 | N25: 市道 | O25: 福山市加茂町下加茂192番地4先交差点 | P25: =ASC(L25) -> 南側3m_x000D_ 北側3m
A26: =IF(D25="","",IF(D26="〃",A25,A25+1)) -> 10 | B26: =IF(OFFSET(M26,-1,)=M26,"〃",M26) -> 第20-7-1773 | C26: =IF(OFFSET(N26,-1,)=N26,"〃",N26) -> 〃 | D26: =IF(OFFSET(O26,-1,)=O26,"〃",O26) -> 福山市新市町宮内215番地先交差点 | E26: 横断歩道予告 図示（白） | F26: 4 | J26: 36 | L26: 東側(近)_x000D_ 東側(遠)_x000D_ 西側(近)_x000D_ 西側(遠) | M26: 第20-7-1773 | N26: 市道 | O26: 福山市新市町宮内215番地先交差点 | P26: =ASC(L26) -> 東側(近)_x000D_ 東側(遠)_x000D_ 西側(近)_x000D_ 西側(遠)
A27: =IF(D26="","",IF(D27="〃",A26,A26+1)) -> 10 | B27: =IF(OFFSET(M27,-1,)=M27,"〃",M27) -> 〃 | C27: =IF(OFFSET(N27,-1,)=N27,"〃",N27) -> 〃 | D27: =IF(OFFSET(O27,-1,)=O27,"〃",O27) -> 〃 | E27: 停止線 実線（白） | F27: 1 | G27: 2.5 | L27: 東側2.5m | M27: 第20-7-1773 | N27: 市道 | O27: 福山市新市町宮内215番地先交差点 | P27: =ASC(L27) -> 東側2.5m
A28: =IF(D27="","",IF(D28="〃",A27,A27+1)) -> 11 | B28: =IF(OFFSET(M28,-1,)=M28,"〃",M28) -> 第20-7-2154 | C28: =IF(OFFSET(N28,-1,)=N28,"〃",N28) -> 県道(新市七曲西城線) | D28: =IF(OFFSET(O28,-1,)=O28,"〃",O28) -> 福山市新市町新市785番地1先 | E28: 横断歩道 実線（白） | F28: 1 | G28: 18 | L28: 3m6縞(各縞両側0.5mずつ削除し3m幅にする、南端以外全て) | M28: 第20-7-2154 | N28: 県道(新市七曲西城線) | O28: 福山市新市町新市785番地1先 | P28: =ASC(L28) -> 3m6縞(各縞両側0.5mずつ削除し3m幅にする､南端以外全て)
A29: =IF(D28="","",IF(D29="〃",A28,A28+1)) -> 11 | B29: =IF(OFFSET(M29,-1,)=M29,"〃",M29) -> 〃 | C29: =IF(OFFSET(N29,-1,)=N29,"〃",N29) -> 〃 | D29: =IF(OFFSET(O29,-1,)=O29,"〃",O29) -> 〃 | E29: 横断歩道予告 図示（白） | F29: 4 | J29: 36 | L29: 西側(近)_x000D_ 西側(遠)_x000D_ 東側(近)_x000D_ 東側(遠) | M29: 第20-7-2154 | N29: 県道(新市七曲西城線) | O29: 福山市新市町新市785番地1先 | P29: =ASC(L29) -> 西側(近)_x000D_ 西側(遠)_x000D_ 東側(近)_x000D_ 東側(遠)
A30: =IF(D29="","",IF(D30="〃",A29,A29+1)) -> 11 | B30: =IF(OFFSET(M30,-1,)=M30,"〃",M30) -> 〃 | C30: =IF(OFFSET(N30,-1,)=N30,"〃",N30) -> 〃 | D30: =IF(OFFSET(O30,-1,)=O30,"〃",O30) -> 〃 | E30: 停止線 実線（白） | F30: 2 | G30: 6 | L30: 西側3.0m_x000D_ 東側3.0m | M30: 第20-7-2154 | N30: 県道(新市七曲西城線) | O30: 福山市新市町新市785番地1先 | P30: =ASC(L30) -> 西側3.0m_x000D_ 東側3.0m
A31: =IF(D30="","",IF(D31="〃",A30,A30+1)) -> 11 | B31: =IF(OFFSET(M31,-1,)=M31,"〃",M31) -> 〃 | C31: =IF(OFFSET(N31,-1,)=N31,"〃",N31) -> 〃 | D31: =IF(OFFSET(O31,-1,)=O31,"〃",O31) -> 〃 | E31: (削)横断歩道 実線（白） | F31: 1 | K31: 13 | L31: 各縞両側0.5mずつ削除 | M31: 第20-7-2154 | N31: 県道(新市七曲西城線) | O31: 福山市新市町新市785番地1先 | P31: =ASC(L31) -> 各縞両側0.5mずつ削除
A32: =IF(D31="","",IF(D32="〃",A31,A31+1)) -> 11 | B32: =IF(OFFSET(M32,-1,)=M32,"〃",M32) -> 0 | C32: =IF(OFFSET(N32,-1,)=N32,"〃",N32) -> 〃 | D32: =IF(OFFSET(O32,-1,)=O32,"〃",O32) -> 〃 | E32: その他 線 | F32: 2 | I32: 1 | L32: 中央線(黄)1m延長 | N32: 県道(新市七曲西城線) | O32: 福山市新市町新市785番地1先 | P32: =ASC(L32) -> 中央線(黄)1m延長
A33: =IF(D32="","",IF(D33="〃",A32,A32+1)) -> 12 | B33: =IF(OFFSET(M33,-1,)=M33,"〃",M33) -> 第12-7-3127 | C33: =IF(OFFSET(N33,-1,)=N33,"〃",N33) -> 市道 | D33: =IF(OFFSET(O33,-1,)=O33,"〃",O33) -> 福山市神辺町字下御領218番地6先交差点 | E33: 止まれ文字 図示（白） | F33: 1 | J33: 13 | L33: 北側縮小施工 | M33: 第12-7-3127 | N33: 市道 | O33: 福山市神辺町字下御領218番地6先交差点 | P33: =ASC(L33) -> 北側縮小施工
A34: =IF(D33="","",IF(D34="〃",A33,A33+1)) -> 12 | B34: =IF(OFFSET(M34,-1,)=M34,"〃",M34) -> 〃 | C34: =IF(OFFSET(N34,-1,)=N34,"〃",N34) -> 〃 | D34: =IF(OFFSET(O34,-1,)=O34,"〃",O34) -> 〃 | E34: 停止線 実線（白） | F34: 1 | H34: 2.6 | L34: 北側2.6m | M34: 第12-7-3127 | N34: 市道 | O34: 福山市神辺町字下御領218番地6先交差点 | P34: =ASC(L34) -> 北側2.6m
A35: =IF(D34="","",IF(D35="〃",A34,A34+1)) -> 12 | B35: =IF(OFFSET(M35,-1,)=M35,"〃",M35) -> 第20-7-2124 | C35: =IF(OFFSET(N35,-1,)=N35,"〃",N35) -> 〃 | D35: =IF(OFFSET(O35,-1,)=O35,"〃",O35) -> 〃 | E35: 横断歩道 実線（白） | F35: 2 | G35: 24 | L35: 東側3m3縞(南端から1〜3縞)_x000D_ 西側3m5縞 | M35: 第20-7-2124 | N35: 市道 | O35: 福山市神辺町字下御領218番地6先交差点 | P35: =ASC(L35) -> 東側3m3縞(南端から1〜3縞)_x000D_ 西側3m5縞
A36: =IF(D35="","",IF(D36="〃",A35,A35+1)) -> 12 | B36: =IF(OFFSET(M36,-1,)=M36,"〃",M36) -> 〃 | C36: =IF(OFFSET(N36,-1,)=N36,"〃",N36) -> 〃 | D36: =IF(OFFSET(O36,-1,)=O36,"〃",O36) -> 〃 | E36: 横断歩道予告 図示（白） | F36: 1 | J36: 9 | L36: 東側(近) | M36: 第20-7-2124 | N36: 市道 | O36: 福山市神辺町字下御領218番地6先交差点 | P36: =ASC(L36) -> 東側(近)
A37: =IF(D36="","",IF(D37="〃",A36,A36+1)) -> 12 | B37: =IF(OFFSET(M37,-1,)=M37,"〃",M37) -> 〃 | C37: =IF(OFFSET(N37,-1,)=N37,"〃",N37) -> 〃 | D37: =IF(OFFSET(O37,-1,)=O37,"〃",O37) -> 〃 | E37: 停止線 実線（白） | F37: 2 | G37: 4 | L37: 東側2.0m_x000D_ 西側2.0m | M37: 第20-7-2124 | N37: 市道 | O37: 福山市神辺町字下御領218番地6先交差点 | P37: =ASC(L37) -> 東側2.0m_x000D_ 西側2.0m
A38: =IF(D37="","",IF(D38="〃",A37,A37+1)) -> 13 | B38: =IF(OFFSET(M38,-1,)=M38,"〃",M38) -> 第12-7-3172 | C38: =IF(OFFSET(N38,-1,)=N38,"〃",N38) -> 〃 | D38: =IF(OFFSET(O38,-1,)=O38,"〃",O38) -> 福山市神辺町字道上1,375番地13先交差点 | E38: 止まれ文字 図示（白） | F38: 2 | J38: 26 | L38: 東側 縮小_x000D_ 西側 縮小 | M38: 第12-7-3172 | N38: 市道 | O38: 福山市神辺町字道上1,375番地13先交差点 | P38: =ASC(L38) -> 東側 縮小_x000D_ 西側 縮小
A39: =IF(D38="","",IF(D39="〃",A38,A38+1)) -> 13 | B39: =IF(OFFSET(M39,-1,)=M39,"〃",M39) -> 〃 | C39: =IF(OFFSET(N39,-1,)=N39,"〃",N39) -> 〃 | D39: =IF(OFFSET(O39,-1,)=O39,"〃",O39) -> 〃 | E39: (削)止まれ文字 図示（白） | F39: 2 | K39: 12 | M39: 第12-7-3172 | N39: 市道 | O39: 福山市神辺町字道上1,375番地13先交差点 | P39: =ASC(L39)
B40: =警察署名 -> 福山北 | D40: 更新合計 | E40: 13 | G40: =IF(ISERROR(FIND("図示", G3)), IF(ISERROR(FIND("削除", G3)), SUMPRODUCT((ISNUMBER(FIND("横断歩道 実線",$E5:$E39)))*(G5:G39<>""), $F5:$F39), 0), SUMIF(G5:G39,">0",$F5:$F39)) -> 7 | H40: =IF(ISERROR(FIND("図示", H3)), IF(ISERROR(FIND("削除", H3)), SUMPRODUCT((ISNUMBER(FIND("横断歩道 実線",$E5:$E39)))*(H5:H39<>""), $F5:$F39), 0), SUMIF(H5:H39,">0",$F5:$F39)) -> 0 | I40: =IF(ISERROR(FIND("図示", I3)), IF(ISERROR(FIND("削除", I3)), SUMPRODUCT((ISNUMBER(FIND("横断歩道 実線",$E5:$E39)))*(I5:I39<>""), $F5:$F39), 0), SUMIF(I5:I39,">0",$F5:$F39)) -> 0 | J40: =IF(ISERROR(FIND("図示", J3)), IF(ISERROR(FIND("削除", J3)), SUMPRODUCT((ISNUMBER(FIND("横断歩道 実線",$E5:$E39)))*(J5:J39<>""), $F5:$F39), 0), SUMIF(J5:J39,">0",$F5:$F39)) -> 22 | K40: =IF(ISERROR(FIND("図示", K3)), IF(ISERROR(FIND("削除", K3)), SUMPRODUCT((ISNUMBER(FIND("横断歩道 実線",$E5:$E39)))*(K5:K39<>""), $F5:$F39), 0), SUMIF(K5:K39,">0",$F5:$F39)) -> 0
G41: =SUM(G5:G39) -> 152.3 | H41: =SUM(H5:H39) -> 23.1 | I41: =SUM(I5:I39) -> 1 | J41: =SUM(J5:J39) -> 243 | K41: =SUM(K5:K39) -> 70
B42: =警察署名 -> 福山北 | D42: 新規更新合計 | E42: =場所表_福山北_新規!新規合計+更新合計 -> 27 | G42: =場所表_福山北_新規!H50+G40 -> 7 | H42: =H40 -> 0 | I42: =場所表_福山北_新規!I50+I40 -> 0 | J42: =J40 -> 22 | K42: =場所表_福山北_新規!J50+K40 -> 0
G43: =場所表_福山北_新規!H51+G41 -> 163.1 | H43: =H41 -> 23.1 | I43: =場所表_福山北_新規!I51+I41 -> 29 | J43: =J41 -> 243 | K43: =場所表_福山北_新規!J51+K41 -> 845.8

Sheet 場所表_尾道_新規
B1: 新規 | D1: ="("&表紙等_署用!H1&")" -> (№ 8-32) | J1: 尾道 | K1: 文字の折り返しで行高さがおかしくならないように、最終的な出力セルより幅を大きくしてあります。
B2: 整理番号 （規制番号） | C2: 区分 | D2: 道路種別 | E2: 場所・区間 | F2: 標示種別 | H2: 事業量 | K2: 整理番号 （規制番号） | L2: 道路種別 | M2: 場所・区間
F3: 横断歩道本数 記号文字個数 | G3: 数 | H3: 実線１５㎝幅 | I3: 削除 | J3: 備考(縞数、方向等)
H4: m | I4: m
A5: 1 | B5: =K5 -> 261170102 | C5: =IF(B5="〃","〃","新規") -> 新規 | D5: =L5 -> 市道 | E5: =M5 -> 尾道市東尾道18番地先（消防防災センター前交差点） | F5: その他 線 | G5: 4 | H5: 11.9 | J5: 北西側 外側線南側1.7m北側1.6m新設_x000D_ 南西側 外側線東側1.7m西側1.6m新設_x000D_ 南東側 外側線南側1.9m新設_x000D_ 北東側 外側線東西とも1.7m新設 | K5: 261170102 | L5: 市道 | M5: 尾道市東尾道18番地先（消防防災センター前交差点） | N5: =ASC(J5) -> 北西側 外側線南側1.7m北側1.6m新設_x000D_ 南西側 外側線東側1.7m西側1.6m新設_x000D_ 南東側 外側線南側1.9m新設_x000D_ 北東側 外側線東西とも1.7m新設
A6: =IF(E5="","",IF(E6="〃",A5,A5+1)) -> 2 | B6: =IF(OFFSET(K6,-1,)=K6,"〃",K6) -> 〃 | C6: =IF(B6="〃","〃","新規") -> 〃 | D6: =IF(OFFSET(L6,-1,)=L6,"〃",L6) -> 〃 | E6: =IF(OFFSET(M6,-1,)=M6,"〃",M6) -> 尾道市東尾道18番地先（尾道市交通部前交差点） | F6: (削)自転車横断帯 自転車マーク | G6: 2 | I6: 2 | J6: 南東側自転車ﾏｰｸ1個削除_x000D_ 北東側自転車ﾏｰｸ1個削除 | K6: 261170102 | L6: 市道 | M6: 尾道市東尾道18番地先（尾道市交通部前交差点） | N6: =ASC(J6) -> 南東側自転車ﾏｰｸ1個削除_x000D_ 北東側自転車ﾏｰｸ1個削除
A7: =IF(E6="","",IF(E7="〃",A6,A6+1)) -> 2 | B7: =IF(OFFSET(K7,-1,)=K7,"〃",K7) -> 〃 | C7: =IF(B7="〃","〃","新規") -> 〃 | D7: =IF(OFFSET(L7,-1,)=L7,"〃",L7) -> 〃 | E7: =IF(OFFSET(M7,-1,)=M7,"〃",M7) -> 〃 | F7: (削)自転車横断帯 実線（白） | G7: 4 | I7: 81 | J7: 北西側横断帯10m分削除_x000D_ 南西側横断帯26m分削除_x000D_ 南東側横断帯20m分削除_x000D_ 北東側横断帯25m分削除 | K7: 261170102 | L7: 市道 | M7: 尾道市東尾道18番地先（尾道市交通部前交差点） | N7: =ASC(J7) -> 北西側横断帯10m分削除_x000D_ 南西側横断帯26m分削除_x000D_ 南東側横断帯20m分削除_x000D_ 北東側横断帯25m分削除
A8: =IF(E7="","",IF(E8="〃",A7,A7+1)) -> 3 | B8: =IF(OFFSET(K8,-1,)=K8,"〃",K8) -> 〃 | C8: =IF(B8="〃","〃","新規") -> 〃 | D8: =IF(OFFSET(L8,-1,)=L8,"〃",L8) -> その他 | E8: =IF(OFFSET(M8,-1,)=M8,"〃",M8) -> 尾道市木ノ庄町市原399番地2北方80メートル先交差点 | F8: (削)横断歩道 実線（白） | G8: 1 | I8: 50.4 | J8: 4m7縞6割分削除 | K8: 261170102 | L8: その他 | M8: 尾道市木ノ庄町市原399番地2北方80メートル先交差点 | N8: =ASC(J8) -> 4m7縞6割分削除
A9: =IF(E8="","",IF(E9="〃",A8,A8+1)) -> 3 | B9: =IF(OFFSET(K9,-1,)=K9,"〃",K9) -> 〃 | C9: =IF(B9="〃","〃","新規") -> 〃 | D9: =IF(OFFSET(L9,-1,)=L9,"〃",L9) -> 〃 | E9: =IF(OFFSET(M9,-1,)=M9,"〃",M9) -> 〃 | F9: (削)横断歩道予告 図示（白） | G9: 4 | I9: 27.9 | J9: 北東側予告縮小 全削除1個 8割分削除1個_x000D_ 南西側予告縮小 全削除1個 3割分削除1個 | K9: 261170102 | L9: その他 | M9: 尾道市木ノ庄町市原399番地2北方80メートル先交差点 | N9: =ASC(J9) -> 北東側予告縮小 全削除1個 8割分削除1個_x000D_ 南西側予告縮小 全削除1個 3割分削除1個
A10: =IF(E9="","",IF(E10="〃",A9,A9+1)) -> 3 | B10: =IF(OFFSET(K10,-1,)=K10,"〃",K10) -> 〃 | C10: =IF(B10="〃","〃","新規") -> 〃 | D10: =IF(OFFSET(L10,-1,)=L10,"〃",L10) -> 〃 | E10: =IF(OFFSET(M10,-1,)=M10,"〃",M10) -> 〃 | F10: (削)停止線 実線（白） | G10: 2 | I10: 6 | J10: 北東側停止線1m分削除_x000D_ 南西側停止線1m分削除 | K10: 261170102 | L10: その他 | M10: 尾道市木ノ庄町市原399番地2北方80メートル先交差点 | N10: =ASC(J10) -> 北東側停止線1m分削除_x000D_ 南西側停止線1m分削除
A11: =IF(E10="","",IF(E11="〃",A10,A10+1)) -> 4 | B11: =IF(OFFSET(K11,-1,)=K11,"〃",K11) -> 〃 | C11: =IF(B11="〃","〃","新規") -> 〃 | D11: =IF(OFFSET(L11,-1,)=L11,"〃",L11) -> 市道 | E11: =IF(OFFSET(M11,-1,)=M11,"〃",M11) -> 尾道市木ノ庄町木梨696番地先交差点 | F11: (削)横断歩道 実線（白） | G11: 1 | I11: 45 | J11: 3m5縞削除 | K11: 261170102 | L11: 市道 | M11: 尾道市木ノ庄町木梨696番地先交差点 | N11: =ASC(J11) -> 3m5縞削除
A12: =IF(E11="","",IF(E12="〃",A11,A11+1)) -> 4 | B12: =IF(OFFSET(K12,-1,)=K12,"〃",K12) -> 〃 | C12: =IF(B12="〃","〃","新規") -> 〃 | D12: =IF(OFFSET(L12,-1,)=L12,"〃",L12) -> 〃 | E12: =IF(OFFSET(M12,-1,)=M12,"〃",M12) -> 〃 | F12: (削)横断歩道予告 図示（白） | G12: 4 | I12: 23.4 | J12: 東側 予告縮小3割分2個削除_x000D_ 西側 予告縮小2個削除 | K12: 261170102 | L12: 市道 | M12: 尾道市木ノ庄町木梨696番地先交差点 | N12: =ASC(J12) -> 東側 予告縮小3割分2個削除_x000D_ 西側 予告縮小2個削除
A13: =IF(E12="","",IF(E13="〃",A12,A12+1)) -> 4 | B13: =IF(OFFSET(K13,-1,)=K13,"〃",K13) -> 〃 | C13: =IF(B13="〃","〃","新規") -> 〃 | D13: =IF(OFFSET(L13,-1,)=L13,"〃",L13) -> 〃 | E13: =IF(OFFSET(M13,-1,)=M13,"〃",M13) -> 〃 | F13: (削)停止線 実線（白） | G13: 2 | I13: 10.2 | J13: 東側 2.4m削除_x000D_ 西側 停止線1m分削除 | K13: 261170102 | L13: 市道 | M13: 尾道市木ノ庄町木梨696番地先交差点 | N13: =ASC(J13) -> 東側 2.4m削除_x000D_ 西側 停止線1m分削除
B14: =警察署名 -> 尾道 | E14: 新規合計 | F14: 4 | H14: =IF(ISERROR(FIND("図示", H3)), IF(ISERROR(FIND("削除", H3)), SUMPRODUCT((ISNUMBER(FIND("横断歩道 実線",$F5:$F13)))*(H5:H13<>""), $G5:$G13), 0), SUMIF(H5:H13,">0",$G5:$G13)) -> 0 | I14: =IF(ISERROR(FIND("図示", I3)), IF(ISERROR(FIND("削除", I3)), SUMPRODUCT((ISNUMBER(FIND("横断歩道 実線",$F5:$F13)))*(I5:I13<>""), $G5:$G13), 0), SUMIF(I5:I13,">0",$G5:$G13)) -> 0
H15: =SUM(H5:H13) -> 11.9 | I15: =SUM(I5:I13) -> 245.9

Sheet 場所表_尾道_更新
B1: 更新 | C1: ="("&表紙等_署用!H1&")" -> (№ 8-32) | L1: 尾道 | M1: 文字の折り返しで行高さがおかしくならないように、最終的な出力セルより幅を大きくしてあります。
B2: 規制番号 | C2: 道路種別 | D2: 場所・区間 | E2: 標示種別 | G2: 事業量 | M2: 規制番号 | N2: 道路種別 | O2: 場所・区間
E3: 横断歩道本数 記号文字個数 | F3: 数 | G3: 横断歩道等 実線４５㎝幅 | H3: 実線３０㎝幅 | I3: 実線１５㎝幅 | J3: 図示 | K3: 削除 | L3: 備考(縞数、方向等)
G4: m | H4: m | I4: m | J4: m | K4: m
A5: 1 | B5: =M5 -> 第12-5-0609 | C5: =N5 -> 市道 | D5: =O5 -> 尾道市向島町1,797番地6先交差点 | E5: 止まれ文字 図示（白） | F5: 1 | J5: 13 | L5: 標準文字1割分削除後縮小更新 | M5: 第12-5-0609 | N5: 市道 | O5: 尾道市向島町1,797番地6先交差点 | P5: =ASC(L5) -> 標準文字1割分削除後縮小更新
A6: =IF(D5="","",IF(D6="〃",A5,A5+1)) -> 1 | B6: =IF(OFFSET(M6,-1,)=M6,"〃",M6) -> 〃 | C6: =IF(OFFSET(N6,-1,)=N6,"〃",N6) -> 〃 | D6: =IF(OFFSET(O6,-1,)=O6,"〃",O6) -> 〃 | E6: 停止線 実線（白） | F6: 1 | H6: 1.6 | L6: 停止線1.6m | M6: 第12-5-0609 | N6: 市道 | O6: 尾道市向島町1,797番地6先交差点 | P6: =ASC(L6) -> 停止線1.6m
A7: =IF(D6="","",IF(D7="〃",A6,A6+1)) -> 1 | B7: =IF(OFFSET(M7,-1,)=M7,"〃",M7) -> 〃 | C7: =IF(OFFSET(N7,-1,)=N7,"〃",N7) -> 〃 | D7: =IF(OFFSET(O7,-1,)=O7,"〃",O7) -> 〃 | E7: (削)止まれ文字 図示（白） | F7: 1 | K7: 2 | M7: 第12-5-0609 | N7: 市道 | O7: 尾道市向島町1,797番地6先交差点 | P7: =ASC(L7)
A8: =IF(D7="","",IF(D8="〃",A7,A7+1)) -> 2 | B8: =IF(OFFSET(M8,-1,)=M8,"〃",M8) -> 第20-5-0462 | C8: =IF(OFFSET(N8,-1,)=N8,"〃",N8) -> 県道 | D8: =IF(OFFSET(O8,-1,)=O8,"〃",O8) -> 尾道市向島町1,839番地先交差点 | E8: 横断歩道 実線（白） | F8: 1 | G8: 23.7 | L8: 東から4m2縞1.9+1.8m1縞4m3縞更新 | M8: 第20-5-0462 | N8: 県道 | O8: 尾道市向島町1,839番地先交差点 | P8: =ASC(L8) -> 東から4m2縞1.9+1.8m1縞4m3縞更新
A9: =IF(D8="","",IF(D9="〃",A8,A8+1)) -> 2 | B9: =IF(OFFSET(M9,-1,)=M9,"〃",M9) -> 〃 | C9: =IF(OFFSET(N9,-1,)=N9,"〃",N9) -> 〃 | D9: =IF(OFFSET(O9,-1,)=O9,"〃",O9) -> 〃 | E9: 停止線 実線（白） | F9: 2 | G9: 5.2 | L9: 南側停止線2.6m_x000D_ 北側停止線2.6m | M9: 第20-5-0462 | N9: 県道 | O9: 尾道市向島町1,839番地先交差点 | P9: =ASC(L9) -> 南側停止線2.6m_x000D_ 北側停止線2.6m
A10: =IF(D9="","",IF(D10="〃",A9,A9+1)) -> 3 | B10: =IF(OFFSET(M10,-1,)=M10,"〃",M10) -> 第20-5-0569 | C10: =IF(OFFSET(N10,-1,)=N10,"〃",N10) -> 〃 | D10: =IF(OFFSET(O10,-1,)=O10,"〃",O10) -> 尾道市向島町1,886番地3先交差点 | E10: 横断歩道 実線（白） | F10: 1 | G10: 24 | L10: 3m8縞 | M10: 第20-5-0569 | N10: 県道 | O10: 尾道市向島町1,886番地3先交差点 | P10: =ASC(L10) -> 3m8縞
A11: =IF(D10="","",IF(D11="〃",A10,A10+1)) -> 3 | B11: =IF(OFFSET(M11,-1,)=M11,"〃",M11) -> 〃 | C11: =IF(OFFSET(N11,-1,)=N11,"〃",N11) -> 〃 | D11: =IF(OFFSET(O11,-1,)=O11,"〃",O11) -> 〃 | E11: 横断歩道予告 図示（白） | F11: 4 | J11: 36 | L11: 北側予告縮小2個更新_x000D_ 南側予告縮小2個新設 | M11: 第20-5-0569 | N11: 県道 | O11: 尾道市向島町1,886番地3先交差点 | P11: =ASC(L11) -> 北側予告縮小2個更新_x000D_ 南側予告縮小2個新設
A12: =IF(D11="","",IF(D12="〃",A11,A11+1)) -> 3 | B12: =IF(OFFSET(M12,-1,)=M12,"〃",M12) -> 〃 | C12: =IF(OFFSET(N12,-1,)=N12,"〃",N12) -> 〃 | D12: =IF(OFFSET(O12,-1,)=O12,"〃",O12) -> 〃 | E12: 停止線 実線（白） | F12: 2 | G12: 5.2 | L12: 南側停止線2.7ｍ_x000D_ 北側停止線2.5m | M12: 第20-5-0569 | N12: 県道 | O12: 尾道市向島町1,886番地3先交差点 | P12: =ASC(L12) -> 南側停止線2.7m_x000D_ 北側停止線2.5m
A13: =IF(D12="","",IF(D13="〃",A12,A12+1)) -> 4 | B13: =IF(OFFSET(M13,-1,)=M13,"〃",M13) -> 第20-5-0869 | C13: =IF(OFFSET(N13,-1,)=N13,"〃",N13) -> 市道 | D13: =IF(OFFSET(O13,-1,)=O13,"〃",O13) -> 尾道市向島町10,920番地南方40メートル先交差点 | E13: 横断歩道 実線（白） | F13: 1 | G13: 18 | L13: 3m6縞更新 | M13: 第20-5-0869 | N13: 市道 | O13: 尾道市向島町10,920番地南方40メートル先交差点 | P13: =ASC(L13) -> 3m6縞更新
A14: =IF(D13="","",IF(D14="〃",A13,A13+1)) -> 4 | B14: =IF(OFFSET(M14,-1,)=M14,"〃",M14) -> 〃 | C14: =IF(OFFSET(N14,-1,)=N14,"〃",N14) -> 〃 | D14: =IF(OFFSET(O14,-1,)=O14,"〃",O14) -> 〃 | E14: 横断歩道予告 図示（白） | F14: 4 | J14: 36 | L14: 東側予告縮小2個更新_x000D_ 西側予告縮小2個更新 | M14: 第20-5-0869 | N14: 市道 | O14: 尾道市向島町10,920番地南方40メートル先交差点 | P14: =ASC(L14) -> 東側予告縮小2個更新_x000D_ 西側予告縮小2個更新
A15: =IF(D14="","",IF(D15="〃",A14,A14+1)) -> 4 | B15: =IF(OFFSET(M15,-1,)=M15,"〃",M15) -> 〃 | C15: =IF(OFFSET(N15,-1,)=N15,"〃",N15) -> 〃 | D15: =IF(OFFSET(O15,-1,)=O15,"〃",O15) -> 〃 | E15: 停止線 実線（白） | F15: 2 | G15: 5.2 | L15: 西側停止線2.6m更新_x000D_ 東側停止線2.6m更新 | M15: 第20-5-0869 | N15: 市道 | O15: 尾道市向島町10,920番地南方40メートル先交差点 | P15: =ASC(L15) -> 西側停止線2.6m更新_x000D_ 東側停止線2.6m更新
A16: =IF(D15="","",IF(D16="〃",A15,A15+1)) -> 5 | B16: =IF(OFFSET(M16,-1,)=M16,"〃",M16) -> 第12-5-0692 | C16: =IF(OFFSET(N16,-1,)=N16,"〃",N16) -> 〃 | D16: =IF(OFFSET(O16,-1,)=O16,"〃",O16) -> 尾道市向島町11,231番地46先交差点 | E16: 止まれ文字 図示（白） | F16: 1 | J16: 13 | L16: 止まれ縮小文字更新 | M16: 第12-5-0692 | N16: 市道 | O16: 尾道市向島町11,231番地46先交差点 | P16: =ASC(L16) -> 止まれ縮小文字更新
A17: =IF(D16="","",IF(D17="〃",A16,A16+1)) -> 5 | B17: =IF(OFFSET(M17,-1,)=M17,"〃",M17) -> 〃 | C17: =IF(OFFSET(N17,-1,)=N17,"〃",N17) -> 〃 | D17: =IF(OFFSET(O17,-1,)=O17,"〃",O17) -> 〃 | E17: 停止線 実線（白） | F17: 1 | H17: 3.1 | L17: 停止線3.1m更新 | M17: 第12-5-0692 | N17: 市道 | O17: 尾道市向島町11,231番地46先交差点 | P17: =ASC(L17) -> 停止線3.1m更新
A18: =IF(D17="","",IF(D18="〃",A17,A17+1)) -> 6 | B18: =IF(OFFSET(M18,-1,)=M18,"〃",M18) -> 第20-5-0585 | C18: =IF(OFFSET(N18,-1,)=N18,"〃",N18) -> 〃 | D18: =IF(OFFSET(O18,-1,)=O18,"〃",O18) -> 尾道市向島町13,633番地先交差点 | E18: 横断歩道 実線（白） | F18: 1 | G18: 32 | L18: 4ｍ8縞更新 | M18: 第20-5-0585 | N18: 市道 | O18: 尾道市向島町13,633番地先交差点 | P18: =ASC(L18) -> 4m8縞更新
A19: =IF(D18="","",IF(D19="〃",A18,A18+1)) -> 6 | B19: =IF(OFFSET(M19,-1,)=M19,"〃",M19) -> 〃 | C19: =IF(OFFSET(N19,-1,)=N19,"〃",N19) -> 〃 | D19: =IF(OFFSET(O19,-1,)=O19,"〃",O19) -> 〃 | E19: 横断歩道予告 図示（白） | F19: 2 | J19: 18 | L19: 予告縮小2個更新 | M19: 第20-5-0585 | N19: 市道 | O19: 尾道市向島町13,633番地先交差点 | P19: =ASC(L19) -> 予告縮小2個更新
A20: =IF(D19="","",IF(D20="〃",A19,A19+1)) -> 6 | B20: =IF(OFFSET(M20,-1,)=M20,"〃",M20) -> 〃 | C20: =IF(OFFSET(N20,-1,)=N20,"〃",N20) -> 〃 | D20: =IF(OFFSET(O20,-1,)=O20,"〃",O20) -> 〃 | E20: 停止線 実線（白） | F20: 1 | G20: 2.8 | L20: 停止線2.8ｍ更新 | M20: 第20-5-0585 | N20: 市道 | O20: 尾道市向島町13,633番地先交差点 | P20: =ASC(L20) -> 停止線2.8m更新
A21: =IF(D20="","",IF(D21="〃",A20,A20+1)) -> 7 | B21: =IF(OFFSET(M21,-1,)=M21,"〃",M21) -> 第20-5-0539 | C21: =IF(OFFSET(N21,-1,)=N21,"〃",N21) -> 国道317号 | D21: =IF(OFFSET(O21,-1,)=O21,"〃",O21) -> 尾道市向島町14,523番地2先交差点 | E21: 横断歩道 実線（白） | F21: 1 | G21: 32 | L21: 4m8縞更新 | M21: 第20-5-0539 | N21: 国道317号 | O21: 尾道市向島町14,523番地2先交差点 | P21: =ASC(L21) -> 4m8縞更新
A22: =IF(D21="","",IF(D22="〃",A21,A21+1)) -> 7 | B22: =IF(OFFSET(M22,-1,)=M22,"〃",M22) -> 〃 | C22: =IF(OFFSET(N22,-1,)=N22,"〃",N22) -> 〃 | D22: =IF(OFFSET(O22,-1,)=O22,"〃",O22) -> 〃 | E22: 横断歩道予告 図示（白） | F22: 4 | J22: 36 | L22: 西側 予告縮小2個更新_x000D_ 東側 予告縮小2個更新 | M22: 第20-5-0539 | N22: 国道317号 | O22: 尾道市向島町14,523番地2先交差点 | P22: =ASC(L22) -> 西側 予告縮小2個更新_x000D_ 東側 予告縮小2個更新
A23: =IF(D22="","",IF(D23="〃",A22,A22+1)) -> 7 | B23: =IF(OFFSET(M23,-1,)=M23,"〃",M23) -> 〃 | C23: =IF(OFFSET(N23,-1,)=N23,"〃",N23) -> 〃 | D23: =IF(OFFSET(O23,-1,)=O23,"〃",O23) -> 〃 | E23: 停止線 実線（白） | F23: 2 | G23: 6.2 | L23: 西側 停止線3.1m更新_x000D_ 東側 停止線3.1m更新 | M23: 第20-5-0539 | N23: 国道317号 | O23: 尾道市向島町14,523番地2先交差点 | P23: =ASC(L23) -> 西側 停止線3.1m更新_x000D_ 東側 停止線3.1m更新
A24: =IF(D23="","",IF(D24="〃",A23,A23+1)) -> 8 | B24: =IF(OFFSET(M24,-1,)=M24,"〃",M24) -> 第20-5-0551 | C24: =IF(OFFSET(N24,-1,)=N24,"〃",N24) -> 〃 | D24: =IF(OFFSET(O24,-1,)=O24,"〃",O24) -> 尾道市向島町15,240番地98（みゆき公園）南角先交差点 | E24: 横断歩道 実線（白） | F24: 1 | G24: 24 | L24: 南東側 4m6縞更新 | M24: 第20-5-0551 | N24: 国道317号 | O24: 尾道市向島町15,240番地98（みゆき公園）南角先交差点 | P24: =ASC(L24) -> 南東側 4m6縞更新
A25: =IF(D24="","",IF(D25="〃",A24,A24+1)) -> 8 | B25: =IF(OFFSET(M25,-1,)=M25,"〃",M25) -> 〃 | C25: =IF(OFFSET(N25,-1,)=N25,"〃",N25) -> 〃 | D25: =IF(OFFSET(O25,-1,)=O25,"〃",O25) -> 〃 | E25: 停止線 実線（白） | F25: 1 | G25: 4.6 | L25: 南東側 北東側停止線4.6m更新 | M25: 第20-5-0551 | N25: 国道317号 | O25: 尾道市向島町15,240番地98（みゆき公園）南角先交差点 | P25: =ASC(L25) -> 南東側 北東側停止線4.6m更新
A26: =IF(D25="","",IF(D26="〃",A25,A25+1)) -> 9 | B26: =IF(OFFSET(M26,-1,)=M26,"〃",M26) -> 第20-5-0887 | C26: =IF(OFFSET(N26,-1,)=N26,"〃",N26) -> 市道 | D26: =IF(OFFSET(O26,-1,)=O26,"〃",O26) -> 尾道市向島町2,209番地11北東方10メートル先交差点 | E26: 横断歩道 実線（白） | F26: 1 | G26: 29.5 | L26: 南から4m7縞1.5m1縞更新 | M26: 第20-5-0887 | N26: 市道 | O26: 尾道市向島町2,209番地11北東方10メートル先交差点 | P26: =ASC(L26) -> 南から4m7縞1.5m1縞更新
A27: =IF(D26="","",IF(D27="〃",A26,A26+1)) -> 9 | B27: =IF(OFFSET(M27,-1,)=M27,"〃",M27) -> 〃 | C27: =IF(OFFSET(N27,-1,)=N27,"〃",N27) -> 〃 | D27: =IF(OFFSET(O27,-1,)=O27,"〃",O27) -> 〃 | E27: 停止線 実線（白） | F27: 1 | G27: 2.6 | L27: 西側停止線2.6ｍ更新 | M27: 第20-5-0887 | N27: 市道 | O27: 尾道市向島町2,209番地11北東方10メートル先交差点 | P27: =ASC(L27) -> 西側停止線2.6m更新
A28: =IF(D27="","",IF(D28="〃",A27,A27+1)) -> 10 | B28: =IF(OFFSET(M28,-1,)=M28,"〃",M28) -> 第20-5-0862 | C28: =IF(OFFSET(N28,-1,)=N28,"〃",N28) -> 〃 | D28: =IF(OFFSET(O28,-1,)=O28,"〃",O28) -> 尾道市向島町4,529番地先 | E28: 横断歩道 実線（白） | F28: 1 | G28: 28 | L28: 4ｍ7縞更新 | M28: 第20-5-0862 | N28: 市道 | O28: 尾道市向島町4,529番地先 | P28: =ASC(L28) -> 4m7縞更新
A29: =IF(D28="","",IF(D29="〃",A28,A28+1)) -> 10 | B29: =IF(OFFSET(M29,-1,)=M29,"〃",M29) -> 〃 | C29: =IF(OFFSET(N29,-1,)=N29,"〃",N29) -> 〃 | D29: =IF(OFFSET(O29,-1,)=O29,"〃",O29) -> 〃 | E29: 横断歩道予告 図示（白） | F29: 4 | J29: 36 | L29: 北西側 予告縮小2個更新_x000D_ 南東側 予告縮小2個更新 | M29: 第20-5-0862 | N29: 市道 | O29: 尾道市向島町4,529番地先 | P29: =ASC(L29) -> 北西側 予告縮小2個更新_x000D_ 南東側 予告縮小2個更新
A30: =IF(D29="","",IF(D30="〃",A29,A29+1)) -> 10 | B30: =IF(OFFSET(M30,-1,)=M30,"〃",M30) -> 〃 | C30: =IF(OFFSET(N30,-1,)=N30,"〃",N30) -> 〃 | D30: =IF(OFFSET(O30,-1,)=O30,"〃",O30) -> 〃 | E30: 停止線 実線（白） | F30: 2 | G30: 5.6 | L30: 西側 停止線2.8ｍ更新_x000D_ 東側 停止線2.8ｍ更新 | M30: 第20-5-0862 | N30: 市道 | O30: 尾道市向島町4,529番地先 | P30: =ASC(L30) -> 西側 停止線2.8m更新_x000D_ 東側 停止線2.8m更新
A31: =IF(D30="","",IF(D31="〃",A30,A30+1)) -> 11 | B31: =IF(OFFSET(M31,-1,)=M31,"〃",M31) -> 第20-5-0465 | C31: =IF(OFFSET(N31,-1,)=N31,"〃",N31) -> 国道317号 | D31: =IF(OFFSET(O31,-1,)=O31,"〃",O31) -> 尾道市向島町5,094番地2先（田尻交差点） | E31: 横断歩道 実線（白） | F31: 3 | G31: 61.3 | L31: 南側 西から2.4m1縞3.3m5縞更新_x000D_ 西側 3m7縞更新_x000D_ 北側 西から3.3m6縞1.6m1縞更新 | M31: 第20-5-0465 | N31: 国道317号 | O31: 尾道市向島町5,094番地2先（田尻交差点） | P31: =ASC(L31) -> 南側 西から2.4m1縞3.3m5縞更新_x000D_ 西側 3m7縞更新_x000D_ 北側 西から3.3m6縞1.6m1縞更新
A32: =IF(D31="","",IF(D32="〃",A31,A31+1)) -> 11 | B32: =IF(OFFSET(M32,-1,)=M32,"〃",M32) -> 〃 | C32: =IF(OFFSET(N32,-1,)=N32,"〃",N32) -> 〃 | D32: =IF(OFFSET(O32,-1,)=O32,"〃",O32) -> 〃 | E32: 停止線 実線（白） | F32: 3 | G32: 6.1 | L32: 南側 停止線1.6m_x000D_ 西側 停止線2.8m更新_x000D_ 北側 停止線1.7m更新 | M32: 第20-5-0465 | N32: 国道317号 | O32: 尾道市向島町5,094番地2先（田尻交差点） | P32: =ASC(L32) -> 南側 停止線1.6m_x000D_ 西側 停止線2.8m更新_x000D_ 北側 停止線1.7m更新
A33: =IF(D32="","",IF(D33="〃",A32,A32+1)) -> 12 | B33: =IF(OFFSET(M33,-1,)=M33,"〃",M33) -> 第20-5-0454 | C33: =IF(OFFSET(N33,-1,)=N33,"〃",N33) -> 市道 | D33: =IF(OFFSET(O33,-1,)=O33,"〃",O33) -> 尾道市向島町5,201番地2先 | E33: 横断歩道 実線（白） | F33: 1 | G33: 13.9 | L33: 北西側から3m4縞、1.1+0.8m1縞更新（南東端除く） | M33: 第20-5-0454 | N33: 市道 | O33: 尾道市向島町5,201番地2先 | P33: =ASC(L33) -> 北西側から3m4縞､1.1+0.8m1縞更新(南東端除く)
A34: =IF(D33="","",IF(D34="〃",A33,A33+1)) -> 12 | B34: =IF(OFFSET(M34,-1,)=M34,"〃",M34) -> 〃 | C34: =IF(OFFSET(N34,-1,)=N34,"〃",N34) -> 〃 | D34: =IF(OFFSET(O34,-1,)=O34,"〃",O34) -> 〃 | E34: 横断歩道予告 図示（白） | F34: 2 | J34: 18 | L34: 北東側 予告縮小2個更新 | M34: 第20-5-0454 | N34: 市道 | O34: 尾道市向島町5,201番地2先 | P34: =ASC(L34) -> 北東側 予告縮小2個更新
A35: =IF(D34="","",IF(D35="〃",A34,A34+1)) -> 12 | B35: =IF(OFFSET(M35,-1,)=M35,"〃",M35) -> 〃 | C35: =IF(OFFSET(N35,-1,)=N35,"〃",N35) -> 〃 | D35: =IF(OFFSET(O35,-1,)=O35,"〃",O35) -> 〃 | E35: 停止線 実線（白） | F35: 1 | G35: 2.3 | L35: 南西側停止線2.3m新設 | M35: 第20-5-0454 | N35: 市道 | O35: 尾道市向島町5,201番地2先 | P35: =ASC(L35) -> 南西側停止線2.3m新設
A36: =IF(D35="","",IF(D36="〃",A35,A35+1)) -> 13 | B36: =IF(OFFSET(M36,-1,)=M36,"〃",M36) -> 第20-5-0856 | C36: =IF(OFFSET(N36,-1,)=N36,"〃",N36) -> 〃 | D36: =IF(OFFSET(O36,-1,)=O36,"〃",O36) -> 尾道市向島町5,206番地1先交差点 | E36: 横断歩道 実線（白） | F36: 1 | G36: 36 | L36: 東側 4m9縞更新 | M36: 第20-5-0856 | N36: 市道 | O36: 尾道市向島町5,206番地1先交差点 | P36: =ASC(L36) -> 東側 4m9縞更新
A37: =IF(D36="","",IF(D37="〃",A36,A36+1)) -> 13 | B37: =IF(OFFSET(M37,-1,)=M37,"〃",M37) -> 〃 | C37: =IF(OFFSET(N37,-1,)=N37,"〃",N37) -> 〃 | D37: =IF(OFFSET(O37,-1,)=O37,"〃",O37) -> 〃 | E37: 横断歩道予告 図示（白） | F37: 4 | J37: 36 | L37: 南側 予告縮小2個更新_x000D_ 東側 予告縮小2個更新 | M37: 第20-5-0856 | N37: 市道 | O37: 尾道市向島町5,206番地1先交差点 | P37: =ASC(L37) -> 南側 予告縮小2個更新_x000D_ 東側 予告縮小2個更新
A38: =IF(D37="","",IF(D38="〃",A37,A37+1)) -> 13 | B38: =IF(OFFSET(M38,-1,)=M38,"〃",M38) -> 〃 | C38: =IF(OFFSET(N38,-1,)=N38,"〃",N38) -> 〃 | D38: =IF(OFFSET(O38,-1,)=O38,"〃",O38) -> 〃 | E38: 停止線 実線（白） | F38: 2 | G38: 7.5 | L38: 東側 西側停止線4m新設（外側ドット線に付け足し）_x000D_ 東側 東側停止線3.5m更新 | M38: 第20-5-0856 | N38: 市道 | O38: 尾道市向島町5,206番地1先交差点 | P38: =ASC(L38) -> 東側 西側停止線4m新設(外側ﾄﾞｯﾄ線に付け足し)_x000D_ 東側 東側停止線3.5m更新
A39: =IF(D38="","",IF(D39="〃",A38,A38+1)) -> 14 | B39: =IF(OFFSET(M39,-1,)=M39,"〃",M39) -> 第20-5-0870 | C39: =IF(OFFSET(N39,-1,)=N39,"〃",N39) -> 〃 | D39: =IF(OFFSET(O39,-1,)=O39,"〃",O39) -> 尾道市向島町5,420番地1先交差点 | E39: 横断歩道予告 図示（白） | F39: 2 | J39: 18 | L39: 西側予告縮小2個更新 | M39: 第20-5-0870 | N39: 市道 | O39: 尾道市向島町5,420番地1先交差点 | P39: =ASC(L39) -> 西側予告縮小2個更新
A40: =IF(D39="","",IF(D40="〃",A39,A39+1)) -> 14 | B40: =IF(OFFSET(M40,-1,)=M40,"〃",M40) -> 〃 | C40: =IF(OFFSET(N40,-1,)=N40,"〃",N40) -> 〃 | D40: =IF(OFFSET(O40,-1,)=O40,"〃",O40) -> 〃 | E40: 停止線 実線（白） | F40: 1 | G40: 3.4 | L40: 東側停止線3.4m新設（縞端から8ｍ手前の位置） | M40: 第20-5-0870 | N40: 市道 | O40: 尾道市向島町5,420番地1先交差点 | P40: =ASC(L40) -> 東側停止線3.4m新設(縞端から8m手前の位置)
A41: =IF(D40="","",IF(D41="〃",A40,A40+1)) -> 15 | B41: =IF(OFFSET(M41,-1,)=M41,"〃",M41) -> 第20-5-0489 | C41: =IF(OFFSET(N41,-1,)=N41,"〃",N41) -> 県道（向島循環線） | D41: =IF(OFFSET(O41,-1,)=O41,"〃",O41) -> 尾道市向島町5,557番地147先（江尻橋東詰交差点） | E41: 横断歩道 実線（白） | F41: 2 | G41: 29 | L41: 南側 4m5縞（西側４縞除く）更新_x000D_ 東側 3m3縞（南側４縞除く）更新 | M41: 第20-5-0489 | N41: 県道（向島循環線） | O41: 尾道市向島町5,557番地147先（江尻橋東詰交差点） | P41: =ASC(L41) -> 南側 4m5縞(西側4縞除く)更新_x000D_ 東側 3m3縞(南側4縞除く)更新
A42: =IF(D41="","",IF(D42="〃",A41,A41+1)) -> 15 | B42: =IF(OFFSET(M42,-1,)=M42,"〃",M42) -> 〃 | C42: =IF(OFFSET(N42,-1,)=N42,"〃",N42) -> 〃 | D42: =IF(OFFSET(O42,-1,)=O42,"〃",O42) -> 〃 | E42: 停止線 実線（白） | F42: 1 | G42: 2.9 | L42: 西側 停止線2.9m更新 | M42: 第20-5-0489 | N42: 県道（向島循環線） | O42: 尾道市向島町5,557番地147先（江尻橋東詰交差点） | P42: =ASC(L42) -> 西側 停止線2.9m更新
A43: =IF(D42="","",IF(D43="〃",A42,A42+1)) -> 16 | B43: =IF(OFFSET(M43,-1,)=M43,"〃",M43) -> 第20-5-0503 | C43: =IF(OFFSET(N43,-1,)=N43,"〃",N43) -> 〃 | D43: =IF(OFFSET(O43,-1,)=O43,"〃",O43) -> 尾道市向島町5,557番地78北東角先（富浜交差点） | E43: 横断歩道 実線（白） | F43: 3 | G43: 39 | L43: 南側 3m3縞更新（西側5縞除く）_x000D_ 西側 3m3縞更新（南側4縞除く）_x000D_ 東側 3m7縞更新 | M43: 第20-5-0503 | N43: 県道（向島循環線） | O43: 尾道市向島町5,557番地78北東角先（富浜交差点） | P43: =ASC(L43) -> 南側 3m3縞更新(西側5縞除く)_x000D_ 西側 3m3縞更新(南側4縞除く)_x000D_ 東側 3m7縞更新
A44: =IF(D43="","",IF(D44="〃",A43,A43+1)) -> 16 | B44: =IF(OFFSET(M44,-1,)=M44,"〃",M44) -> 〃 | C44: =IF(OFFSET(N44,-1,)=N44,"〃",N44) -> 〃 | D44: =IF(OFFSET(O44,-1,)=O44,"〃",O44) -> 〃 | E44: 停止線 実線（白） | F44: 2 | G44: 5.6 | L44: 西側 停止線2.8m更新_x000D_ 東側 停止線2.8ｍ更新 | M44: 第20-5-0503 | N44: 県道（向島循環線） | O44: 尾道市向島町5,557番地78北東角先（富浜交差点） | P44: =ASC(L44) -> 西側 停止線2.8m更新_x000D_ 東側 停止線2.8m更新
A45: =IF(D44="","",IF(D45="〃",A44,A44+1)) -> 17 | B45: =IF(OFFSET(M45,-1,)=M45,"〃",M45) -> 第20-5-0876 | C45: =IF(OFFSET(N45,-1,)=N45,"〃",N45) -> 〃 | D45: =IF(OFFSET(O45,-1,)=O45,"〃",O45) -> 尾道市向島町5,581番地14南東角先交差点 | E45: 横断歩道 実線（白） | F45: 1 | G45: 16 | L45: 4m4縞（南側5縞除く）更新 | M45: 第20-5-0876 | N45: 県道（向島循環線） | O45: 尾道市向島町5,581番地14南東角先交差点 | P45: =ASC(L45) -> 4m4縞(南側5縞除く)更新
A46: =IF(D45="","",IF(D46="〃",A45,A45+1)) -> 17 | B46: =IF(OFFSET(M46,-1,)=M46,"〃",M46) -> 〃 | C46: =IF(OFFSET(N46,-1,)=N46,"〃",N46) -> 〃 | D46: =IF(OFFSET(O46,-1,)=O46,"〃",O46) -> 〃 | E46: 横断歩道予告 図示（白） | F46: 2 | J46: 18 | L46: 西側予告縮小2個更新 | M46: 第20-5-0876 | N46: 県道（向島循環線） | O46: 尾道市向島町5,581番地14南東角先交差点 | P46: =ASC(L46) -> 西側予告縮小2個更新
A47: =IF(D46="","",IF(D47="〃",A46,A46+1)) -> 17 | B47: =IF(OFFSET(M47,-1,)=M47,"〃",M47) -> 〃 | C47: =IF(OFFSET(N47,-1,)=N47,"〃",N47) -> 〃 | D47: =IF(OFFSET(O47,-1,)=O47,"〃",O47) -> 〃 | E47: 停止線 実線（白） | F47: 1 | G47: 2.6 | L47: 西側停止線2.6m更新 | M47: 第20-5-0876 | N47: 県道（向島循環線） | O47: 尾道市向島町5,581番地14南東角先交差点 | P47: =ASC(L47) -> 西側停止線2.6m更新
A48: =IF(D47="","",IF(D48="〃",A47,A47+1)) -> 18 | B48: =IF(OFFSET(M48,-1,)=M48,"〃",M48) -> 第20-5-0502 | C48: =IF(OFFSET(N48,-1,)=N48,"〃",N48) -> 〃 | D48: =IF(OFFSET(O48,-1,)=O48,"〃",O48) -> 尾道市向島町5,583番地4先（九軒島交差点） | E48: 横断歩道 実線（白） | F48: 4 | G48: 62 | L48: 北側 3m5縞更新（各縞4mのうち北端1mは更新も削除もなし）_x000D_ 西側 4m4縞（南側5縞除く）更新_x000D_ 南側 3m5縞更新（各縞4mのうち南端1mは更新も削除もなし）_x000D_ 東側 4m4縞（南側5縞除く）更新 | M48: 第20-5-0502 | N48: 県道（向島循環線） | O48: 尾道市向島町5,583番地4先（九軒島交差点） | P48: =ASC(L48) -> 北側 3m5縞更新(各縞4mのうち北端1mは更新も削除もなし)_x000D_ 西側 4m4縞(南側5縞除く)更新_x000D_ 南側 3m5縞更新(各縞4mのうち南端1mは更新も削除もなし)_x000D_ 東側 4m4縞(南側5縞除く)更新
A49: =IF(D48="","",IF(D49="〃",A48,A48+1)) -> 18 | B49: =IF(OFFSET(M49,-1,)=M49,"〃",M49) -> 〃 | C49: =IF(OFFSET(N49,-1,)=N49,"〃",N49) -> 〃 | D49: =IF(OFFSET(O49,-1,)=O49,"〃",O49) -> 〃 | E49: 停止線 実線（白） | F49: 3 | G49: 7.1 | L49: 北側 停止線2.4m更新_x000D_ 西側 停止線2.7m更新_x000D_ 南側 停止線2m更新 | M49: 第20-5-0502 | N49: 県道（向島循環線） | O49: 尾道市向島町5,583番地4先（九軒島交差点） | P49: =ASC(L49) -> 北側 停止線2.4m更新_x000D_ 西側 停止線2.7m更新_x000D_ 南側 停止線2m更新
A50: =IF(D49="","",IF(D50="〃",A49,A49+1)) -> 19 | B50: =IF(OFFSET(M50,-1,)=M50,"〃",M50) -> 第20-5-0516 | C50: =IF(OFFSET(N50,-1,)=N50,"〃",N50) -> 〃 | D50: =IF(OFFSET(O50,-1,)=O50,"〃",O50) -> 尾道市向島町5,584番地9先（歌島橋東詰交差点） | E50: 横断歩道 実線（白） | F50: 2 | G50: 37 | L50: 東側 4m4縞（南側5縞除く）更新_x000D_ 北側 3m7縞更新（各縞4mのうち北端1mは更新も削除もなし） | M50: 第20-5-0516 | N50: 県道（向島循環線） | O50: 尾道市向島町5,584番地9先（歌島橋東詰交差点） | P50: =ASC(L50) -> 東側 4m4縞(南側5縞除く)更新_x000D_ 北側 3m7縞更新(各縞4mのうち北端1mは更新も削除もなし)
A51: =IF(D50="","",IF(D51="〃",A50,A50+1)) -> 19 | B51: =IF(OFFSET(M51,-1,)=M51,"〃",M51) -> 〃 | C51: =IF(OFFSET(N51,-1,)=N51,"〃",N51) -> 〃 | D51: =IF(OFFSET(O51,-1,)=O51,"〃",O51) -> 〃 | E51: 停止線 実線（白） | F51: 2 | G51: 5.3 | L51: 北側 停止線2.4m更新_x000D_ 西側 停止線2.9m更新 | M51: 第20-5-0516 | N51: 県道（向島循環線） | O51: 尾道市向島町5,584番地9先（歌島橋東詰交差点） | P51: =ASC(L51) -> 北側 停止線2.4m更新_x000D_ 西側 停止線2.9m更新
A52: =IF(D51="","",IF(D52="〃",A51,A51+1)) -> 20 | B52: =IF(OFFSET(M52,-1,)=M52,"〃",M52) -> 第12-5-0598 | C52: =IF(OFFSET(N52,-1,)=N52,"〃",N52) -> 〃 | D52: =IF(OFFSET(O52,-1,)=O52,"〃",O52) -> 尾道市向島町5,600番地4先交差点（うたじま橋西詰） | E52: 止まれ文字 図示（白） | F52: 1 | J52: 13 | L52: 北側 標準文字2割分削除後縮小更新 | M52: 第12-5-0598 | N52: 県道（向島循環線） | O52: 尾道市向島町5,600番地4先交差点（うたじま橋西詰） | P52: =ASC(L52) -> 北側 標準文字2割分削除後縮小更新
A53: =IF(D52="","",IF(D53="〃",A52,A52+1)) -> 20 | B53: =IF(OFFSET(M53,-1,)=M53,"〃",M53) -> 〃 | C53: =IF(OFFSET(N53,-1,)=N53,"〃",N53) -> 〃 | D53: =IF(OFFSET(O53,-1,)=O53,"〃",O53) -> 〃 | E53: 停止線 実線（白） | F53: 1 | H53: 1.5 | L53: 北側 停止線1.5m更新 | M53: 第12-5-0598 | N53: 県道（向島循環線） | O53: 尾道市向島町5,600番地4先交差点（うたじま橋西詰） | P53: =ASC(L53) -> 北側 停止線1.5m更新
A54: =IF(D53="","",IF(D54="〃",A53,A53+1)) -> 20 | B54: =IF(OFFSET(M54,-1,)=M54,"〃",M54) -> 〃 | C54: =IF(OFFSET(N54,-1,)=N54,"〃",N54) -> 〃 | D54: =IF(OFFSET(O54,-1,)=O54,"〃",O54) -> 〃 | E54: (削)止まれ文字 図示（白） | F54: 1 | K54: 4 | M54: 第12-5-0598 | N54: 県道（向島循環線） | O54: 尾道市向島町5,600番地4先交差点（うたじま橋西詰） | P54: =ASC(L54)
A55: =IF(D54="","",IF(D55="〃",A54,A54+1)) -> 21 | B55: =IF(OFFSET(M55,-1,)=M55,"〃",M55) -> 第12-5-0599 | C55: =IF(OFFSET(N55,-1,)=N55,"〃",N55) -> 市道 | D55: =IF(OFFSET(O55,-1,)=O55,"〃",O55) -> 尾道市向島町5,718番地1先交差点 | E55: 止まれ文字 図示（白） | F55: 2 | J55: 26 | L55: 南側 止まれ文字縮小更新_x000D_ 北側 止まれ標準文字5割分削除後縮小更新 | M55: 第12-5-0599 | N55: 市道 | O55: 尾道市向島町5,718番地1先交差点 | P55: =ASC(L55) -> 南側 止まれ文字縮小更新_x000D_ 北側 止まれ標準文字5割分削除後縮小更新
A56: =IF(D55="","",IF(D56="〃",A55,A55+1)) -> 21 | B56: =IF(OFFSET(M56,-1,)=M56,"〃",M56) -> 〃 | C56: =IF(OFFSET(N56,-1,)=N56,"〃",N56) -> 〃 | D56: =IF(OFFSET(O56,-1,)=O56,"〃",O56) -> 〃 | E56: 停止線 実線（白） | F56: 2 | H56: 4.1 | L56: 南側 停止線2.3m更新_x000D_ 北側 停止線1.8m更新 | M56: 第12-5-0599 | N56: 市道 | O56: 尾道市向島町5,718番地1先交差点 | P56: =ASC(L56) -> 南側 停止線2.3m更新_x000D_ 北側 停止線1.8m更新
A57: =IF(D56="","",IF(D57="〃",A56,A56+1)) -> 21 | B57: =IF(OFFSET(M57,-1,)=M57,"〃",M57) -> 〃 | C57: =IF(OFFSET(N57,-1,)=N57,"〃",N57) -> 〃 | D57: =IF(OFFSET(O57,-1,)=O57,"〃",O57) -> 〃 | E57: (削)止まれ文字 図示（白） | F57: 1 | K57: 10 | M57: 第12-5-0599 | N57: 市道 | O57: 尾道市向島町5,718番地1先交差点 | P57: =ASC(L57)
A58: =IF(D57="","",IF(D58="〃",A57,A57+1)) -> 22 | B58: =IF(OFFSET(M58,-1,)=M58,"〃",M58) -> 第20-5-0500 | C58: =IF(OFFSET(N58,-1,)=N58,"〃",N58) -> 県道（向島循環線） | D58: =IF(OFFSET(O58,-1,)=O58,"〃",O58) -> 尾道市向島町5,718番地2先交差点 | E58: 横断歩道 実線（白） | F58: 1 | G58: 14 | L58: 3.5m4縞（北側５縞除く）更新 | M58: 第20-5-0500 | N58: 県道（向島循環線） | O58: 尾道市向島町5,718番地2先交差点 | P58: =ASC(L58) -> 3.5m4縞(北側5縞除く)更新
A59: =IF(D58="","",IF(D59="〃",A58,A58+1)) -> 22 | B59: =IF(OFFSET(M59,-1,)=M59,"〃",M59) -> 〃 | C59: =IF(OFFSET(N59,-1,)=N59,"〃",N59) -> 〃 | D59: =IF(OFFSET(O59,-1,)=O59,"〃",O59) -> 〃 | E59: 横断歩道予告 図示（白） | F59: 2 | J59: 18 | L59: 東側 予告縮小2個更新 | M59: 第20-5-0500 | N59: 県道（向島循環線） | O59: 尾道市向島町5,718番地2先交差点 | P59: =ASC(L59) -> 東側 予告縮小2個更新
A60: =IF(D59="","",IF(D60="〃",A59,A59+1)) -> 22 | B60: =IF(OFFSET(M60,-1,)=M60,"〃",M60) -> 〃 | C60: =IF(OFFSET(N60,-1,)=N60,"〃",N60) -> 〃 | D60: =IF(OFFSET(O60,-1,)=O60,"〃",O60) -> 〃 | E60: 停止線 実線（白） | F60: 1 | G60: 2.8 | L60: 東側停止線2.8m更新 | M60: 第20-5-0500 | N60: 県道（向島循環線） | O60: 尾道市向島町5,718番地2先交差点 | P60: =ASC(L60) -> 東側停止線2.8m更新
A61: =IF(D60="","",IF(D61="〃",A60,A60+1)) -> 23 | B61: =IF(OFFSET(M61,-1,)=M61,"〃",M61) -> 第20-5-0466 | C61: =IF(OFFSET(N61,-1,)=N61,"〃",N61) -> 国道317号 | D61: =IF(OFFSET(O61,-1,)=O61,"〃",O61) -> 尾道市向島町5,880番地21先 | E61: 横断歩道予告 図示（白） | F61: 2 | J61: 18 | L61: 北側予告縮小2個更新 | M61: 第20-5-0466 | N61: 国道317号 | O61: 尾道市向島町5,880番地21先 | P61: =ASC(L61) -> 北側予告縮小2個更新
A62: =IF(D61="","",IF(D62="〃",A61,A61+1)) -> 24 | B62: =IF(OFFSET(M62,-1,)=M62,"〃",M62) -> 第12-5-0594 | C62: =IF(OFFSET(N62,-1,)=N62,"〃",N62) -> 市道 | D62: =IF(OFFSET(O62,-1,)=O62,"〃",O62) -> 尾道市向島町5,898番地1先交差点 | E62: 止まれ文字 図示（白） | F62: 1 | J62: 13 | L62: 標準文字1割分削除後縮小更新 | M62: 第12-5-0594 | N62: 市道 | O62: 尾道市向島町5,898番地1先交差点 | P62: =ASC(L62) -> 標準文字1割分削除後縮小更新
A63: =IF(D62="","",IF(D63="〃",A62,A62+1)) -> 24 | B63: =IF(OFFSET(M63,-1,)=M63,"〃",M63) -> 〃 | C63: =IF(OFFSET(N63,-1,)=N63,"〃",N63) -> 〃 | D63: =IF(OFFSET(O63,-1,)=O63,"〃",O63) -> 〃 | E63: 停止線 実線（白） | F63: 1 | H63: 1.7 | L63: 停止線1.7m | M63: 第12-5-0594 | N63: 市道 | O63: 尾道市向島町5,898番地1先交差点 | P63: =ASC(L63) -> 停止線1.7m
A64: =IF(D63="","",IF(D64="〃",A63,A63+1)) -> 24 | B64: =IF(OFFSET(M64,-1,)=M64,"〃",M64) -> 〃 | C64: =IF(OFFSET(N64,-1,)=N64,"〃",N64) -> 〃 | D64: =IF(OFFSET(O64,-1,)=O64,"〃",O64) -> 〃 | E64: (削)止まれ文字 図示（白） | F64: 1 | K64: 2 | M64: 第12-5-0594 | N64: 市道 | O64: 尾道市向島町5,898番地1先交差点 | P64: =ASC(L64)
A65: =IF(D64="","",IF(D65="〃",A64,A64+1)) -> 25 | B65: =IF(OFFSET(M65,-1,)=M65,"〃",M65) -> 第20-5-0470 | C65: =IF(OFFSET(N65,-1,)=N65,"〃",N65) -> 国道317号 | D65: =IF(OFFSET(O65,-1,)=O65,"〃",O65) -> 尾道市向島町5,952番地1先（川尻交差点） | E65: 横断歩道 実線（白） | F65: 1 | G65: 32 | L65: 南側 4m8縞 | M65: 第20-5-0470 | N65: 国道317号 | O65: 尾道市向島町5,952番地1先（川尻交差点） | P65: =ASC(L65) -> 南側 4m8縞
A66: =IF(D65="","",IF(D66="〃",A65,A65+1)) -> 25 | B66: =IF(OFFSET(M66,-1,)=M66,"〃",M66) -> 〃 | C66: =IF(OFFSET(N66,-1,)=N66,"〃",N66) -> 〃 | D66: =IF(OFFSET(O66,-1,)=O66,"〃",O66) -> 〃 | E66: 停止線 実線（白） | F66: 2 | G66: 5.2 | L66: 南側停止線3.2m_x000D_ 西側停止線2m | M66: 第20-5-0470 | N66: 国道317号 | O66: 尾道市向島町5,952番地1先（川尻交差点） | P66: =ASC(L66) -> 南側停止線3.2m_x000D_ 西側停止線2m
A67: =IF(D66="","",IF(D67="〃",A66,A66+1)) -> 26 | B67: =IF(OFFSET(M67,-1,)=M67,"〃",M67) -> 第12-5-0679 | C67: =IF(OFFSET(N67,-1,)=N67,"〃",N67) -> 市道 | D67: =IF(OFFSET(O67,-1,)=O67,"〃",O67) -> 尾道市向島町539番地12北角先交差点 | E67: 止まれ文字 図示（白） | F67: 1 | J67: 20 | L67: 標準文字更新 | M67: 第12-5-0679 | N67: 市道 | O67: 尾道市向島町539番地12北角先交差点 | P67: =ASC(L67) -> 標準文字更新
A68: =IF(D67="","",IF(D68="〃",A67,A67+1)) -> 26 | B68: =IF(OFFSET(M68,-1,)=M68,"〃",M68) -> 〃 | C68: =IF(OFFSET(N68,-1,)=N68,"〃",N68) -> 〃 | D68: =IF(OFFSET(O68,-1,)=O68,"〃",O68) -> 〃 | E68: 停止線 実線（白） | F68: 1 | H68: 3.9 | L68: 停止線3.9m | M68: 第12-5-0679 | N68: 市道 | O68: 尾道市向島町539番地12北角先交差点 | P68: =ASC(L68) -> 停止線3.9m
A69: =IF(D68="","",IF(D69="〃",A68,A68+1)) -> 27 | B69: =IF(OFFSET(M69,-1,)=M69,"〃",M69) -> 第12-5-0685 | C69: =IF(OFFSET(N69,-1,)=N69,"〃",N69) -> 〃 | D69: =IF(OFFSET(O69,-1,)=O69,"〃",O69) -> 尾道市向島町6,840番地10南西方70メートル先交差点 | E69: 止まれ文字 図示（白） | F69: 1 | J69: 20 | L69: 止まれ標準文字更新 | M69: 第12-5-0685 | N69: 市道 | O69: 尾道市向島町6,840番地10南西方70メートル先交差点 | P69: =ASC(L69) -> 止まれ標準文字更新
A70: =IF(D69="","",IF(D70="〃",A69,A69+1)) -> 27 | B70: =IF(OFFSET(M70,-1,)=M70,"〃",M70) -> 〃 | C70: =IF(OFFSET(N70,-1,)=N70,"〃",N70) -> 〃 | D70: =IF(OFFSET(O70,-1,)=O70,"〃",O70) -> 〃 | E70: 停止線 実線（白） | F70: 1 | H70: 10.6 | L70: 停止線10.6m更新 | M70: 第12-5-0685 | N70: 市道 | O70: 尾道市向島町6,840番地10南西方70メートル先交差点 | P70: =ASC(L70) -> 停止線10.6m更新
A71: =IF(D70="","",IF(D71="〃",A70,A70+1)) -> 28 | B71: =IF(OFFSET(M71,-1,)=M71,"〃",M71) -> 第12-5-0639 | C71: =IF(OFFSET(N71,-1,)=N71,"〃",N71) -> 県道（向島循環線） | D71: =IF(OFFSET(O71,-1,)=O71,"〃",O71) -> 尾道市向島町8,883番地先交差点 | E71: 止まれ文字 図示（白） | F71: 2 | J71: 26 | L71: 南側 止まれ標準文字５割分削除後縮小更新_x000D_ 北側 止まれ標準文字削除なしで縮小更新 | M71: 第12-5-0639 | N71: 県道（向島循環線） | O71: 尾道市向島町8,883番地先交差点 | P71: =ASC(L71) -> 南側 止まれ標準文字5割分削除後縮小更新_x000D_ 北側 止まれ標準文字削除なしで縮小更新
A72: =IF(D71="","",IF(D72="〃",A71,A71+1)) -> 28 | B72: =IF(OFFSET(M72,-1,)=M72,"〃",M72) -> 〃 | C72: =IF(OFFSET(N72,-1,)=N72,"〃",N72) -> 〃 | D72: =IF(OFFSET(O72,-1,)=O72,"〃",O72) -> 〃 | E72: 停止線 実線（白） | F72: 2 | H72: 4.4 | L72: 南側停止線2.2m更新_x000D_ 北側停止線2.2m更新 | M72: 第12-5-0639 | N72: 県道（向島循環線） | O72: 尾道市向島町8,883番地先交差点 | P72: =ASC(L72) -> 南側停止線2.2m更新_x000D_ 北側停止線2.2m更新
A73: =IF(D72="","",IF(D73="〃",A72,A72+1)) -> 28 | B73: =IF(OFFSET(M73,-1,)=M73,"〃",M73) -> 〃 | C73: =IF(OFFSET(N73,-1,)=N73,"〃",N73) -> 〃 | D73: =IF(OFFSET(O73,-1,)=O73,"〃",O73) -> 〃 | E73: (削)止まれ文字 図示（白） | F73: 1 | K73: 10 | M73: 第12-5-0639 | N73: 県道（向島循環線） | O73: 尾道市向島町8,883番地先交差点 | P73: =ASC(L73)
A74: =IF(D73="","",IF(D74="〃",A73,A73+1)) -> 29 | B74: =IF(OFFSET(M74,-1,)=M74,"〃",M74) -> 第20-5-0501 | C74: =IF(OFFSET(N74,-1,)=N74,"〃",N74) -> 〃 | D74: =IF(OFFSET(O74,-1,)=O74,"〃",O74) -> 尾道市向島町9,025番地先（歌島橋西詰） | E74: 横断歩道 実線（白） | F74: 1 | G74: 16 | L74: 4m4縞（南側5縞除く）更新 | M74: 第20-5-0501 | N74: 県道（向島循環線） | O74: 尾道市向島町9,025番地先（歌島橋西詰） | P74: =ASC(L74) -> 4m4縞(南側5縞除く)更新
A75: =IF(D74="","",IF(D75="〃",A74,A74+1)) -> 29 | B75: =IF(OFFSET(M75,-1,)=M75,"〃",M75) -> 〃 | C75: =IF(OFFSET(N75,-1,)=N75,"〃",N75) -> 〃 | D75: =IF(OFFSET(O75,-1,)=O75,"〃",O75) -> 〃 | E75: 横断歩道予告 図示（白） | F75: 3 | J75: 27 | L75: 東側 予告縮小１個（近側のみ）新設_x000D_ 西側 予告縮小2個更新 | M75: 第20-5-0501 | N75: 県道（向島循環線） | O75: 尾道市向島町9,025番地先（歌島橋西詰） | P75: =ASC(L75) -> 東側 予告縮小1個(近側のみ)新設_x000D_ 西側 予告縮小2個更新
A76: =IF(D75="","",IF(D76="〃",A75,A75+1)) -> 29 | B76: =IF(OFFSET(M76,-1,)=M76,"〃",M76) -> 〃 | C76: =IF(OFFSET(N76,-1,)=N76,"〃",N76) -> 〃 | D76: =IF(OFFSET(O76,-1,)=O76,"〃",O76) -> 〃 | E76: 停止線 実線（白） | F76: 2 | G76: 5.9 | L76: 西側 停止線2.9m更新_x000D_ 東側 停止線を縞から2mの位置に３ｍで移設（削除なしで） | M76: 第20-5-0501 | N76: 県道（向島循環線） | O76: 尾道市向島町9,025番地先（歌島橋西詰） | P76: =ASC(L76) -> 西側 停止線2.9m更新_x000D_ 東側 停止線を縞から2mの位置に3mで移設(削除なしで)
A77: =IF(D76="","",IF(D77="〃",A76,A76+1)) -> 30 | B77: =IF(OFFSET(M77,-1,)=M77,"〃",M77) -> 第20-5-0863 | C77: =IF(OFFSET(N77,-1,)=N77,"〃",N77) -> 〃 | D77: =IF(OFFSET(O77,-1,)=O77,"〃",O77) -> 尾道市向島町9,048番地先交差点 | E77: 横断歩道 実線（白） | F77: 1 | G77: 20 | L77: 西側 4m5縞（北側5縞除く）更新 | M77: 第20-5-0863 | N77: 県道（向島循環線） | O77: 尾道市向島町9,048番地先交差点 | P77: =ASC(L77) -> 西側 4m5縞(北側5縞除く)更新
A78: =IF(D77="","",IF(D78="〃",A77,A77+1)) -> 30 | B78: =IF(OFFSET(M78,-1,)=M78,"〃",M78) -> 〃 | C78: =IF(OFFSET(N78,-1,)=N78,"〃",N78) -> 〃 | D78: =IF(OFFSET(O78,-1,)=O78,"〃",O78) -> 〃 | E78: 横断歩道予告 図示（白） | F78: 4 | J78: 36 | L78: 北東側予告縮小2個更新_x000D_ 東側予告縮小2個更新 | M78: 第20-5-0863 | N78: 県道（向島循環線） | O78: 尾道市向島町9,048番地先交差点 | P78: =ASC(L78) -> 北東側予告縮小2個更新_x000D_ 東側予告縮小2個更新
A79: =IF(D78="","",IF(D79="〃",A78,A78+1)) -> 30 | B79: =IF(OFFSET(M79,-1,)=M79,"〃",M79) -> 〃 | C79: =IF(OFFSET(N79,-1,)=N79,"〃",N79) -> 〃 | D79: =IF(OFFSET(O79,-1,)=O79,"〃",O79) -> 〃 | E79: 停止線 実線（白） | F79: 1 | G79: 3.1 | L79: 北東側停止線3.1m更新 | M79: 第20-5-0863 | N79: 県道（向島循環線） | O79: 尾道市向島町9,048番地先交差点 | P79: =ASC(L79) -> 北東側停止線3.1m更新
A80: =IF(D79="","",IF(D80="〃",A79,A79+1)) -> 31 | B80: =IF(OFFSET(M80,-1,)=M80,"〃",M80) -> 第20-5-0513 | C80: =IF(OFFSET(N80,-1,)=N80,"〃",N80) -> 県道 | D80: =IF(OFFSET(O80,-1,)=O80,"〃",O80) -> 尾道市向島町立花1,478番地先交差点 | E80: 横断歩道予告 図示（白） | F80: 4 | J80: 36 | L80: 南側予告縮小2個更新_x000D_ 北側予告縮小2個更新 | M80: 第20-5-0513 | N80: 県道 | O80: 尾道市向島町立花1,478番地先交差点 | P80: =ASC(L80) -> 南側予告縮小2個更新_x000D_ 北側予告縮小2個更新
A81: =IF(D80="","",IF(D81="〃",A80,A80+1)) -> 32 | B81: =IF(OFFSET(M81,-1,)=M81,"〃",M81) -> 第12-5-0360 | C81: =IF(OFFSET(N81,-1,)=N81,"〃",N81) -> 市道 | D81: =IF(OFFSET(O81,-1,)=O81,"〃",O81) -> 尾道市向東町1,007番地3先交差点 | E81: 止まれ文字 図示（白） | F81: 1 | J81: 20 | L81: 標準文字更新 | M81: 第12-5-0360 | N81: 市道 | O81: 尾道市向東町1,007番地3先交差点 | P81: =ASC(L81) -> 標準文字更新
A82: =IF(D81="","",IF(D82="〃",A81,A81+1)) -> 32 | B82: =IF(OFFSET(M82,-1,)=M82,"〃",M82) -> 〃 | C82: =IF(OFFSET(N82,-1,)=N82,"〃",N82) -> 〃 | D82: =IF(OFFSET(O82,-1,)=O82,"〃",O82) -> 〃 | E82: 停止線 実線（白） | F82: 1 | H82: 4 | L82: 停止線4m更新 | M82: 第12-5-0360 | N82: 市道 | O82: 尾道市向東町1,007番地3先交差点 | P82: =ASC(L82) -> 停止線4m更新
A83: =IF(D82="","",IF(D83="〃",A82,A82+1)) -> 33 | B83: =IF(OFFSET(M83,-1,)=M83,"〃",M83) -> 第12-5-0093 | C83: =IF(OFFSET(N83,-1,)=N83,"〃",N83) -> 〃 | D83: =IF(OFFSET(O83,-1,)=O83,"〃",O83) -> 尾道市向東町1,011番地6先交差点 | E83: 止まれ文字 図示（白） | F83: 1 | J83: 20 | L83: 止まれ標準文字更新 | M83: 第12-5-0093 | N83: 市道 | O83: 尾道市向東町1,011番地6先交差点 | P83: =ASC(L83) -> 止まれ標準文字更新
A84: =IF(D83="","",IF(D84="〃",A83,A83+1)) -> 33 | B84: =IF(OFFSET(M84,-1,)=M84,"〃",M84) -> 〃 | C84: =IF(OFFSET(N84,-1,)=N84,"〃",N84) -> 〃 | D84: =IF(OFFSET(O84,-1,)=O84,"〃",O84) -> 〃 | E84: 停止線 実線（白） | F84: 1 | H84: 2.7 | L84: 停止線2.7m更新 | M84: 第12-5-0093 | N84: 市道 | O84: 尾道市向東町1,011番地6先交差点 | P84: =ASC(L84) -> 停止線2.7m更新
A85: =IF(D84="","",IF(D85="〃",A84,A84+1)) -> 34 | B85: =IF(OFFSET(M85,-1,)=M85,"〃",M85) -> 第20-5-0109 | C85: =IF(OFFSET(N85,-1,)=N85,"〃",N85) -> 〃 | D85: =IF(OFFSET(O85,-1,)=O85,"〃",O85) -> 尾道市向東町14,702番地52先交差点 | E85: 横断歩道予告 図示（白） | F85: 4 | J85: 36 | L85: 北側 予告縮小2個更新_x000D_ 南西側 予告縮小2個更新 | M85: 第20-5-0109 | N85: 市道 | O85: 尾道市向東町14,702番地52先交差点 | P85: =ASC(L85) -> 北側 予告縮小2個更新_x000D_ 南西側 予告縮小2個更新
A86: =IF(D85="","",IF(D86="〃",A85,A85+1)) -> 35 | B86: =IF(OFFSET(M86,-1,)=M86,"〃",M86) -> 第20-5-0131 | C86: =IF(OFFSET(N86,-1,)=N86,"〃",N86) -> 〃 | D86: =IF(OFFSET(O86,-1,)=O86,"〃",O86) -> 尾道市向東町14,703番地118先交差点 | E86: 横断歩道 実線（白） | F86: 1 | G86: 12 | L86: 南側2.5m部分（合計4.3m分）を削除後、残る北側1.5m部分北側に1.5m足して3m4縞で更新 | M86: 第20-5-0131 | N86: 市道 | O86: 尾道市向東町14,703番地118先交差点 | P86: =ASC(L86) -> 南側2.5m部分(合計4.3m分)を削除後､残る北側1.5m部分北側に1.5m足して3m4縞で更新
A87: =IF(D86="","",IF(D87="〃",A86,A86+1)) -> 35 | B87: =IF(OFFSET(M87,-1,)=M87,"〃",M87) -> 〃 | C87: =IF(OFFSET(N87,-1,)=N87,"〃",N87) -> 〃 | D87: =IF(OFFSET(O87,-1,)=O87,"〃",O87) -> 〃 | E87: 横断歩道予告 図示（白） | F87: 4 | J87: 36 | L87: 北側 予告縮小2個更新_x000D_ 南側 予告縮小2個更新 | M87: 第20-5-0131 | N87: 市道 | O87: 尾道市向東町14,703番地118先交差点 | P87: =ASC(L87) -> 北側 予告縮小2個更新_x000D_ 南側 予告縮小2個更新
A88: =IF(D87="","",IF(D88="〃",A87,A87+1)) -> 35 | B88: =IF(OFFSET(M88,-1,)=M88,"〃",M88) -> 〃 | C88: =IF(OFFSET(N88,-1,)=N88,"〃",N88) -> 〃 | D88: =IF(OFFSET(O88,-1,)=O88,"〃",O88) -> 〃 | E88: 停止線 実線（白） | F88: 2 | G88: 3.8 | L88: 北側停止線0.4m分削除後1.5m北方へ1.9mで移設_x000D_ 南側停止線1.9m更新 | M88: 第20-5-0131 | N88: 市道 | O88: 尾道市向東町14,703番地118先交差点 | P88: =ASC(L88) -> 北側停止線0.4m分削除後1.5m北方へ1.9mで移設_x000D_ 南側停止線1.9m更新
A89: =IF(D88="","",IF(D89="〃",A88,A88+1)) -> 35 | B89: =IF(OFFSET(M89,-1,)=M89,"〃",M89) -> 〃 | C89: =IF(OFFSET(N89,-1,)=N89,"〃",N89) -> 〃 | D89: =IF(OFFSET(O89,-1,)=O89,"〃",O89) -> 〃 | E89: (削)横断歩道 実線（白） | F89: 1 | K89: 12.9 | M89: 第20-5-0131 | N89: 市道 | O89: 尾道市向東町14,703番地118先交差点 | P89: =ASC(L89)
A90: =IF(D89="","",IF(D90="〃",A89,A89+1)) -> 35 | B90: =IF(OFFSET(M90,-1,)=M90,"〃",M90) -> 〃 | C90: =IF(OFFSET(N90,-1,)=N90,"〃",N90) -> 〃 | D90: =IF(OFFSET(O90,-1,)=O90,"〃",O90) -> 〃 | E90: (削)停止線 実線（白） | F90: 1 | K90: 1.2 | M90: 第20-5-0131 | N90: 市道 | O90: 尾道市向東町14,703番地118先交差点 | P90: =ASC(L90)
A91: =IF(D90="","",IF(D91="〃",A90,A90+1)) -> 35 | B91: =IF(OFFSET(M91,-1,)=M91,"〃",M91) -> 0 | C91: =IF(OFFSET(N91,-1,)=N91,"〃",N91) -> 〃 | D91: =IF(OFFSET(O91,-1,)=O91,"〃",O91) -> 〃 | E91: その他 線 | F91: 2 | I91: 4 | L91: 両側外側線2m×２新設 | N91: 市道 | O91: 尾道市向東町14,703番地118先交差点 | P91: =ASC(L91) -> 両側外側線2m×2新設
A92: =IF(D91="","",IF(D92="〃",A91,A91+1)) -> 36 | B92: =IF(OFFSET(M92,-1,)=M92,"〃",M92) -> 第20-5-0420 | C92: =IF(OFFSET(N92,-1,)=N92,"〃",N92) -> 国道317号 | D92: =IF(OFFSET(O92,-1,)=O92,"〃",O92) -> 尾道市向東町177番地2南西方50メートル先（大原（南）交差点） | E92: 横断歩道 実線（白） | F92: 1 | G92: 51.5 | L92: 東側 北から1.5m1縞2m1縞（削除なし）4m12縞更新 | M92: 第20-5-0420 | N92: 国道317号 | O92: 尾道市向東町177番地2南西方50メートル先（大原（南）交差点） | P92: =ASC(L92) -> 東側 北から1.5m1縞2m1縞(削除なし)4m12縞更新
A93: =IF(D92="","",IF(D93="〃",A92,A92+1)) -> 36 | B93: =IF(OFFSET(M93,-1,)=M93,"〃",M93) -> 〃 | C93: =IF(OFFSET(N93,-1,)=N93,"〃",N93) -> 〃 | D93: =IF(OFFSET(O93,-1,)=O93,"〃",O93) -> 〃 | E93: 停止線 実線（白） | F93: 3 | G93: 15 | L93: 東側 停止線2.9m_x000D_ 北側 停止線7.9m_x000D_ 南側 停止線4.2m更新 | M93: 第20-5-0420 | N93: 国道317号 | O93: 尾道市向東町177番地2南西方50メートル先（大原（南）交差点） | P93: =ASC(L93) -> 東側 停止線2.9m_x000D_ 北側 停止線7.9m_x000D_ 南側 停止線4.2m更新
A94: =IF(D93="","",IF(D94="〃",A93,A93+1)) -> 37 | B94: =IF(OFFSET(M94,-1,)=M94,"〃",M94) -> 第20-5-0317 | C94: =IF(OFFSET(N94,-1,)=N94,"〃",N94) -> 市道 | D94: =IF(OFFSET(O94,-1,)=O94,"〃",O94) -> 尾道市向東町3,504番地6先交差点 | E94: 横断歩道 実線（白） | F94: 2 | G94: 40.5 | L94: 南側 3.5m6縞更新_x000D_ 東側 北から1.7ｍ1縞3m3縞0.5＋2.3m1縞3m2縞更新（停止線側1m1縞削除） | M94: 第20-5-0317 | N94: 市道 | O94: 尾道市向東町3,504番地6先交差点 | P94: =ASC(L94) -> 南側 3.5m6縞更新_x000D_ 東側 北から1.7m1縞3m3縞0.5+2.3m1縞3m2縞更新(停止線側1m1縞削除)
A95: =IF(D94="","",IF(D95="〃",A94,A94+1)) -> 37 | B95: =IF(OFFSET(M95,-1,)=M95,"〃",M95) -> 〃 | C95: =IF(OFFSET(N95,-1,)=N95,"〃",N95) -> 〃 | D95: =IF(OFFSET(O95,-1,)=O95,"〃",O95) -> 〃 | E95: 横断歩道予告 図示（白） | F95: 4 | J95: 36 | L95: 西側予告縮小2個更新_x000D_ 東側予告縮小2個更新 | M95: 第20-5-0317 | N95: 市道 | O95: 尾道市向東町3,504番地6先交差点 | P95: =ASC(L95) -> 西側予告縮小2個更新_x000D_ 東側予告縮小2個更新
A96: =IF(D95="","",IF(D96="〃",A95,A95+1)) -> 37 | B96: =IF(OFFSET(M96,-1,)=M96,"〃",M96) -> 〃 | C96: =IF(OFFSET(N96,-1,)=N96,"〃",N96) -> 〃 | D96: =IF(OFFSET(O96,-1,)=O96,"〃",O96) -> 〃 | E96: 停止線 実線（白） | F96: 3 | G96: 8.5 | L96: 南側停止線2.6ｍ更新_x000D_ 東側停止線2.6m更新_x000D_ 西側停止線3.3m更新 | M96: 第20-5-0317 | N96: 市道 | O96: 尾道市向東町3,504番地6先交差点 | P96: =ASC(L96) -> 南側停止線2.6m更新_x000D_ 東側停止線2.6m更新_x000D_ 西側停止線3.3m更新
A97: =IF(D96="","",IF(D97="〃",A96,A96+1)) -> 37 | B97: =IF(OFFSET(M97,-1,)=M97,"〃",M97) -> 〃 | C97: =IF(OFFSET(N97,-1,)=N97,"〃",N97) -> 〃 | D97: =IF(OFFSET(O97,-1,)=O97,"〃",O97) -> 〃 | E97: (削)横断歩道 実線（白） | F97: 1 | K97: 3 | M97: 第20-5-0317 | N97: 市道 | O97: 尾道市向東町3,504番地6先交差点 | P97: =ASC(L97)
A98: =IF(D97="","",IF(D98="〃",A97,A97+1)) -> 38 | B98: =IF(OFFSET(M98,-1,)=M98,"〃",M98) -> 第12-5-0499 | C98: =IF(OFFSET(N98,-1,)=N98,"〃",N98) -> 〃 | D98: =IF(OFFSET(O98,-1,)=O98,"〃",O98) -> 尾道市向東町8,619番地4先交差点 | E98: 止まれ文字 図示（白） | F98: 2 | J98: 26 | L98: 北側 標準文字5割分削除後縮小更新_x000D_ 南側 標準文字全削除後縮小更新 | M98: 第12-5-0499 | N98: 市道 | O98: 尾道市向東町8,619番地4先交差点 | P98: =ASC(L98) -> 北側 標準文字5割分削除後縮小更新_x000D_ 南側 標準文字全削除後縮小更新
A99: =IF(D98="","",IF(D99="〃",A98,A98+1)) -> 38 | B99: =IF(OFFSET(M99,-1,)=M99,"〃",M99) -> 〃 | C99: =IF(OFFSET(N99,-1,)=N99,"〃",N99) -> 〃 | D99: =IF(OFFSET(O99,-1,)=O99,"〃",O99) -> 〃 | E99: 停止線 実線（白） | F99: 2 | H99: 3 | L99: 北側停止線1.5m更新_x000D_ 南側停止線1.5m更新 | M99: 第12-5-0499 | N99: 市道 | O99: 尾道市向東町8,619番地4先交差点 | P99: =ASC(L99) -> 北側停止線1.5m更新_x000D_ 南側停止線1.5m更新
A100: =IF(D99="","",IF(D100="〃",A99,A99+1)) -> 38 | B100: =IF(OFFSET(M100,-1,)=M100,"〃",M100) -> 〃 | C100: =IF(OFFSET(N100,-1,)=N100,"〃",N100) -> 〃 | D100: =IF(OFFSET(O100,-1,)=O100,"〃",O100) -> 〃 | E100: (削)止まれ文字 図示（白） | F100: 2 | K100: 30 | M100: 第12-5-0499 | N100: 市道 | O100: 尾道市向東町8,619番地4先交差点 | P100: =ASC(L100)
...

Sheet 場所表_三原_新規
B1: 新規 | D1: ="("&表紙等_署用!H1&")" -> (№ 8-32) | J1: 三原 | K1: 文字の折り返しで行高さがおかしくならないように、最終的な出力セルより幅を大きくしてあります。
B2: 整理番号 （規制番号） | C2: 区分 | D2: 道路種別 | E2: 場所・区間 | F2: 標示種別 | H2: 事業量 | K2: 整理番号 （規制番号） | L2: 道路種別 | M2: 場所・区間
F3: 横断歩道本数 記号文字個数 | G3: 数 | H3: 実線１５㎝幅 | I3: 削除 | J3: 備考(縞数、方向等)
H4: m | I4: m
A5: 1 | B5: =K5 -> 261190076 | C5: =IF(B5="〃","〃","新規") -> 新規 | D5: =L5 -> 市道 | E5: =M5 -> 三原市円一町5丁目4番14号先 | F5: (削)速度文字（３０） 図示（黄） | G5: 1 | I5: 16 | J5: 規制廃止 | K5: 261190076 | L5: 市道 | M5: 三原市円一町5丁目4番14号先 | N5: =ASC(J5) -> 規制廃止
A6: =IF(E5="","",IF(E6="〃",A5,A5+1)) -> 2 | B6: =IF(OFFSET(K6,-1,)=K6,"〃",K6) -> 〃 | C6: =IF(B6="〃","〃","新規") -> 〃 | D6: =IF(OFFSET(L6,-1,)=L6,"〃",L6) -> 〃 | E6: =IF(OFFSET(M6,-1,)=M6,"〃",M6) -> 三原市円一町5丁目5番1号先 | F6: (削)速度文字（３０） 図示（黄） | G6: 1 | I6: 16 | J6: 規制廃止 | K6: 261190076 | L6: 市道 | M6: 三原市円一町5丁目5番1号先 | N6: =ASC(J6) -> 規制廃止
A7: =IF(E6="","",IF(E7="〃",A6,A6+1)) -> 3 | B7: =IF(OFFSET(K7,-1,)=K7,"〃",K7) -> 〃 | C7: =IF(B7="〃","〃","新規") -> 〃 | D7: =IF(OFFSET(L7,-1,)=L7,"〃",L7) -> 〃 | E7: =IF(OFFSET(M7,-1,)=M7,"〃",M7) -> 三原市円一町5丁目7番11号先 | F7: (削)速度文字（３０） 図示（黄） | G7: 1 | I7: 16 | J7: 規制廃止 | K7: 261190076 | L7: 市道 | M7: 三原市円一町5丁目7番11号先 | N7: =ASC(J7) -> 規制廃止
A8: =IF(E7="","",IF(E8="〃",A7,A7+1)) -> 4 | B8: =IF(OFFSET(K8,-1,)=K8,"〃",K8) -> 〃 | C8: =IF(B8="〃","〃","新規") -> 〃 | D8: =IF(OFFSET(L8,-1,)=L8,"〃",L8) -> 〃 | E8: =IF(OFFSET(M8,-1,)=M8,"〃",M8) -> 三原市円一町5丁目7番23号先 | F8: (削)速度文字（３０） 図示（黄） | G8: 1 | I8: 16 | J8: 規制廃止 | K8: 261190076 | L8: 市道 | M8: 三原市円一町5丁目7番23号先 | N8: =ASC(J8) -> 規制廃止
A9: =IF(E8="","",IF(E9="〃",A8,A8+1)) -> 5 | B9: =IF(OFFSET(K9,-1,)=K9,"〃",K9) -> 〃 | C9: =IF(B9="〃","〃","新規") -> 〃 | D9: =IF(OFFSET(L9,-1,)=L9,"〃",L9) -> 〃 | E9: =IF(OFFSET(M9,-1,)=M9,"〃",M9) -> 三原市円一町5丁目8番11号先 | F9: (削)速度文字（３０） 図示（黄） | G9: 1 | I9: 16 | J9: 規制廃止 | K9: 261190076 | L9: 市道 | M9: 三原市円一町5丁目8番11号先 | N9: =ASC(J9) -> 規制廃止
A10: =IF(E9="","",IF(E10="〃",A9,A9+1)) -> 6 | B10: =IF(OFFSET(K10,-1,)=K10,"〃",K10) -> 〃 | C10: =IF(B10="〃","〃","新規") -> 〃 | D10: =IF(OFFSET(L10,-1,)=L10,"〃",L10) -> 〃 | E10: =IF(OFFSET(M10,-1,)=M10,"〃",M10) -> 三原市円一町5丁目8番1号先 | F10: (削)速度文字（３０） 図示（黄） | G10: 1 | I10: 16 | J10: 規制廃止 | K10: 261190076 | L10: 市道 | M10: 三原市円一町5丁目8番1号先 | N10: =ASC(J10) -> 規制廃止
A11: =IF(E10="","",IF(E11="〃",A10,A10+1)) -> 7 | B11: =IF(OFFSET(K11,-1,)=K11,"〃",K11) -> 〃 | C11: =IF(B11="〃","〃","新規") -> 〃 | D11: =IF(OFFSET(L11,-1,)=L11,"〃",L11) -> 〃 | E11: =IF(OFFSET(M11,-1,)=M11,"〃",M11) -> 三原市円一町5丁目8番22号先 | F11: (削)速度文字（３０） 図示（黄） | G11: 1 | I11: 16 | J11: 規制廃止 | K11: 261190076 | L11: 市道 | M11: 三原市円一町5丁目8番22号先 | N11: =ASC(J11) -> 規制廃止
A12: =IF(E11="","",IF(E12="〃",A11,A11+1)) -> 8 | B12: =IF(OFFSET(K12,-1,)=K12,"〃",K12) -> 261190072 | C12: =IF(B12="〃","〃","新規") -> 新規 | D12: =IF(OFFSET(L12,-1,)=L12,"〃",L12) -> 県道 | E12: =IF(OFFSET(M12,-1,)=M12,"〃",M12) -> 三原市久井町江木130番地4先交差点 | F12: (削)横断歩道 実線（白） | G12: 1 | I12: 36 | J12: 4縞（45㎝幅×3m）削除 | K12: 261190072 | L12: 県道 | M12: 三原市久井町江木130番地4先交差点 | N12: =ASC(J12) -> 4縞(45㎝幅×3m)削除
A13: =IF(E12="","",IF(E13="〃",A12,A12+1)) -> 8 | B13: =IF(OFFSET(K13,-1,)=K13,"〃",K13) -> 〃 | C13: =IF(B13="〃","〃","新規") -> 〃 | D13: =IF(OFFSET(L13,-1,)=L13,"〃",L13) -> 〃 | E13: =IF(OFFSET(M13,-1,)=M13,"〃",M13) -> 〃 | F13: (削)横断歩道予告 図示（白） | G13: 5 | I13: 45 | J13: 予告マーク 東側1個目 削除_x000D_ 予告マーク 東側２個目 削除_x000D_ 予告マーク 西側1個目 削除_x000D_ 予告マーク 西側２個目 削除_x000D_ 予告マーク 西側３個目 削除 | K13: 261190072 | L13: 県道 | M13: 三原市久井町江木130番地4先交差点 | N13: =ASC(J13) -> 予告ﾏｰｸ 東側1個目 削除_x000D_ 予告ﾏｰｸ 東側2個目 削除_x000D_ 予告ﾏｰｸ 西側1個目 削除_x000D_ 予告ﾏｰｸ 西側2個目 削除_x000D_ 予告ﾏｰｸ 西側3個目 削除
A14: =IF(E13="","",IF(E14="〃",A13,A13+1)) -> 8 | B14: =IF(OFFSET(K14,-1,)=K14,"〃",K14) -> 〃 | C14: =IF(B14="〃","〃","新規") -> 〃 | D14: =IF(OFFSET(L14,-1,)=L14,"〃",L14) -> 〃 | E14: =IF(OFFSET(M14,-1,)=M14,"〃",M14) -> 〃 | F14: (削)停止線 実線（白） | G14: 2 | I14: 10 | J14: 東側停止線 30㎝幅×2.5m 削除_x000D_ 西側停止線 30㎝幅×2.5m 削除 | K14: 261190072 | L14: 県道 | M14: 三原市久井町江木130番地4先交差点 | N14: =ASC(J14) -> 東側停止線 30㎝幅×2.5m 削除_x000D_ 西側停止線 30㎝幅×2.5m 削除
A15: =IF(E14="","",IF(E15="〃",A14,A14+1)) -> 9 | B15: =IF(OFFSET(K15,-1,)=K15,"〃",K15) -> 〃 | C15: =IF(B15="〃","〃","新規") -> 〃 | D15: =IF(OFFSET(L15,-1,)=L15,"〃",L15) -> 〃 | E15: =IF(OFFSET(M15,-1,)=M15,"〃",M15) -> 三原市久井町江木156番地2先交差点 | F15: (削)横断歩道 実線（白） | G15: 1 | I15: 45 | J15: 5縞（45㎝×3m）削除 | K15: 261190072 | L15: 県道 | M15: 三原市久井町江木156番地2先交差点 | N15: =ASC(J15) -> 5縞(45㎝×3m)削除
A16: =IF(E15="","",IF(E16="〃",A15,A15+1)) -> 9 | B16: =IF(OFFSET(K16,-1,)=K16,"〃",K16) -> 〃 | C16: =IF(B16="〃","〃","新規") -> 〃 | D16: =IF(OFFSET(L16,-1,)=L16,"〃",L16) -> 〃 | E16: =IF(OFFSET(M16,-1,)=M16,"〃",M16) -> 〃 | F16: (削)横断歩道予告 図示（白） | G16: 4 | I16: 36 | J16: 交差点西側 予告マーク1個目削除_x000D_ 交差点西側 予告マーク２個目削除_x000D_ 交差点東側 予告マーク1個目削除_x000D_ 交差点西側 予告マーク２個目削除 | K16: 261190072 | L16: 県道 | M16: 三原市久井町江木156番地2先交差点 | N16: =ASC(J16) -> 交差点西側 予告ﾏｰｸ1個目削除_x000D_ 交差点西側 予告ﾏｰｸ2個目削除_x000D_ 交差点東側 予告ﾏｰｸ1個目削除_x000D_ 交差点西側 予告ﾏｰｸ2個目削除
A17: =IF(E16="","",IF(E17="〃",A16,A16+1)) -> 9 | B17: =IF(OFFSET(K17,-1,)=K17,"〃",K17) -> 〃 | C17: =IF(B17="〃","〃","新規") -> 〃 | D17: =IF(OFFSET(L17,-1,)=L17,"〃",L17) -> 〃 | E17: =IF(OFFSET(M17,-1,)=M17,"〃",M17) -> 〃 | F17: (削)停止線 実線（白） | G17: 2 | I17: 14 | J17: 交差点西側 停止線：30㎝幅×3.5m削除_x000D_ 交差点東側 停止線：30㎝幅×3.5m削除 | K17: 261190072 | L17: 県道 | M17: 三原市久井町江木156番地2先交差点 | N17: =ASC(J17) -> 交差点西側 停止線:30㎝幅×3.5m削除_x000D_ 交差点東側 停止線:30㎝幅×3.5m削除
... A21: =IF(E20="","",IF(E21="〃",A20,A20+1)) -> 11 | B21: =IF(OFFSET(K21,-1,)=K21,"〃",K21) -> 〃 | C21: =IF(B21="〃","〃","新規") -> 〃 | D21: =IF(OFFSET(L21,-1,)=L21,"〃",L21) -> 市道 | E21: =IF(OFFSET(M21,-1,)=M21,"〃",M21) -> 三原市久井町土取1,040番地2北東方80メートル先交差点 | F21: (削)停止線 実線（白） | G21: 1 | I21: 3 | J21: 停止線（30㎝幅×1.5m※残っている部分のみ）削除 | K21: 261190072 | L21: 市道 | M21: 三原市久井町土取1,040番地2北東方80メートル先交差点 | N21: =ASC(J21) -> 停止線(30㎝幅×1.5m※残っている部分のみ)削除
A22: =IF(E21="","",IF(E22="〃",A21,A21+1)) -> 12 | B22: =IF(OFFSET(K22,-1,)=K22,"〃",K22) -> 261190072_x000D_ (第9-9-0030) | C22: =IF(B22="〃","〃","新規") -> 新規 | D22: =IF(OFFSET(L22,-1,)=L22,"〃",L22) -> 県道(瀬野川福富本郷線) | E22: =IF(OFFSET(M22,-1,)=M22,"〃",M22) -> 三原市本郷町船木1,404番地1先 | F22: はみ出し通行禁止 実線（黄） | G22: 1 | H22: 5 | J22: 横断歩道(20-4-544）廃止に伴う、黄色実線の修繕 | K22: 261190072_x000D_ (第9-9-0030) | L22: 県道(瀬野川福富本郷線) | M22: 三原市本郷町船木1,404番地1先 | N22: =ASC(J22) -> 横断歩道(20-4-544)廃止に伴う､黄色実線の修繕
A23: =IF(E22="","",IF(E23="〃",A22,A22+1)) -> 12 | B23: =IF(OFFSET(K23,-1,)=K23,"〃",K23) -> 261190072 | C23: =IF(B23="〃","〃","新規") -> 新規 | D23: =IF(OFFSET(L23,-1,)=L23,"〃",L23) -> 〃 | E23: =IF(OFFSET(M23,-1,)=M23,"〃",M23) -> 〃 | F23: (削)横断歩道 実線（白） | G23: 1 | I23: 72 | J23: 8縞（45㎝幅×3m）削除 | K23: 261190072 | L23: 県道(瀬野川福富本郷線) | M23: 三原市本郷町船木1,404番地1先 | N23: =ASC(J23) -> 8縞(45㎝幅×3m)削除
A24: =IF(E23="","",IF(E24="〃",A23,A23+1)) -> 12 | B24: =IF(OFFSET(K24,-1,)=K24,"〃",K24) -> 〃 | C24: =IF(B24="〃","〃","新規") -> 〃 | D24: =IF(OFFSET(L24,-1,)=L24,"〃",L24) -> 〃 | E24: =IF(OFFSET(M24,-1,)=M24,"〃",M24) -> 〃 | F24: (削)横断歩道予告 図示（白） | G24: 2 | I24: 18 | J24: 交差点北側 予告マーク（新）1個目削除_x000D_ 交差点北側 予告マーク（新）2個目削除 | K24: 261190072 | L24: 県道(瀬野川福富本郷線) | M24: 三原市本郷町船木1,404番地1先 | N24: =ASC(J24) -> 交差点北側 予告ﾏｰｸ(新)1個目削除_x000D_ 交差点北側 予告ﾏｰｸ(新)2個目削除
A25: =IF(E24="","",IF(E25="〃",A24,A24+1)) -> 12 | B25: =IF(OFFSET(K25,-1,)=K25,"〃",K25) -> 〃 | C25: =IF(B25="〃","〃","新規") -> 〃 | D25: =IF(OFFSET(L25,-1,)=L25,"〃",L25) -> 〃 | E25: =IF(OFFSET(M25,-1,)=M25,"〃",M25) -> 〃 | F25: (削)停止線 実線（白） | G25: 2 | I25: 14 | J25: 交差点北側 停止線（30㎝幅×3.5m）削除_x000D_ 交差点南側 停止線（30㎝幅×3.5m）削除 | K25: 261190072 | L25: 県道(瀬野川福富本郷線) | M25: 三原市本郷町船木1,404番地1先 | N25: =ASC(J25) -> 交差点北側 停止線(30㎝幅×3.5m)削除_x000D_ 交差点南側 停止線(30㎝幅×3.5m)削除
B26: =警察署名 -> 三原 | E26: 新規合計 | F26: 12 | H26: =IF(ISERROR(FIND("図示", H3)), IF(ISERROR(FIND("削除", H3)), SUMPRODUCT((ISNUMBER(FIND("横断歩道 実線",$F5:$F25)))*(H5:H25<>""), $G5:$G25), 0), SUMIF(H5:H25,">0",$G5:$G25)) -> 0 | I26: =IF(ISERROR(FIND("図示", I3)), IF(ISERROR(FIND("削除", I3)), SUMPRODUCT((ISNUMBER(FIND("横断歩道 実線",$F5:$F25)))*(I5:I25<>""), $G5:$G25), 0), SUMIF(I5:I25,">0",$G5:$G25)) -> 0
H27: =SUM(H5:H25) -> 5 | I27: =SUM(I5:I25) -> 479

Sheet 場所表_三原_更新
B1: 更新 | C1: ="("&表紙等_署用!H1&")" -> (№ 8-32) | I1: 三原 | J1: 文字の折り返しで行高さがおかしくならないように、最終的な出力セルより幅を大きくしてあります。
B2: 規制番号 | C2: 道路種別 | D2: 場所・区間 | E2: 標示種別 | G2: 事業量 | J2: 規制番号 | K2: 道路種別 | L2: 場所・区間
E3: 横断歩道本数 記号文字個数 | F3: 数 | G3: 実線１５㎝幅 | H3: 削除 | I3: 備考(縞数、方向等)
G4: m | H4: m
A5: 1 | B5: =J5 -> 第9-9-0011 | C5: =K5 -> 県道(三原東城線) | D5: =L5 -> 三原市八幡町垣内608番地3先から同町570番地2先までの間 | E5: はみ出し通行禁止 実線（黄） | F5: 1 | G5: 480 | I5: 黄色実線（480ｍ）修繕 | J5: 第9-9-0011 | K5: 県道(三原東城線) | L5: 三原市八幡町垣内608番地3先から同町570番地2先までの間 | M5: =ASC(I5) -> 黄色実線(480m)修繕
B6: =警察署名 -> 三原 | D6: 更新合計 | E6: 1 | G6: =IF(ISERROR(FIND("図示", G3)), IF(ISERROR(FIND("削除", G3)), SUMPRODUCT((ISNUMBER(FIND("横断歩道 実線",$E5:$E5)))*(G5:G5<>""), $F5:$F5), 0), SUMIF(G5:G5,">0",$F5:$F5)) -> 0 | H6: =IF(ISERROR(FIND("図示", H3)), IF(ISERROR(FIND("削除", H3)), SUMPRODUCT((ISNUMBER(FIND("横断歩道 実線",$E5:$E5)))*(H5:H5<>""), $F5:$F5), 0), SUMIF(H5:H5,">0",$F5:$F5)) -> 0
G7: =SUM(G5:G5) -> 480 | H7: =SUM(H5:H5) -> 0
B8: =警察署名 -> 三原 | D8: 新規更新合計 | E8: =場所表_三原_新規!新規合計+更新合計 -> 13 | G8: =場所表_三原_新規!H26+G6 -> 0 | H8: =場所表_三原_新規!I26+H6 -> 0
G9: =場所表_三原_新規!H27+G7 -> 485 | H9: =場所表_三原_新規!I27+H7 -> 479

Sheet 場所表_府中_更新
B1: 更新 | C1: ="("&表紙等_署用!H1&")" -> (№ 8-32) | K1: 府中 | L1: 文字の折り返しで行高さがおかしくならないように、最終的な出力セルより幅を大きくしてあります。
B2: 規制番号 | C2: 道路種別 | D2: 場所・区間 | E2: 標示種別 | G2: 事業量 | L2: 規制番号 | M2: 道路種別 | N2: 場所・区間
E3: 横断歩道本数 記号文字個数 | F3: 数 | G3: 横断歩道等 実線４５㎝幅 | H3: 実線３０㎝幅 | I3: 図示 | J3: 削除 | K3: 備考(縞数、方向等)
G4: m | H4: m | I4: m | J4: m
A5: 1 | B5: =L5 -> 第20-8-0013 | C5: =M5 -> 市道 | D5: =N5 -> 府中市鵜飼町542番地3先（府中警察署前交差点） | E5: 横断歩道 実線（白） | F5: 3 | G5: 71 | K5: 北側4m4縞（西から２縞目3.5m、西端2.5m、東端を除く）_x000D_ 西側3.5m7縞_x000D_ 東側3.5m7縞 | L5: 第20-8-0013 | M5: 市道 | N5: 府中市鵜飼町542番地3先（府中警察署前交差点） | O5: =ASC(K5) -> 北側4m4縞(西から2縞目3.5m､西端2.5m､東端を除く)_x000D_ 西側3.5m7縞_x000D_ 東側3.5m7縞
A6: =IF(D5="","",IF(D6="〃",A5,A5+1)) -> 1 | B6: =IF(OFFSET(L6,-1,)=L6,"〃",L6) -> 〃 | C6: =IF(OFFSET(M6,-1,)=M6,"〃",M6) -> 〃 | D6: =IF(OFFSET(N6,-1,)=N6,"〃",N6) -> 〃 | E6: 停止線 実線（白） | F6: 3 | G6: 8.5 | K6: 北側2.7ｍ_x000D_ 西側2.9ｍ_x000D_ 東側2.9ｍ | L6: 第20-8-0013 | M6: 市道 | N6: 府中市鵜飼町542番地3先（府中警察署前交差点） | O6: =ASC(K6) -> 北側2.7m_x000D_ 西側2.9m_x000D_ 東側2.9m
A7: =IF(D6="","",IF(D7="〃",A6,A6+1)) -> 2 | B7: =IF(OFFSET(L7,-1,)=L7,"〃",L7) -> 第12-20-0333 | C7: =IF(OFFSET(M7,-1,)=M7,"〃",M7) -> 〃 | D7: =IF(OFFSET(N7,-1,)=N7,"〃",N7) -> 府中市元町425番地先交差点 | E7: 止まれ文字 図示（白） | F7: 1 | I7: 13 | K7: 縮小版に変更 | L7: 第12-20-0333 | M7: 市道 | N7: 府中市元町425番地先交差点 | O7: =ASC(K7) -> 縮小版に変更
A8: =IF(D7="","",IF(D8="〃",A7,A7+1)) -> 2 | B8: =IF(OFFSET(L8,-1,)=L8,"〃",L8) -> 〃 | C8: =IF(OFFSET(M8,-1,)=M8,"〃",M8) -> 〃 | D8: =IF(OFFSET(N8,-1,)=N8,"〃",N8) -> 〃 | E8: 停止線 実線（白） | F8: 1 | H8: 3 | L8: 第12-20-0333 | M8: 市道 | N8: 府中市元町425番地先交差点 | O8: =ASC(K8)
A9: =IF(D8="","",IF(D9="〃",A8,A8+1)) -> 2 | B9: =IF(OFFSET(L9,-1,)=L9,"〃",L9) -> 〃 | C9: =IF(OFFSET(M9,-1,)=M9,"〃",M9) -> 〃 | D9: =IF(OFFSET(N9,-1,)=N9,"〃",N9) -> 〃 | E9: (削)止まれ文字 図示（白） | F9: 1 | J9: 5 | L9: 第12-20-0333 | M9: 市道 | N9: 府中市元町425番地先交差点 | O9: =ASC(K9)
A10: =IF(D9="","",IF(D10="〃",A9,A9+1)) -> 3 | B10: =IF(OFFSET(L10,-1,)=L10,"〃",L10) -> 第20-8-0136 | C10: =IF(OFFSET(M10,-1,)=M10,"〃",M10) -> 県道 | D10: =IF(OFFSET(N10,-1,)=N10,"〃",N10) -> 府中市元町483番地先（元町中交差点） | E10: 横断歩道 実線（白） | F10: 2 | G10: 32 | K10: 東側4m4縞（南から1,2縞目を除く）_x000D_ 西側4m4縞（南から1,2縞目を除く） | L10: 第20-8-0136 | M10: 県道 | N10: 府中市元町483番地先（元町中交差点） | O10: =ASC(K10) -> 東側4m4縞(南から1,2縞目を除く)_x000D_ 西側4m4縞(南から1,2縞目を除く)
A11: =IF(D10="","",IF(D11="〃",A10,A10+1)) -> 3 | B11: =IF(OFFSET(L11,-1,)=L11,"〃",L11) -> 〃 | C11: =IF(OFFSET(M11,-1,)=M11,"〃",M11) -> 〃 | D11: =IF(OFFSET(N11,-1,)=N11,"〃",N11) -> 〃 | E11: 停止線 実線（白） | F11: 2 | G11: 5 | K11: 東側2ｍ_x000D_ 西側3ｍ | L11: 第20-8-0136 | M11: 県道 | N11: 府中市元町483番地先（元町中交差点） | O11: =ASC(K11) -> 東側2m_x000D_ 西側3m
A12: =IF(D11="","",IF(D12="〃",A11,A11+1)) -> 4 | B12: =IF(OFFSET(L12,-1,)=L12,"〃",L12) -> 第12-20-0396 | C12: =IF(OFFSET(M12,-1,)=M12,"〃",M12) -> 〃 | D12: =IF(OFFSET(N12,-1,)=N12,"〃",N12) -> 府中市広谷町836番地1先交差点 | E12: 止まれ文字 図示（白） | F12: 1 | I12: 13 | K12: 縮小版に変更 | L12: 第12-20-0396 | M12: 県道 | N12: 府中市広谷町836番地1先交差点 | O12: =ASC(K12) -> 縮小版に変更
A13: =IF(D12="","",IF(D13="〃",A12,A12+1)) -> 4 | B13: =IF(OFFSET(L13,-1,)=L13,"〃",L13) -> 〃 | C13: =IF(OFFSET(M13,-1,)=M13,"〃",M13) -> 〃 | D13: =IF(OFFSET(N13,-1,)=N13,"〃",N13) -> 〃 | E13: 停止線 実線（白） | F13: 1 | H13: 2 | L13: 第12-20-0396 | M13: 県道 | N13: 府中市広谷町836番地1先交差点 | O13: =ASC(K13)
A14: =IF(D13="","",IF(D14="〃",A13,A13+1)) -> 4 | B14: =IF(OFFSET(L14,-1,)=L14,"〃",L14) -> 〃 | C14: =IF(OFFSET(M14,-1,)=M14,"〃",M14) -> 〃 | D14: =IF(OFFSET(N14,-1,)=N14,"〃",N14) -> 〃 | E14: (削)止まれ文字 図示（白） | F14: 1 | J14: 4 | L14: 第12-20-0396 | M14: 県道 | N14: 府中市広谷町836番地1先交差点 | O14: =ASC(K14)
A15: =IF(D14="","",IF(D15="〃",A14,A14+1)) -> 5 | B15: =IF(OFFSET(L15,-1,)=L15,"〃",L15) -> 第20-8-0033 | C15: =IF(OFFSET(M15,-1,)=M15,"〃",M15) -> 国道486号 | D15: =IF(OFFSET(N15,-1,)=N15,"〃",N15) -> 府中市中須743番地の4先（カセギ交差点） | E15: 停止線 実線（白） | F15: 3 | G15: 13.8 | K15: 西側5.6m_x000D_ 南側2.6m_x000D_ 東側5.6m | L15: 第20-8-0033 | M15: 国道486号 | N15: 府中市中須743番地の4先（カセギ交差点） | O15: =ASC(K15) -> 西側5.6m_x000D_ 南側2.6m_x000D_ 東側5.6m
A16: =IF(D15="","",IF(D16="〃",A15,A15+1)) -> 6 | B16: =IF(OFFSET(L16,-1,)=L16,"〃",L16) -> 第20-8-0028 | C16: =IF(OFFSET(M16,-1,)=M16,"〃",M16) -> 市道 | D16: =IF(OFFSET(N16,-1,)=N16,"〃",N16) -> 府中市中須町1,174番地1先交差点 | E16: 横断歩道 実線（白） | F16: 1 | G16: 21 | K16: 3.5m6縞 | L16: 第20-8-0028 | M16: 市道 | N16: 府中市中須町1,174番地1先交差点 | O16: =ASC(K16) -> 3.5m6縞
A17: =IF(D16="","",IF(D17="〃",A16,A16+1)) -> 6 | B17: =IF(OFFSET(L17,-1,)=L17,"〃",L17) -> 〃 | C17: =IF(OFFSET(M17,-1,)=M17,"〃",M17) -> 〃 | D17: =IF(OFFSET(N17,-1,)=N17,"〃",N17) -> 〃 | E17: 横断歩道予告 図示（白） | F17: 4 | I17: 36 | K17: 東側・近_x000D_ 西側・近_x000D_ 西側・遠_x000D_ 東側・遠 | L17: 第20-8-0028 | M17: 市道 | N17: 府中市中須町1,174番地1先交差点 | O17: =ASC(K17) -> 東側･近_x000D_ 西側･近_x000D_ 西側･遠_x000D_ 東側･遠
A18: =IF(D17="","",IF(D18="〃",A17,A17+1)) -> 6 | B18: =IF(OFFSET(L18,-1,)=L18,"〃",L18) -> 〃 | C18: =IF(OFFSET(M18,-1,)=M18,"〃",M18) -> 〃 | D18: =IF(OFFSET(N18,-1,)=N18,"〃",N18) -> 〃 | E18: 停止線 実線（白） | F18: 2 | G18: 6 | K18: 東側3ｍ_x000D_ 西側3ｍ | L18: 第20-8-0028 | M18: 市道 | N18: 府中市中須町1,174番地1先交差点 | O18: =ASC(K18) -> 東側3m_x000D_ 西側3m
A19: =IF(D18="","",IF(D19="〃",A18,A18+1)) -> 7 | B19: =IF(OFFSET(L19,-1,)=L19,"〃",L19) -> 第20-8-0142 | C19: =IF(OFFSET(M19,-1,)=M19,"〃",M19) -> 国道486号 | D19: =IF(OFFSET(N19,-1,)=N19,"〃",N19) -> 府中市中須町335番地3先（中須町交差点） | E19: 横断歩道 実線（白） | F19: 1 | G19: 80 | K19: 西側4m20縞 | L19: 第20-8-0142 | M19: 国道486号 | N19: 府中市中須町335番地3先（中須町交差点） | O19: =ASC(K19) -> 西側4m20縞
A20: =IF(D19="","",IF(D20="〃",A19,A19+1)) -> 7 | B20: =IF(OFFSET(L20,-1,)=L20,"〃",L20) -> 〃 | C20: =IF(OFFSET(M20,-1,)=M20,"〃",M20) -> 〃 | D20: =IF(OFFSET(N20,-1,)=N20,"〃",N20) -> 〃 | E20: 停止線 実線（白） | F20: 2 | G20: 18.8 | K20: 西側9.4m_x000D_ 東側9.4m | L20: 第20-8-0142 | M20: 国道486号 | N20: 府中市中須町335番地3先（中須町交差点） | O20: =ASC(K20) -> 西側9.4m_x000D_ 東側9.4m
A21: =IF(D20="","",IF(D21="〃",A20,A20+1)) -> 8 | B21: =IF(OFFSET(L21,-1,)=L21,"〃",L21) -> 第20-8-0067 | C21: =IF(OFFSET(M21,-1,)=M21,"〃",M21) -> 〃 | D21: =IF(OFFSET(N21,-1,)=N21,"〃",N21) -> 府中市中須町91番地2先（中洲大踏切（南）交差点） | E21: 停止線 実線（白） | F21: 3 | G21: 25.1 | K21: 西側9.7m_x000D_ 北側5.7m_x000D_ 東側9.7m | L21: 第20-8-0067 | M21: 国道486号 | N21: 府中市中須町91番地2先（中洲大踏切（南）交差点） | O21: =ASC(K21) -> 西側9.7m_x000D_ 北側5.7m_x000D_ 東側9.7m
A22: =IF(D21="","",IF(D22="〃",A21,A21+1)) -> 9 | B22: =IF(OFFSET(L22,-1,)=L22,"〃",L22) -> 第12-20-0087 | C22: =IF(OFFSET(M22,-1,)=M22,"〃",M22) -> 市道 | D22: =IF(OFFSET(N22,-1,)=N22,"〃",N22) -> 府中市府中町39番地8先交差点 | E22: 止まれ文字 図示（白） | F22: 1 | I22: 13 | K22: 縮小版に変更 | L22: 第12-20-0087 | M22: 市道 | N22: 府中市府中町39番地8先交差点 | O22: =ASC(K22) -> 縮小版に変更
A23: =IF(D22="","",IF(D23="〃",A22,A22+1)) -> 9 | B23: =IF(OFFSET(L23,-1,)=L23,"〃",L23) -> 〃 | C23: =IF(OFFSET(M23,-1,)=M23,"〃",M23) -> 〃 | D23: =IF(OFFSET(N23,-1,)=N23,"〃",N23) -> 〃 | E23: 停止線 実線（白） | F23: 1 | H23: 4.6 | L23: 第12-20-0087 | M23: 市道 | N23: 府中市府中町39番地8先交差点 | O23: =ASC(K23)
A24: =IF(D23="","",IF(D24="〃",A23,A23+1)) -> 9 | B24: =IF(OFFSET(L24,-1,)=L24,"〃",L24) -> 〃 | C24: =IF(OFFSET(M24,-1,)=M24,"〃",M24) -> 〃 | D24: =IF(OFFSET(N24,-1,)=N24,"〃",N24) -> 〃 | E24: (削)止まれ文字 図示（白） | F24: 1 | J24: 10 | L24: 第12-20-0087 | M24: 市道 | N24: 府中市府中町39番地8先交差点 | O24: =ASC(K24)
A25: =IF(D24="","",IF(D25="〃",A24,A24+1)) -> 10 | B25: =IF(OFFSET(L25,-1,)=L25,"〃",L25) -> 第20-8-0144 | C25: =IF(OFFSET(M25,-1,)=M25,"〃",M25) -> 県道 | D25: =IF(OFFSET(N25,-1,)=N25,"〃",N25) -> 府中市本山町98番地2先（見晴団地入口交差点） | E25: 横断歩道 実線（白） | F25: 3 | G25: 77 | K25: 西側3.5m6縞_x000D_ 北側3.5m8縞_x000D_ 南側3.5m8縞 | L25: 第20-8-0144 | M25: 県道 | N25: 府中市本山町98番地2先（見晴団地入口交差点） | O25: =ASC(K25) -> 西側3.5m6縞_x000D_ 北側3.5m8縞_x000D_ 南側3.5m8縞
A26: =IF(D25="","",IF(D26="〃",A25,A25+1)) -> 10 | B26: =IF(OFFSET(L26,-1,)=L26,"〃",L26) -> 〃 | C26: =IF(OFFSET(M26,-1,)=M26,"〃",M26) -> 〃 | D26: =IF(OFFSET(N26,-1,)=N26,"〃",N26) -> 〃 | E26: 停止線 実線（白） | F26: 3 | G26: 9 | K26: 西側3ｍ_x000D_ 北側3m_x000D_ 南側3m | L26: 第20-8-0144 | M26: 県道 | N26: 府中市本山町98番地2先（見晴団地入口交差点） | O26: =ASC(K26) -> 西側3m_x000D_ 北側3m_x000D_ 南側3m
B27: =警察署名 -> 府中 | D27: 更新合計 | E27: 10 | G27: =IF(ISERROR(FIND("図示", G3)), IF(ISERROR(FIND("削除", G3)), SUMPRODUCT((ISNUMBER(FIND("横断歩道 実線",$E5:$E26)))*(G5:G26<>""), $F5:$F26), 0), SUMIF(G5:G26,">0",$F5:$F26)) -> 10 | H27: =IF(ISERROR(FIND("図示", H3)), IF(ISERROR(FIND("削除", H3)), SUMPRODUCT((ISNUMBER(FIND("横断歩道 実線",$E5:$E26)))*(H5:H26<>""), $F5:$F26), 0), SUMIF(H5:H26,">0",$F5:$F26)) -> 0 | I27: =IF(ISERROR(FIND("図示", I3)), IF(ISERROR(FIND("削除", I3)), SUMPRODUCT((ISNUMBER(FIND("横断歩道 実線",$E5:$E26)))*(I5:I26<>""), $F5:$F26), 0), SUMIF(I5:I26,">0",$F5:$F26)) -> 7 | J27: =IF(ISERROR(FIND("図示", J3)), IF(ISERROR(FIND("削除", J3)), SUMPRODUCT((ISNUMBER(FIND("横断歩道 実線",$E5:$E26)))*(J5:J26<>""), $F5:$F26), 0), SUMIF(J5:J26,">0",$F5:$F26)) -> 0
G28: =SUM(G5:G26) -> 367.2 | H28: =SUM(H5:H26) -> 9.6 | I28: =SUM(I5:I26) -> 75 | J28: =SUM(J5:J26) -> 19
B29: =警察署名 -> 府中 | D29: 新規更新合計 | E29: =場所表_府中_新規!新規合計+更新合計 -> 10 | G29: =G27 -> 10 | H29: =H27 -> 0 | I29: =I27 -> 7 | J29: =J27 -> 0
G30: =G28 -> 367.2 | H30: =H28 -> 9.6 | I30: =I28 -> 75 | J30: =J28 -> 19
